Uber Exif Photo
Make : Leica Camera AG
Camera Model Name : LEICA M10-R
Software : Adobe Photoshop Lightroom 6.14 (Windows)
Modify Date : 2021:10:21 08:28:00
Exposure Time : 1/350
F Number : 2.8
Exposure Program : Aperture-priority AE
ISO : 100
Date/Time Original : 2021:10:09 14:46:03
Create Date : 2021:10:09 14:46:03
Shutter Speed Value : 1/350
Aperture Value : 2.8
Exposure Compensation : 0
Max Aperture Value : 2.0
Metering Mode : Center-weighted average
Light Source : Unknown
Flash : No Flash
Focal Length : 50.0 mm
Color Space : sRGB
Scene Type : Directly photographed
Custom Rendered : Normal
Exposure Mode : Auto
White Balance : Auto
Digital Zoom Ratio : 0
Scene Capture Type : Standard
Contrast : Normal
Saturation : Normal
Sharpness : Hard
Serial Number : 5653576
Lens Info : 50mm f/2
Lens Make : Leica Camera AG
Lens Model : Summicron-M 1:2/50
Profile Description : sRGB IEC61966-2.1
Creator Tool : Adobe Photoshop Lightroom 6.14 (Windows)
Format : image/jpeg
Correction Already Applied : False
Pitch Angle : -3.7650001049
Roll Angle : 1.3420000076
Focal Length 35mm : 50.0000000000
Target Aspect Ratio : 1.5000000000
Scaling Factor Height : 0.9674718380
Valid Crop Corners : True
Apply Automatically : False
Lens : Summicron-M 1:2/50
Date Created : 2021:10:09 14:46:03
Version : 10.1
Process Version : 6.7
Auto White Version : 134348800
Color Temperature : 4950
Tint : -16
Luminance Smoothing : 33
Color Noise Reduction : 25
Vignette Amount : 0
Shadow Tint : 0
Red Hue : 0
Red Saturation : 0
Green Hue : 0
Green Saturation : 0
Blue Hue : 0
Blue Saturation : 0
Gray Mixer Red : -10
Gray Mixer Orange : -19
Gray Mixer Yellow : -22
Gray Mixer Green : -26
Gray Mixer Aqua : -18
Gray Mixer Blue : +9
Gray Mixer Purple : +15
Gray Mixer Magenta : +3
Split Toning Shadow Hue : 0
Split Toning Shadow Saturation : 0
Split Toning Highlight Hue : 0
Split Toning Highlight Saturation : 0
Split Toning Balance : 0
Parametric Shadows : 0
Parametric Darks : 0
Parametric Lights : 0
Parametric Highlights : 0
Parametric Shadow Split : 25
Parametric Midtone Split : 50
Parametric Highlight Split : 75
Sharpen Radius : +1.0
Sharpen Detail : 25
Sharpen Edge Masking : 0
Post Crop Vignette Amount : 0
Grain Amount : 0
Luminance Noise Reduction Detail : 50
Color Noise Reduction Detail : 50
Luminance Noise Reduction Contrast : 0
Color Noise Reduction Smoothness : 50
Lens Profile Enable : 0
Lens Manual Distortion Amount : 0
Perspective Vertical : 0
Perspective Horizontal : 0
Perspective Rotate : 0.0
Perspective Scale : 100
Perspective Aspect : 0
Perspective Upright : Off
Perspective X : 0.00
Perspective Y : 0.00
Auto Lateral CA : 0
Exposure 2012 : +0.10
Contrast 2012 : +40
Highlights 2012 : 0
Shadows 2012 : +79
Whites 2012 : +18
Blacks 2012 : -43
Clarity 2012 : -4
Dehaze : 0
Tone Map Strength : 0
Convert To Grayscale : True
Tone Curve Name : Linear
Tone Curve Name 2012 : Linear
Camera Profile : LEICA M10-R
Lens Profile Setup : LensDefaults
Has Settings : True
Has Crop : False
Already Applied : True
Normalized Crop Corners : 0.0014810853, 0.0345059447, 0.9834401011, 0.0000000000, 0.9837661386, 0.9654305577, 0.0312945023, 0.9989002943
Tone Curve : 0, 0, 255, 255
Tone Curve Red : 0, 0, 255, 255
Tone Curve Green : 0, 0, 255, 255
Tone Curve Blue : 0, 0, 255, 255
Tone Curve PV2012 : 0, 0, 255, 255
Tone Curve PV2012 Red : 0, 0, 255, 255
Tone Curve PV2012 Green : 0, 0, 255, 255
Tone Curve PV2012 Blue : 0, 0, 255, 255
Image Width : 400
Image Height : 264
Bits Per Sample : 8
Color Components : 1
Aperture : 2.8
Image Size : 400x264
Megapixels : 0.106
Shutter Speed : 1/350
Light Value : 11.4
Lens ID : Summicron-M 1:2/50