Uber Exif Photo
Make : Panasonic
Camera Model Name : DC-S1R
Software : Adobe Photoshop Lightroom 6.14 (Windows)
Modify Date : 2019:05:24 19:40:22
Exposure Time : 1/100
F Number : 2.0
Exposure Program : Aperture-priority AE
ISO : 5000
Date/Time Original : 2019:05:24 18:32:17
Create Date : 2019:05:24 18:32:17
Shutter Speed Value : 1/100
Aperture Value : 2.0
Exposure Compensation : 0
Max Aperture Value : 2.0
Metering Mode : Multi-segment
Light Source : Unknown
Flash : Off, Did not fire
Focal Length : 75.0 mm
Color Space : sRGB
Sensing Method : One-chip color area
Scene Type : Directly photographed
Custom Rendered : Normal
Exposure Mode : Auto
White Balance : Auto
Digital Zoom Ratio : 0
Focal Length In 35mm Format : 75 mm
Scene Capture Type : Standard
Gain Control : High gain up
Contrast : Normal
Saturation : Normal
Sharpness : Normal
Serial Number : WJ9CA001660
Lens Model : APO-SUMMICRON-SL 1:2/75 ASPH.
Lens Serial Number : N/A
Profile Description : sRGB IEC61966-2.1
Creator Tool : Adobe Photoshop Lightroom 6.14 (Windows)
Lens : APO-SUMMICRON-SL 1:2/75 ASPH.
Distortion Correction Already Applied : True
Lateral Chromatic Aberration Correction Already Applied:
True
Date Created : 2019:05:24 18:32:17.292-08:00
Format : image/jpeg
Version : 10.1
Process Version : 6.7
Auto White Version : 134348800
Color Temperature : 12500
Tint : +35
Luminance Smoothing : 14
Color Noise Reduction : 25
Vignette Amount : 0
Shadow Tint : +8
Red Hue : 0
Red Saturation : 0
Green Hue : 0
Green Saturation : 0
Blue Hue : 0
Blue Saturation : 0
Vibrance : 0
Hue Adjustment Red : +96
Hue Adjustment Orange : 0
Hue Adjustment Yellow : 0
Hue Adjustment Green : +11
Hue Adjustment Aqua : 0
Hue Adjustment Blue : +11
Hue Adjustment Purple : 0
Hue Adjustment Magenta : 0
Saturation Adjustment Red : +3
Saturation Adjustment Orange : 0
Saturation Adjustment Yellow : 0
Saturation Adjustment Green : +25
Saturation Adjustment Aqua : 0
Saturation Adjustment Blue : -70
Saturation Adjustment Purple : 0
Saturation Adjustment Magenta : 0
Luminance Adjustment Red : 0
Luminance Adjustment Orange : 0
Luminance Adjustment Yellow : 0
Luminance Adjustment Green : 0
Luminance Adjustment Aqua : 0
Luminance Adjustment Blue : 0
Luminance Adjustment Purple : 0
Luminance Adjustment Magenta : 0
Split Toning Shadow Hue : 0
Split Toning Shadow Saturation : 0
Split Toning Highlight Hue : 0
Split Toning Highlight Saturation : 0
Split Toning Balance : 0
Parametric Shadows : -14
Parametric Darks : -3
Parametric Lights : 0
Parametric Highlights : 0
Parametric Shadow Split : 25
Parametric Midtone Split : 50
Parametric Highlight Split : 75
Sharpen Radius : +1.0
Sharpen Detail : 25
Sharpen Edge Masking : 0
Post Crop Vignette Amount : 0
Grain Amount : 0
Luminance Noise Reduction Detail : 50
Color Noise Reduction Detail : 50
Luminance Noise Reduction Contrast : 0
Color Noise Reduction Smoothness : 50
Lens Profile Enable : 0
Lens Manual Distortion Amount : 0
Perspective Vertical : 0
Perspective Horizontal : 0
Perspective Rotate : 0.0
Perspective Scale : 100
Perspective Aspect : 0
Perspective Upright : Off
Perspective X : 0.00
Perspective Y : 0.00
Auto Lateral CA : 0
Exposure 2012 : 0.00
Contrast 2012 : +25
Highlights 2012 : 0
Shadows 2012 : +26
Whites 2012 : 0
Blacks 2012 : +16
Clarity 2012 : +25
Defringe Purple Amount : 0
Defringe Purple Hue Lo : 30
Defringe Purple Hue Hi : 70
Defringe Green Amount : 0
Defringe Green Hue Lo : 40
Defringe Green Hue Hi : 60
Dehaze : 0
Tone Map Strength : 0
Convert To Grayscale : False
Tone Curve Name : Linear
Tone Curve Name 2012 : Linear
Camera Profile : Adobe Standard
Lens Profile Setup : LensDefaults
Has Settings : True
Has Crop : False
Already Applied : True
Tone Curve : 0, 0, 255, 255
Tone Curve Red : 0, 0, 255, 255
Tone Curve Green : 0, 0, 255, 255
Tone Curve Blue : 0, 0, 255, 255
Tone Curve PV2012 : 0, 0, 255, 255
Tone Curve PV2012 Red : 0, 0, 255, 255
Tone Curve PV2012 Green : 0, 0, 255, 255
Tone Curve PV2012 Blue : 0, 0, 255, 255
Image Width : 350
Image Height : 234
Bits Per Sample : 8
Color Components : 3
Aperture : 2.0
Image Size : 350x234
Megapixels : 0.082
Scale Factor To 35 mm Equivalent : 1.0
Shutter Speed : 1/100
Create Date : 2019:05:24 18:32:17.292
Date/Time Original : 2019:05:24 18:32:17.292
Circle Of Confusion : 0.030 mm
Field Of View : 27.0 deg
Focal Length : 75.0 mm (35 mm equivalent: 75.0 mm)
Hyperfocal Distance : 93.61 m
Light Value : 3.0