Uber Exif Photo
Photometric Interpretation : RGB
Make : Leica Camera AG
Camera Model Name : LEICA M (Typ 240)
Orientation : Horizontal (normal)
Samples Per Pixel : 3
Software : Adobe Photoshop CC 2015.5 (Windows)
Modify Date : 2017:01:24 18:08:31
Exposure Time : 1/125
F Number : 22.0
Exposure Program : Manual
ISO : 200
Date/Time Original : 2017:01:25 00:22:15
Create Date : 2017:01:25 00:22:15
Shutter Speed Value : 1/125
Aperture Value : 22.0
Exposure Compensation : 0
Max Aperture Value : 2.8
Metering Mode : Center-weighted average
Light Source : Unknown
Flash : No Flash
Focal Length : 28.0 mm
Color Space : sRGB
Exif Image Width : 5419
Exif Image Height : 3620
Scene Type : Directly photographed
Custom Rendered : Normal
Exposure Mode : Manual
White Balance : Auto
Digital Zoom Ratio : 0
Scene Capture Type : Standard
Contrast : Normal
Saturation : Normal
Sharpness : Normal
Serial Number : 4826569
Lens Info : 28mm f/2.8-22
Lens Make : Leica Camera AG
Lens Model : Elmarit-M 1:2.8/28 ASPH.
Lens Serial Number : -------
GPS Version ID : 2.2.0.0
GPS Altitude Ref : Above Sea Level
GPS Time Stamp : 00:00:00
GPS Status : Measurement Void
GPS Dilution Of Precision : 0
GPS Speed : 0
GPS Track : 0
GPS Date Stamp : 2000:00:00
Profile Description : sRGB IEC61966-2.1
Rating : 0
Label :
Creator Tool : Adobe Photoshop CC 2015.5 (Windows)
Lens : Elmarit-M 1:2.8/28 ASPH.
Lateral Chromatic Aberration Correction Already Applied:
True
Date Created : 2017:01:25 00:22:15
Color Mode : RGB
ICC Profile Name : sRGB IEC61966-2.1
Format : image/jpeg
Raw File Name : L1000632.DNG
Version : 9.6.1
Process Version : 6.7
Auto White Version : 134348800
Color Temperature : 5621
Tint : 0
Luminance Smoothing : 0
Color Noise Reduction : 25
Vignette Amount : -83
Vignette Midpoint : 13
Shadow Tint : 0
Red Hue : +20
Red Saturation : 0
Green Hue : -15
Green Saturation : 0
Blue Hue : -5
Blue Saturation : 0
Vibrance : +15
Hue Adjustment Red : -10
Hue Adjustment Orange : 0
Hue Adjustment Yellow : 0
Hue Adjustment Green : -5
Hue Adjustment Aqua : 0
Hue Adjustment Blue : 0
Hue Adjustment Purple : 0
Hue Adjustment Magenta : +15
Saturation Adjustment Red : 0
Saturation Adjustment Orange : -6
Saturation Adjustment Yellow : +5
Saturation Adjustment Green : -10
Saturation Adjustment Aqua : -25
Saturation Adjustment Blue : -20
Saturation Adjustment Purple : -15
Saturation Adjustment Magenta : -20
Luminance Adjustment Red : -35
Luminance Adjustment Orange : 0
Luminance Adjustment Yellow : -10
Luminance Adjustment Green : -25
Luminance Adjustment Aqua : -5
Luminance Adjustment Blue : -25
Luminance Adjustment Purple : +10
Luminance Adjustment Magenta : -20
Split Toning Shadow Hue : 0
Split Toning Shadow Saturation : 0
Split Toning Highlight Hue : 0
Split Toning Highlight Saturation : 0
Split Toning Balance : 0
Parametric Shadows : +15
Parametric Darks : +30
Parametric Lights : 0
Parametric Highlights : 0
Parametric Shadow Split : 21
Parametric Midtone Split : 45
Parametric Highlight Split : 75
Sharpen Radius : +1.2
Sharpen Detail : 25
Sharpen Edge Masking : 0
Post Crop Vignette Amount : 0
Grain Amount : 0
Color Noise Reduction Detail : 50
Color Noise Reduction Smoothness : 50
Lens Profile Enable : 0
Lens Manual Distortion Amount : 0
Perspective Vertical : 0
Perspective Horizontal : 0
Perspective Rotate : 0.0
Perspective Scale : 100
Perspective Aspect : 0
Perspective Upright : Off
Perspective X : 0.00
Perspective Y : 0.00
Auto Lateral CA : 1
Exposure 2012 : -0.21
Contrast 2012 : +24
Highlights 2012 : -45
Shadows 2012 : +50
Whites 2012 : -10
Blacks 2012 : -20
Clarity 2012 : +11
Defringe Purple Amount : 0
Defringe Purple Hue Lo : 30
Defringe Purple Hue Hi : 70
Defringe Green Amount : 0
Defringe Green Hue Lo : 40
Defringe Green Hue Hi : 60
Dehaze : 0
Tone Map Strength : 0
Convert To Grayscale : False
Tone Curve Name : Medium Contrast
Tone Curve Name 2012 : Custom
Camera Profile : Polaroid 690 L
Lens Profile Setup : LensDefaults
Has Settings : True
Crop Top : 0.051406
Crop Left : 0.039179
Crop Bottom : 0.967103
Crop Right : 0.942048
Crop Angle : 0.374351
Crop Constrain To Warp : 0
Has Crop : True
Already Applied : True
Tone Curve : 0, 0, 32, 22, 64, 56, 128, 128, 192, 196, 255, 255
Tone Curve Red : 0, 0, 255, 255
Tone Curve Green : 0, 0, 255, 255
Tone Curve Blue : 0, 0, 255, 255
Tone Curve PV2012 : 0, 19, 61, 68, 128, 127, 194, 186, 255, 235
Tone Curve PV2012 Red : 0, 0, 45, 21, 119, 124, 149, 167, 215, 232, 255, 255
Tone Curve PV2012 Green : 0, 0, 50, 20, 121, 121, 226, 235, 255, 255
Tone Curve PV2012 Blue : 0, 0, 54, 21, 120, 120, 194, 215, 255, 255
Image Width : 300
Image Height : 200
Bits Per Sample : 8
Color Components : 3
Aperture : 22.0
Image Size : 300x200
Megapixels : 0.060
Scale Factor To 35 mm Equivalent : 1.1
Shutter Speed : 1/125
GPS Altitude : 0 m Above Sea Level
GPS Date/Time : 2000:00:00 00:00:00Z
Circle Of Confusion : 0.027 mm
Field Of View : 60.7 deg
Focal Length : 28.0 mm (35 mm equivalent: 30.7 mm)
Hyperfocal Distance : 1.30 m
Light Value : 14.9