Uber Exif Photo
Make : LEICA CAMERA AG
Camera Model Name : LEICA X (Typ 113)
Orientation : Horizontal (normal)
Software : Adobe Photoshop Lightroom 5.7 (Macintosh)
Modify Date : 2015:11:14 10:36:28
Exposure Time : 1/400
F Number : 8.0
Exposure Program : Aperture-priority AE
ISO : 100
Date/Time Original : 2015:11:12 10:46:12
Create Date : 2015:11:12 10:46:12
Shutter Speed Value : 1/400
Aperture Value : 8.0
Exposure Compensation : 0
Max Aperture Value : 1.7
Metering Mode : Center-weighted average
Light Source : Unknown
Flash : Off, Did not fire
Focal Length : 23.0 mm
Color Space : sRGB
Exif Image Width : 1000
Exif Image Height : 680
Sensing Method : One-chip color area
Custom Rendered : Normal
White Balance : Auto
Digital Zoom Ratio : 1
Focal Length In 35mm Format : 35 mm
Scene Capture Type : Landscape
Contrast : Normal
Saturation : Normal
Sharpness : Normal
Parametric Darks : 0
Perspective Scale : 100
Clarity 2012 : +100
Color Noise Reduction : 0
Perspective Upright : Off
Has Crop : True
Red Saturation : 0
Parametric Shadows : 0
Gray Mixer Magenta : +3
Gray Mixer Yellow : -24
Split Toning Shadow Saturation : 0
Lens Manual Distortion Amount : 0
Tone Curve Name : Linear
Shadows 2012 : 0
Blacks 2012 : -58
Tone Curve Name 2012 : Linear
Luminance Smoothing : 0
Convert To Grayscale : True
Highlights 2012 : 0
Incremental Tint : 0
Parametric Midtone Split : 50
Perspective Aspect : 0
Shadow Tint : 0
Split Toning Highlight Saturation : 0
Split Toning Shadow Hue : 0
Has Settings : True
Lens Profile Setup : LensDefaults
Gray Mixer Red : -11
Post Crop Vignette Amount : 0
Split Toning Balance : 0
Lens Profile Enable : 0
Vignette Amount : 0
Perspective Rotate : 0.0
Crop Right : 0.887003
Process Version : 6.7
Gray Mixer Blue : +10
Parametric Highlights : 0
Green Saturation : 0
Gray Mixer Orange : -20
Parametric Shadow Split : 25
Sharpen Detail : 25
Green Hue : 0
Perspective Vertical : 0
Blue Saturation : 0
Crop Left : 0
Crop Bottom : 1
Perspective Horizontal : 0
Blue Hue : 0
Crop Top : 0.035886
Parametric Highlight Split : 75
Auto Lateral CA : 0
Incremental Temperature : 0
Crop Angle : 0
Red Hue : 0
Split Toning Highlight Hue : 0
Camera Profile : Embedded
Parametric Lights : 0
Sharpen Radius : +1.0
Crop Constrain To Warp : 0
Auto White Version : 134348800
Contrast 2012 : +53
Already Applied : True
Gray Mixer Aqua : -18
Gray Mixer Green : -27
Grain Amount : 0
Gray Mixer Purple : +16
Version : 8.7
Whites 2012 : +39
Sharpen Edge Masking : 0
Exposure 2012 : 0.00
Creator Tool : Adobe Photoshop Lightroom 5.7 (Macintosh)
Format : image/jpeg
Date Created : 2015:11:12 10:46:12
Tone Curve PV2012 Red : 0, 0, 255, 255
Tone Curve PV2012 Green : 0, 0, 255, 255
Tone Curve PV2012 : 0, 0, 255, 255
Tone Curve Green : 0, 0, 255, 255
Tone Curve Red : 0, 0, 255, 255
Tone Curve Blue : 0, 0, 255, 255
Tone Curve : 0, 0, 255, 255
Tone Curve PV2012 Blue : 0, 0, 255, 255
Image Width : 255
Image Height : 173
Bits Per Sample : 8
Color Components : 1
Aperture : 8.0
Image Size : 255x173
Megapixels : 0.044
Scale Factor To 35 mm Equivalent : 1.5
Shutter Speed : 1/400
Circle Of Confusion : 0.020 mm
Field Of View : 54.4 deg
Focal Length : 23.0 mm (35 mm equivalent: 35.0 mm)
Hyperfocal Distance : 3.35 m
Light Value : 14.6