Uber Exif Photo
Make : LEICA
Camera Model Name : D-LUX 5
Orientation : Horizontal (normal)
Software : Adobe Photoshop CS5 Macintosh
Modify Date : 2012:01:23 14:18:05
Exposure Time : 1/4
F Number : 2.0
Exposure Program : Aperture-priority AE
ISO : 80
Date/Time Original : 2011:12:13 10:22:11
Create Date : 2011:12:13 10:22:11
Shutter Speed Value : 1/4
Aperture Value : 2.0
Exposure Compensation : 0
Max Aperture Value : 2.0
Metering Mode : Center-weighted average
Light Source : Unknown
Flash : Off, Did not fire
Focal Length : 5.1 mm
Color Space : Uncalibrated
Exif Image Width : 1313
Exif Image Height : 2100
Sensing Method : One-chip color area
Scene Type : Directly photographed
Custom Rendered : Custom
Exposure Mode : Auto
White Balance : Auto
Digital Zoom Ratio : 0
Focal Length In 35mm Format : 24 mm
Scene Capture Type : Standard
Gain Control : None
Contrast : Normal
Saturation : High
Sharpness : Hard
Profile Description : Adobe RGB (1998)
Creator Tool : Adobe Photoshop CS5 Macintosh
Date Created : 2011:12:13 10:22:11
Color Mode : RGB
ICC Profile Name : Adobe RGB (1998)
Format : image/jpeg
Raw File Name : L1010838.RWL
Version : 6.4.1
Process Version : 5.7
Color Temperature : 3050
Tint : +38
Exposure : 0.00
Shadows : 9
Brightness : +50
Luminance Smoothing : 0
Color Noise Reduction : 25
Chromatic Aberration R : 0
Chromatic Aberration B : 0
Vignette Amount : 0
Shadow Tint : 0
Red Hue : 0
Red Saturation : 0
Green Hue : 0
Green Saturation : 0
Blue Hue : 0
Blue Saturation : 0
Fill Light : 0
Vibrance : +34
Highlight Recovery : 0
Clarity : +35
Defringe : 0
Hue Adjustment Red : 0
Hue Adjustment Orange : 0
Hue Adjustment Yellow : 0
Hue Adjustment Green : 0
Hue Adjustment Aqua : 0
Hue Adjustment Blue : 0
Hue Adjustment Purple : 0
Hue Adjustment Magenta : 0
Saturation Adjustment Red : +37
Saturation Adjustment Orange : 0
Saturation Adjustment Yellow : +23
Saturation Adjustment Green : +10
Saturation Adjustment Aqua : 0
Saturation Adjustment Blue : 0
Saturation Adjustment Purple : 0
Saturation Adjustment Magenta : 0
Luminance Adjustment Red : -17
Luminance Adjustment Orange : 0
Luminance Adjustment Yellow : +8
Luminance Adjustment Green : -23
Luminance Adjustment Aqua : -10
Luminance Adjustment Blue : -21
Luminance Adjustment Purple : +29
Luminance Adjustment Magenta : +13
Split Toning Shadow Hue : 0
Split Toning Shadow Saturation : 0
Split Toning Highlight Hue : 0
Split Toning Highlight Saturation : 0
Split Toning Balance : 0
Parametric Shadows : 0
Parametric Darks : -7
Parametric Lights : +17
Parametric Highlights : 0
Parametric Shadow Split : 25
Parametric Midtone Split : 50
Parametric Highlight Split : 75
Sharpen Radius : +1.0
Sharpen Detail : 25
Sharpen Edge Masking : 0
Post Crop Vignette Amount : 0
Grain Amount : 0
Color Noise Reduction Detail : 50
Lens Profile Enable : 0
Lens Manual Distortion Amount : 0
Perspective Vertical : 0
Perspective Horizontal : -7
Perspective Rotate : -2.4
Perspective Scale : 100
Convert To Grayscale : False
Tone Curve Name : Medium Contrast
Camera Profile : Adobe Standard
Lens Profile Setup : LensDefaults
Has Settings : True
Has Crop : False
Already Applied : True
Tone Curve : 0, 0, 32, 22, 64, 56, 128, 128, 192, 196, 255, 255
Image Width : 188
Image Height : 300
Bits Per Sample : 8
Color Components : 3
Aperture : 2.0
Image Size : 188x300
Megapixels : 0.056
Scale Factor To 35 mm Equivalent : 4.7
Shutter Speed : 1/4
Circle Of Confusion : 0.006 mm
Field Of View : 73.7 deg
Focal Length : 5.1 mm (35 mm equivalent: 24.0 mm)
Hyperfocal Distance : 2.04 m
Light Value : 4.3