Uber Exif Photo
Object Name : Sony Nex-7
Keywords : 0.95, 50mm, APO Summicron, nex-7, noctilux 50/0.95
Copyright Notice : dierk topp
Caption-Abstract : Noctilux 50/0.95
Copyright Flag : True
Image Description : Noctilux 50/0.95
Make : SONY
Camera Model Name : NEX-7
Software : Adobe Photoshop Lightroom 3.6 (Windows)
Modify Date : 2012:01:04 22:00:00
Copyright : dierk topp
Exposure Time : 1/125
Exposure Program : Manual
ISO : 100
Date/Time Original : 2011:12:29 15:32:48
Create Date : 2011:12:29 15:32:48
Shutter Speed Value : 1/125
Brightness Value : -4.990625
Exposure Compensation : 0
Max Aperture Value : 1.0
Metering Mode : Multi-segment
Light Source : Unknown
Flash : Off, Did not fire
Color Space : Uncalibrated
Scene Type : Directly photographed
Custom Rendered : Normal
Exposure Mode : Manual
White Balance : Auto
Scene Capture Type : Standard
Contrast : Normal
Saturation : Normal
Sharpness : Normal
Lens : ----
Description : Noctilux 50/0.95
Format : image/jpeg
Rights : dierk topp
Subject : 0.95, 50mm, APO Summicron, nex-7, noctilux 50/0.95
Title : Sony Nex-7
Date Created : 2011:12:29 15:32:48
Property Release Status : Unknown (nil)
PLUS Version : 1.2.0
Creator Tool : Adobe Photoshop Lightroom 3.6 (Windows)
Label : Blau
Rating : 5
Marked : True
Already Applied : True
Blue Hue : 0
Blue Saturation : 0
Brightness : +8
Camera Profile : Adobe Standard
Chromatic Aberration B : 0
Chromatic Aberration R : 0
Clarity : -17
Color Noise Reduction : 25
Convert To Grayscale : True
Defringe : 0
Exposure : 0.00
Fill Light : 7
Gray Mixer Aqua : -19
Gray Mixer Blue : +8
Gray Mixer Green : -26
Gray Mixer Magenta : +19
Gray Mixer Orange : +18
Gray Mixer Purple : +38
Gray Mixer Red : +7
Gray Mixer Yellow : -16
Green Hue : 0
Green Saturation : 0
Has Crop : False
Has Settings : True
Highlight Recovery : 0
Luminance Smoothing : 0
Parametric Darks : -31
Parametric Highlight Split : 75
Parametric Highlights : 0
Parametric Lights : -33
Parametric Midtone Split : 50
Parametric Shadow Split : 25
Parametric Shadows : 0
Post Crop Vignette Amount : -20
Post Crop Vignette Feather : 50
Post Crop Vignette Midpoint : 50
Post Crop Vignette Roundness : 0
Red Hue : 0
Red Saturation : 0
Shadow Tint : 0
Shadows : 16
Sharpen Detail : 34
Sharpen Edge Masking : 0
Sharpen Radius : +1.0
Split Toning Balance : 0
Split Toning Highlight Hue : 0
Split Toning Highlight Saturation : 0
Split Toning Shadow Hue : 0
Split Toning Shadow Saturation : 0
Color Temperature : 4700
Tint : -23
Tone Curve : 0, 0, 32, 22, 64, 56, 128, 128, 192, 196, 255, 255
Tone Curve Name : Medium Contrast
Version : 6.6
Vignette Amount : 0
Image Width : 209
Image Height : 300
Bits Per Sample : 8
Color Components : 1
Image Size : 209x300
Megapixels : 0.063
Shutter Speed : 1/125