Uber Exif Photo
By-line : Tim Owen
Copyright Notice : Tim Owen
Make : Panasonic
Camera Model Name : DMC-GH2
Software : Adobe Photoshop Lightroom 3.6 (Windows)
Modify Date : 2012:01:01 12:01:51
Artist : Tim Owen
Copyright : Tim Owen
Exposure Time : 1/100
F Number : 5.0
Exposure Program : Aperture-priority AE
ISO : 160
Date/Time Original : 2011:12:31 15:11:40
Create Date : 2011:12:31 15:11:40
Shutter Speed Value : 1/100
Aperture Value : 5.0
Exposure Compensation : +1.66
Max Aperture Value : 2.8
Metering Mode : Multi-segment
Light Source : Unknown
Flash : Off, Did not fire
Focal Length : 45.0 mm
Sensing Method : One-chip color area
Scene Type : Directly photographed
Custom Rendered : Normal
Exposure Mode : Auto
White Balance : Auto
Digital Zoom Ratio : 0
Focal Length In 35mm Format : 90 mm
Scene Capture Type : Standard
Gain Control : Low gain up
Contrast : Normal
Saturation : Normal
Sharpness : Normal
Lens Model : LEICA DG MACRO-ELMARIT 45/F2.8
Lens Serial Number : 10080601767
Profile Description : sRGB IEC61966-2.1
Lens : LEICA DG MACRO-ELMARIT 45/F2.8
Label : Potential
Rating : 4
Creator Tool : Adobe Photoshop Lightroom 3.6 (Windows)
Date Created : 2011:12:31 15:11:40
Format : image/jpeg
Version : 6.6
Process Version : 5.7
Color Temperature : 5050
Tint : +24
Exposure : -0.05
Shadows : 78
Brightness : +9
Luminance Smoothing : 8
Color Noise Reduction : 25
Chromatic Aberration R : 0
Chromatic Aberration B : 0
Vignette Amount : 0
Shadow Tint : 0
Red Hue : 0
Red Saturation : 0
Green Hue : 0
Green Saturation : 0
Blue Hue : 0
Blue Saturation : 0
Fill Light : 46
Vibrance : -1
Highlight Recovery : 33
Clarity : -6
Defringe : 0
Hue Adjustment Red : 0
Hue Adjustment Orange : 0
Hue Adjustment Yellow : 0
Hue Adjustment Green : 0
Hue Adjustment Aqua : 0
Hue Adjustment Blue : 0
Hue Adjustment Purple : 0
Hue Adjustment Magenta : 0
Saturation Adjustment Red : +2
Saturation Adjustment Orange : 0
Saturation Adjustment Yellow : 0
Saturation Adjustment Green : 0
Saturation Adjustment Aqua : 0
Saturation Adjustment Blue : 0
Saturation Adjustment Purple : 0
Saturation Adjustment Magenta : 0
Luminance Adjustment Red : 0
Luminance Adjustment Orange : +2
Luminance Adjustment Yellow : +9
Luminance Adjustment Green : -2
Luminance Adjustment Aqua : -5
Luminance Adjustment Blue : +34
Luminance Adjustment Purple : 0
Luminance Adjustment Magenta : 0
Split Toning Shadow Hue : 0
Split Toning Shadow Saturation : 0
Split Toning Highlight Hue : 0
Split Toning Highlight Saturation : 0
Split Toning Balance : +3
Parametric Shadows : 0
Parametric Darks : 0
Parametric Lights : 0
Parametric Highlights : 0
Parametric Shadow Split : 25
Parametric Midtone Split : 50
Parametric Highlight Split : 75
Sharpen Radius : +1.6
Sharpen Detail : 54
Sharpen Edge Masking : 5
Post Crop Vignette Amount : -1
Post Crop Vignette Midpoint : 50
Post Crop Vignette Feather : 80
Post Crop Vignette Roundness : 0
Post Crop Vignette Style : Highlight Priority
Post Crop Vignette Highlight Contrast : 0
Grain Amount : 0
Luminance Noise Reduction Detail : 50
Color Noise Reduction Detail : 50
Luminance Noise Reduction Contrast : 0
Lens Profile Enable : 0
Lens Manual Distortion Amount : 0
Perspective Vertical : 0
Perspective Horizontal : 0
Perspective Rotate : 0.0
Perspective Scale : 100
Convert To Grayscale : False
Tone Curve Name : Custom
Camera Profile : Adobe Standard
Lens Profile Setup : LensDefaults
Has Settings : True
Crop Top : 0.030073
Crop Left : 0
Crop Bottom : 0.918645
Crop Right : 1
Crop Angle : 0
Crop Constrain To Warp : 0
Crop Width : 4976
Crop Height : 2488
Crop Unit : pixels
Has Crop : True
Already Applied : True
Creator : Tim Owen
Rights : Tim Owen
Creator Work Email : tim@timowen.com
Creator Work URL : www.timowen.com
Tone Curve : 0, 0, 32, 22, 75, 62, 128, 129, 168, 201, 255, 255
Image Width : 300
Image Height : 150
Bits Per Sample : 8
Color Components : 3
Aperture : 5.0
Image Size : 300x150
Megapixels : 0.045
Scale Factor To 35 mm Equivalent : 2.0
Shutter Speed : 1/100
Circle Of Confusion : 0.015 mm
Field Of View : 22.6 deg
Focal Length : 45.0 mm (35 mm equivalent: 90.0 mm)
Hyperfocal Distance : 26.96 m
Light Value : 10.6
Lens ID : LEICA DG MACRO-ELMARIT 45mm F2.8