Uber Exif Photo
By-line : Antonio Pereira Jimenez
Make : LEICA
Camera Model Name : D-LUX 5
Software : Ver.1.0
Modify Date : 2011:03:04 20:39:46
Artist : Antonio Pereira Jimenez
Exposure Time : 1/50
F Number : 2.5
Exposure Program : Program AE
ISO : 80
Sensitivity Type : Standard Output Sensitivity
Date/Time Original : 2010:12:09 17:09:20
Create Date : 2010:12:09 17:09:20
Shutter Speed Value : 1/50
Aperture Value : 2.5
Exposure Compensation : 0
Max Aperture Value : 2.0
Metering Mode : Multi-segment
Light Source : Unknown
Focal Length : 8.5 mm
Sensing Method : One-chip color area
Scene Type : Directly photographed
Custom Rendered : Normal
Exposure Mode : Auto
White Balance : Auto
Digital Zoom Ratio : 0
Focal Length In 35mm Format : 40 mm
Scene Capture Type : Standard
Gain Control : None
Contrast : Normal
Saturation : Normal
Sharpness : Normal
Date/Time Digitized : 2010:12:09 17:09:20+01:00
Exif Image Width : 1365
Exif Image Height : 1024
Creator Tool : Adobe Photoshop Lightroom 3.3
Version : 6.3
Process Version : 5.7
Incremental Temperature : 0
Incremental Tint : 0
Exposure : 0.00
Shadows : 42
Brightness : +13
Luminance Smoothing : 58
Color Noise Reduction : 0
Chromatic Aberration R : 0
Chromatic Aberration B : 0
Vignette Amount : 0
Shadow Tint : 0
Red Hue : 0
Red Saturation : 0
Green Hue : 0
Green Saturation : 0
Blue Hue : 0
Blue Saturation : 0
Fill Light : 0
Highlight Recovery : 6
Clarity : +16
Defringe : 0
Gray Mixer Red : -8
Gray Mixer Orange : -17
Gray Mixer Yellow : -20
Gray Mixer Green : -25
Gray Mixer Aqua : -19
Gray Mixer Blue : +7
Gray Mixer Purple : +14
Gray Mixer Magenta : +4
Split Toning Shadow Hue : 0
Split Toning Shadow Saturation : 0
Split Toning Highlight Hue : 0
Split Toning Highlight Saturation : 0
Split Toning Balance : 0
Parametric Shadows : 0
Parametric Darks : 0
Parametric Lights : 0
Parametric Highlights : 0
Parametric Shadow Split : 25
Parametric Midtone Split : 50
Parametric Highlight Split : 75
Sharpen Radius : +1.0
Sharpen Detail : 25
Sharpen Edge Masking : 0
Post Crop Vignette Amount : 0
Grain Amount : 0
Luminance Noise Reduction Detail : 50
Luminance Noise Reduction Contrast : 0
Lens Profile Enable : 0
Lens Manual Distortion Amount : 0
Perspective Vertical : 0
Perspective Horizontal : 0
Perspective Rotate : 0.0
Perspective Scale : 100
Convert To Grayscale : True
Tone Curve Name : Linear
Camera Profile : Embedded
Lens Profile Setup : LensDefaults
Has Settings : True
Has Crop : False
Already Applied : True
Flash Fired : False
Flash Return : No return detection
Flash Mode : Off
Flash Function : False
Flash Red Eye Mode : False
Creator : Antonio Pereira Jimenez
Tone Curve : 0, 0, 255, 255
Image Width : 300
Image Height : 225
Bits Per Sample : 8
Color Components : 1
Aperture : 2.5
Image Size : 300x225
Megapixels : 0.068
Scale Factor To 35 mm Equivalent : 4.7
Shutter Speed : 1/50
Flash : Off, Did not fire
Circle Of Confusion : 0.006 mm
Field Of View : 48.5 deg
Focal Length : 8.5 mm (35 mm equivalent: 40.0 mm)
Hyperfocal Distance : 4.53 m
Light Value : 8.6