Uber Exif Photo
Make : Leica Camera AG
Camera Model Name : M9 Digital Camera
Software : Adobe Photoshop Lightroom 3.4
Modify Date : 2011:05:10 22:23:21
Exposure Time : 1/6
F Number : 27.0
Exposure Program : Aperture-priority AE
ISO : 80
Date/Time Original : 2011:05:04 09:04:03
Create Date : 2011:05:04 09:04:03
Shutter Speed Value : 1/6
Aperture Value : 27.0
Exposure Compensation : 0
Max Aperture Value : 3.4
Metering Mode : Center-weighted average
Light Source : Unknown
Flash : No Flash
Focal Length : 135.0 mm
Contrast : Normal
Sharpening : Normal
Saturation : Normal
White Balance : Auto
JPEG Quality : Fine
WB RGB Levels : 0.4611833587 1 0.8354494926
User Profile :
JPEG Size : 5216x3472
Firmware Version : 1.138
Base ISO : 160
Sensor Width : 5270
Sensor Height : 3516
Sensor Bit Depth : 14
Camera Temperature : 20 C
Lens Type : Apo-Telyt-M 135mm f/3.4
Approximate F Number : 9.5
Measured LV : 1.92
External Sensor Brightness Value : 5.02
Scene Type : Directly photographed
Exposure Mode : Manual
Digital Zoom Ratio : 0
Focal Length In 35mm Format : 135 mm
Scene Capture Type : Standard
Serial Number : 3811076
Lens Model : Leica Elmarit-M 135mm f/2.8 (I/II)
Maker Note Safety : Safe
Creator Tool : Adobe Photoshop Lightroom 3.4
Lens : Leica Elmarit-M 135mm f/2.8 (I/II)
Date Created : 2011:05:04 09:04:03
Version : 6.4
Process Version : 5.7
Color Temperature : 5200
Tint : -13
Exposure : +0.10
Shadows : 5
Brightness : +50
Sharpness : 25
Luminance Smoothing : 0
Color Noise Reduction : 25
Chromatic Aberration R : 0
Chromatic Aberration B : 0
Vignette Amount : 0
Shadow Tint : 0
Red Hue : 0
Red Saturation : 0
Green Hue : 0
Green Saturation : 0
Blue Hue : 0
Blue Saturation : 0
Fill Light : 0
Highlight Recovery : 0
Clarity : -2
Defringe : 0
Gray Mixer Red : -3
Gray Mixer Orange : -11
Gray Mixer Yellow : -10
Gray Mixer Green : -28
Gray Mixer Aqua : -20
Gray Mixer Blue : +64
Gray Mixer Purple : +32
Gray Mixer Magenta : +4
Split Toning Shadow Hue : 0
Split Toning Shadow Saturation : 0
Split Toning Highlight Hue : 0
Split Toning Highlight Saturation : 0
Split Toning Balance : 0
Parametric Shadows : -21
Parametric Darks : -54
Parametric Lights : 0
Parametric Highlights : -100
Parametric Shadow Split : 25
Parametric Midtone Split : 50
Parametric Highlight Split : 75
Sharpen Radius : +1.0
Sharpen Detail : 25
Sharpen Edge Masking : 0
Post Crop Vignette Amount : -32
Post Crop Vignette Midpoint : 50
Post Crop Vignette Feather : 50
Post Crop Vignette Roundness : 0
Post Crop Vignette Style : Highlight Priority
Post Crop Vignette Highlight Contrast : 0
Grain Amount : 0
Color Noise Reduction Detail : 50
Lens Profile Enable : 0
Lens Manual Distortion Amount : 0
Perspective Vertical : 0
Perspective Horizontal : 0
Perspective Rotate : 0.0
Perspective Scale : 100
Convert To Grayscale : True
Tone Curve Name : Medium Contrast
Camera Profile : Adobe Standard
Lens Profile Setup : LensDefaults
Has Settings : True
Crop Top : 0
Crop Left : 0.064855
Crop Bottom : 0.864381
Crop Right : 0.929236
Crop Angle : 0
Crop Constrain To Warp : 0
Crop Width : 1500
Crop Height : 998
Crop Unit : pixels
Has Crop : True
Already Applied : True
Tone Curve : 0, 0, 32, 22, 64, 56, 128, 128, 192, 196, 255, 255
Paint Correction What : Correction
Paint Correction Amount : 1.000000
Paint Correction Active : true
Paint Correction Exposure : 0.000000
Paint Correction Saturation : 0.000000
Paint Correction Contrast : -0.411765
Paint Correction Clarity : 0.835294
Paint Correction Sharpness : 0.000000
Paint Correction Brightness : 0.000000
Paint Correction Toning Hue : 240.000000
Paint Correction Toning Saturation : 0.000000
Paint Correction Mask What : Mask/Paint
Paint Correction Mask Value : 1.000000
Paint Correction Mask Radius : 0.182425
Paint Correction Mask Flow : 1.000000
Paint Correction Mask Center Weight : 0.002992
Gradient Based Corr What : Correction
Gradient Based Corr Amount : 1.000000
Gradient Based Corr Active : true
Gradient Based Corr Exposure : -0.552941
Gradient Based Corr Saturation : 0.000000
Gradient Based Corr Contrast : -0.882353
Gradient Based Corr Clarity : -0.435294
Gradient Based Corr Sharpness : -1.000000
Gradient Based Corr Brightness : 0.000000
Gradient Based Corr Toning Hue : 240.000000
Gradient Based Corr Toning Saturation : 0.000000
Gradient Based Corr Mask What : Mask/Gradient
Gradient Based Corr Mask Value : 1.000000
Gradient Based Corr Mask Zero X : 0.341714
Gradient Based Corr Mask Zero Y : 0.280470
Gradient Based Corr Mask Full X : 0.059221
Gradient Based Corr Mask Full Y : 0.782174
Image Width : 200
Image Height : 300
Bits Per Sample : 8
Color Components : 1
Aperture : 27.0
Blue Balance : 0.835449
Image Size : 200x300
Lens ID : Apo-Telyt-M 135mm f/3.4
Megapixels : 0.060
Red Balance : 0.461183
Scale Factor To 35 mm Equivalent : 1.0
Shutter Speed : 1/6
Circle Of Confusion : 0.030 mm
Field Of View : 15.2 deg
Focal Length : 135.0 mm (35 mm equivalent: 135.0 mm)
Hyperfocal Distance : 22.47 m
Light Value : 12.4