Uber Exif Photo
Keywords : blumen, mitlichtgemalt, still
Copyright Flag : False
Make : LEICA
Camera Model Name : D-LUX 3
Orientation : Horizontal (normal)
Software : Adobe Photoshop CS2 Windows
Modify Date : 2008:02:15 22:14:55
Exposure Time : 6
F Number : 5.6
Exposure Program : Manual
ISO : 100
Date/Time Original : 2007:02:12 22:55:43
Create Date : 2007:02:12 22:55:43
Shutter Speed Value : 6
Aperture Value : 5.6
Exposure Compensation : 0
Max Aperture Value : 2.8
Metering Mode : Multi-segment
Focal Length : 8.7 mm
Color Space : sRGB
Exif Image Width : 1069
Exif Image Height : 653
Profile Description : sRGB IEC61966-2.1
Date/Time Digitized : 2007:02:12 22:55:43Z
Flash Fired : False
Flash Return : No return detection
Flash Mode : Off
Flash Function : False
Flash Red Eye Mode : False
Creator Tool : Adobe Photoshop CS2 Windows
Version : 1.0
White Balance : As Shot
Color Temperature : 2750
Tint : +8
Exposure : 0.00
Shadows : 8
Brightness : +39
Contrast : 0
Saturation : 0
Sharpness : 64
Luminance Smoothing : 0
Color Noise Reduction : 25
Chromatic Aberration R : 0
Chromatic Aberration B : 0
Vignette Amount : -79
Vignette Midpoint : 2
Shadow Tint : 0
Red Hue : 0
Red Saturation : 0
Green Hue : 0
Green Saturation : 0
Blue Hue : 0
Blue Saturation : 0
Fill Light : 16
Vibrance : +11
Highlight Recovery : 24
Clarity : 0
Defringe : 0
Hue Adjustment Red : 0
Hue Adjustment Orange : 0
Hue Adjustment Yellow : 0
Hue Adjustment Green : 0
Hue Adjustment Aqua : 0
Hue Adjustment Blue : 0
Hue Adjustment Purple : 0
Hue Adjustment Magenta : 0
Saturation Adjustment Red : 0
Saturation Adjustment Orange : 0
Saturation Adjustment Yellow : 0
Saturation Adjustment Green : 0
Saturation Adjustment Aqua : 0
Saturation Adjustment Blue : 0
Saturation Adjustment Purple : 0
Saturation Adjustment Magenta : 0
Luminance Adjustment Red : 0
Luminance Adjustment Orange : 0
Luminance Adjustment Yellow : 0
Luminance Adjustment Green : 0
Luminance Adjustment Aqua : 0
Luminance Adjustment Blue : 0
Luminance Adjustment Purple : 0
Luminance Adjustment Magenta : 0
Split Toning Shadow Hue : 0
Split Toning Shadow Saturation : 0
Split Toning Highlight Hue : 0
Split Toning Highlight Saturation : 0
Split Toning Balance : 0
Parametric Shadows : 0
Parametric Darks : 0
Parametric Lights : 0
Parametric Highlights : 0
Parametric Shadow Split : 25
Parametric Midtone Split : 50
Parametric Highlight Split : 75
Sharpen Radius : +1.0
Sharpen Detail : 42
Sharpen Edge Masking : 0
Convert To Grayscale : False
Tone Curve Name : Medium Contrast
Camera Profile : ACR 3.6
Has Settings : True
Has Crop : False
Already Applied : True
Tone Curve : 0, 0, 32, 22, 64, 56, 128, 128, 192, 196, 255, 255
Color Mode : RGB
ICC Profile Name : sRGB IEC61966-2.1
Subject : blumen, mitlichtgemalt, still
Format : image/jpeg
Image Width : 300
Image Height : 183
Bits Per Sample : 8
Color Components : 3
Aperture : 5.6
Image Size : 300x183
Megapixels : 0.055
Shutter Speed : 6
Flash : Off, Did not fire
Light Value : 2.4