Uber Exif Photo
Keywords : Arches NP, Utah, canyon, landscape
Copyright Notice : Jim Vehe
Make : Leica Camera AG
Camera Model Name : M8 Digital Camera
Software : 2.005
Modify Date : 2010:12:11 13:55:00
Copyright : Jim Vehe
Exposure Time : 1/500
F Number : 6.7
Exposure Program : Manual
ISO : 160
Sensitivity Type : Unknown
Date/Time Original : 2010:11:04 03:39:27
Create Date : 2010:11:04 03:39:27
Shutter Speed Value : 1/500
Aperture Value : 6.7
Exposure Compensation : 0
Max Aperture Value : 1.0
Metering Mode : Center-weighted average
Light Source : Unknown
Scene Type : Directly photographed
White Balance : Manual
Digital Zoom Ratio : 0
Scene Capture Type : Standard
Serial Number : 3109646
Date/Time Digitized : 2010:11:04 03:39:27-05:00
Exif Image Width : 1121
Exif Image Height : 800
Creator Tool : Adobe Photoshop Lightroom 3.3
Rating : 3
Version : 6.3
Process Version : 5.7
Color Temperature : 4414
Tint : 0
Exposure : 0.00
Shadows : 10
Brightness : +50
Contrast : +25
Sharpness : 94
Luminance Smoothing : 0
Color Noise Reduction : 25
Chromatic Aberration R : 0
Chromatic Aberration B : 0
Vignette Amount : 0
Shadow Tint : 0
Red Hue : 0
Red Saturation : 0
Green Hue : 0
Green Saturation : 0
Blue Hue : 0
Blue Saturation : 0
Fill Light : 39
Highlight Recovery : 0
Clarity : +33
Defringe : 0
Gray Mixer Red : 0
Gray Mixer Orange : -2
Gray Mixer Yellow : -2
Gray Mixer Green : -5
Gray Mixer Aqua : -2
Gray Mixer Blue : -57
Gray Mixer Purple : +18
Gray Mixer Magenta : +6
Split Toning Shadow Hue : 0
Split Toning Shadow Saturation : 0
Split Toning Highlight Hue : 0
Split Toning Highlight Saturation : 0
Split Toning Balance : 0
Parametric Shadows : 0
Parametric Darks : 0
Parametric Lights : 0
Parametric Highlights : 0
Parametric Shadow Split : 25
Parametric Midtone Split : 50
Parametric Highlight Split : 75
Sharpen Radius : +0.6
Sharpen Detail : 8
Sharpen Edge Masking : 45
Post Crop Vignette Amount : 0
Grain Amount : 0
Color Noise Reduction Detail : 50
Lens Profile Enable : 0
Lens Manual Distortion Amount : 0
Perspective Vertical : 0
Perspective Horizontal : 0
Perspective Rotate : 0.0
Perspective Scale : 100
Convert To Grayscale : True
Tone Curve Name : Custom
Camera Profile : Adobe Standard
Lens Profile Setup : LensDefaults
Has Settings : True
Crop Top : 0
Crop Left : 0
Crop Bottom : 1
Crop Right : 0.942857
Crop Angle : 0
Crop Constrain To Warp : 0
Crop Width : 1121
Crop Height : 800
Crop Unit : pixels
Has Crop : True
Already Applied : True
Flash Fired : False
Flash Return : No return detection
Flash Mode : Off
Flash Function : False
Flash Red Eye Mode : False
Rights : Jim Vehe
Subject : Arches NP, Utah, canyon, landscape
Tone Curve : 0, 0, 47, 38, 201, 212, 255, 255
Image Width : 300
Image Height : 214
Bits Per Sample : 8
Color Components : 1
Aperture : 6.7
Image Size : 300x214
Megapixels : 0.064
Scale Factor To 35 mm Equivalent : 4.6
Shutter Speed : 1/500
Flash : Off, Did not fire
Circle Of Confusion : 0.006 mm
Light Value : 13.8