Uber Exif Photo
Copyright Flag : False
Make : LEICA
Camera Model Name : V-LUX 1
Orientation : Horizontal (normal)
Software : Adobe Photoshop CS3 Macintosh
Modify Date : 2010:11:24 15:18:10
Exposure Time : 1/60
F Number : 3.2
Exposure Program : Program AE
ISO : 100
Date/Time Original : 2008:06:17 18:37:10
Create Date : 2008:06:17 18:37:10
Shutter Speed Value : 1/60
Aperture Value : 3.2
Exposure Compensation : -0.33
Max Aperture Value : 2.8
Metering Mode : Multi-segment
Light Source : Unknown
Focal Length : 12.2 mm
Color Space : Uncalibrated
Exif Image Width : 3000
Exif Image Height : 2160
Sensing Method : One-chip color area
Scene Type : Directly photographed
Custom Rendered : Custom
Exposure Mode : Auto
White Balance : Auto
Digital Zoom Ratio : 0
Focal Length In 35mm Format : 73 mm
Scene Capture Type : Standard
Gain Control : None
Contrast : Normal
Saturation : Normal
Sharpness : Normal
Profile Description : Adobe RGB (1998)
Date/Time Digitized : 2008:06:17 18:37:10-07:00
Creator Tool : Adobe Photoshop CS3 Macintosh
Already Applied : True
Has Crop : False
Has Settings : True
Camera Profile : Embedded
Tone Curve Name : Linear
Convert To Grayscale : False
Sharpen Edge Masking : 0
Sharpen Detail : 25
Sharpen Radius : +1.0
Parametric Highlight Split : 75
Parametric Midtone Split : 50
Parametric Shadow Split : 25
Parametric Highlights : 0
Parametric Lights : 0
Parametric Darks : 0
Parametric Shadows : 0
Split Toning Balance : 0
Split Toning Highlight Saturation : 0
Split Toning Highlight Hue : 0
Split Toning Shadow Saturation : 0
Split Toning Shadow Hue : 0
Luminance Adjustment Magenta : -31
Luminance Adjustment Purple : 0
Luminance Adjustment Blue : -2
Luminance Adjustment Aqua : 0
Luminance Adjustment Green : -24
Luminance Adjustment Yellow : -33
Luminance Adjustment Orange : +16
Luminance Adjustment Red : 0
Saturation Adjustment Magenta : 0
Saturation Adjustment Purple : 0
Saturation Adjustment Blue : 0
Saturation Adjustment Aqua : 0
Saturation Adjustment Green : 0
Saturation Adjustment Yellow : 0
Saturation Adjustment Orange : 0
Saturation Adjustment Red : 0
Hue Adjustment Magenta : 0
Hue Adjustment Purple : 0
Hue Adjustment Blue : 0
Hue Adjustment Aqua : 0
Hue Adjustment Green : 0
Hue Adjustment Yellow : 0
Hue Adjustment Orange : 0
Hue Adjustment Red : 0
Defringe : 0
Clarity : 50
Highlight Recovery : 0
Vibrance : 0
Fill Light : 29
Blue Saturation : 0
Blue Hue : 0
Green Saturation : 0
Green Hue : 0
Red Saturation : 0
Red Hue : 0
Shadow Tint : 0
Vignette Amount : 0
Chromatic Aberration B : 0
Chromatic Aberration R : 0
Color Noise Reduction : 0
Luminance Smoothing : 0
Brightness : 0
Shadows : 0
Exposure : +0.15
Incremental Tint : +6
Incremental Temperature : +5
Raw File Name : L1020420.JPG
Version : 4.3.1
Format : image/jpeg
ICC Profile Name : Adobe RGB (1998)
Color Mode : RGB
Flash Fired : False
Flash Return : No return detection
Flash Mode : Off
Flash Function : False
Flash Red Eye Mode : False
Tone Curve : 0, 0, 255, 255
Image Width : 300
Image Height : 216
Bits Per Sample : 8
Color Components : 3
Aperture : 3.2
Image Size : 300x216
Megapixels : 0.065
Scale Factor To 35 mm Equivalent : 6.0
Shutter Speed : 1/60
Flash : Off, Did not fire
Circle Of Confusion : 0.005 mm
Field Of View : 27.7 deg
Focal Length : 12.2 mm (35 mm equivalent: 73.0 mm)
Hyperfocal Distance : 9.26 m
Light Value : 9.3