Uber Exif Photo
Modify Date : 2010:11:09 14:43:24
Sensitivity Type : Unknown
Profile Description : sRGB IEC61966-2.1
Exif Image Width : 459
Exif Image Height : 685
Creator Tool : Adobe Photoshop Lightroom
Version : 6.2
Process Version : 5.7
White Balance : Custom
Incremental Temperature : +5
Incremental Tint : +35
Exposure : +0.60
Shadows : 0
Brightness : 0
Contrast : 0
Saturation : 0
Sharpness : 0
Luminance Smoothing : 0
Color Noise Reduction : 0
Chromatic Aberration R : 0
Chromatic Aberration B : 0
Vignette Amount : 0
Shadow Tint : 0
Red Hue : 0
Red Saturation : 0
Green Hue : 0
Green Saturation : 0
Blue Hue : 0
Blue Saturation : 0
Fill Light : 20
Vibrance : 0
Highlight Recovery : 0
Clarity : 0
Defringe : 0
Hue Adjustment Red : 0
Hue Adjustment Orange : 0
Hue Adjustment Yellow : 0
Hue Adjustment Green : 0
Hue Adjustment Aqua : 0
Hue Adjustment Blue : 0
Hue Adjustment Purple : 0
Hue Adjustment Magenta : 0
Saturation Adjustment Red : 0
Saturation Adjustment Orange : 0
Saturation Adjustment Yellow : 0
Saturation Adjustment Green : 0
Saturation Adjustment Aqua : 0
Saturation Adjustment Blue : 0
Saturation Adjustment Purple : 0
Saturation Adjustment Magenta : 0
Luminance Adjustment Red : -19
Luminance Adjustment Orange : -19
Luminance Adjustment Yellow : 0
Luminance Adjustment Green : -29
Luminance Adjustment Aqua : -27
Luminance Adjustment Blue : 0
Luminance Adjustment Purple : +2
Luminance Adjustment Magenta : +4
Split Toning Shadow Hue : 0
Split Toning Shadow Saturation : 0
Split Toning Highlight Hue : 0
Split Toning Highlight Saturation : 0
Split Toning Balance : 0
Parametric Shadows : 0
Parametric Darks : 0
Parametric Lights : 0
Parametric Highlights : 0
Parametric Shadow Split : 25
Parametric Midtone Split : 50
Parametric Highlight Split : 75
Sharpen Radius : +1.0
Sharpen Detail : 25
Sharpen Edge Masking : 0
Post Crop Vignette Amount : 0
Grain Amount : 0
Lens Profile Enable : 0
Lens Manual Distortion Amount : 0
Perspective Vertical : 0
Perspective Horizontal : 0
Perspective Rotate : 0.0
Perspective Scale : 100
Convert To Grayscale : False
Tone Curve Name : Linear
Camera Profile : Embedded
Lens Profile Setup : LensDefaults
Has Settings : True
Crop Top : 0.06264
Crop Left : 0.006421
Crop Bottom : 0.950783
Crop Right : 0.958266
Crop Angle : 0
Crop Constrain To Warp : 0
Crop Width : 685
Crop Height : 459
Crop Unit : pixels
Has Crop : True
Already Applied : True
Tone Curve : 0, 0, 255, 255
Image Width : 201
Image Height : 300
Bits Per Sample : 8
Color Components : 3
Image Size : 201x300
Megapixels : 0.060