Uber Exif Photo
Orientation : Horizontal (normal)
Software : Adobe Photoshop CS Windows
Modify Date : 2023:06:16 00:41:24
Color Space : sRGB
Exif Image Width : 4130
Exif Image Height : 2179
Copyright Flag : False
Version : 6.6
Process Version : 5.7
White Balance : Custom
Incremental Temperature : +8
Incremental Tint : -16
Exposure : 0.00
Shadows : 0
Brightness : +5
Contrast : 0
Sharpness : 41
Luminance Smoothing : 0
Color Noise Reduction : 25
Chromatic Aberration R : 0
Chromatic Aberration B : 0
Vignette Amount : 0
Shadow Tint : 0
Red Hue : 0
Red Saturation : 0
Green Hue : 0
Green Saturation : 0
Blue Hue : 0
Blue Saturation : 0
Fill Light : 18
Highlight Recovery : 36
Clarity : -6
Defringe : 0
Gray Mixer Red : +39
Gray Mixer Orange : +12
Gray Mixer Yellow : -9
Gray Mixer Green : -17
Gray Mixer Aqua : -10
Gray Mixer Blue : +20
Gray Mixer Purple : +25
Gray Mixer Magenta : +32
Split Toning Shadow Hue : 37
Split Toning Shadow Saturation : 32
Split Toning Highlight Hue : 51
Split Toning Highlight Saturation : 22
Split Toning Balance : 0
Parametric Shadows : 0
Parametric Darks : -1
Parametric Lights : +9
Parametric Highlights : +3
Parametric Shadow Split : 25
Parametric Midtone Split : 50
Parametric Highlight Split : 75
Sharpen Radius : +1.1
Sharpen Detail : 21
Sharpen Edge Masking : 0
Post Crop Vignette Amount : -17
Post Crop Vignette Midpoint : 48
Post Crop Vignette Feather : 48
Post Crop Vignette Roundness : 0
Post Crop Vignette Style : Highlight Priority
Post Crop Vignette Highlight Contrast : 0
Grain Amount : 0
Color Noise Reduction Detail : 50
Lens Profile Enable : 0
Lens Manual Distortion Amount : 0
Perspective Vertical : -3
Perspective Horizontal : +3
Perspective Rotate : +0.6
Perspective Scale : 102
Convert To Grayscale : True
Tone Curve Name : Medium Contrast
Camera Profile : Embedded
Lens Profile Setup : LensDefaults
Has Settings : True
Crop Top : 0.042106
Crop Left : 0.033932
Crop Bottom : 0.915789
Crop Right : 0.978044
Crop Angle : 0
Crop Constrain To Warp : 0
Crop Width : 4121
Crop Height : 2170
Crop Unit : pixels
Has Crop : True
Already Applied : True
Tone Curve : 0, 0, 32, 22, 64, 56, 128, 128, 192, 196, 255, 255
Creator Tool : Adobe Photoshop CS Windows
Create Date : 2023:06:15 22:58:56+02:00
Format : image/jpeg
Profile Description : sRGB IEC61966-2.1
Image Width : 400
Image Height : 211
Bits Per Sample : 8
Color Components : 3
Image Size : 400x211
Megapixels : 0.084