Uber Exif Photo
Caption-Abstract : Fog along Crest Trail. 1 of 5 printed 17x22
Image Description : Fog along Crest Trail. 1 of 5 printed 17x22
Make : SONY
Camera Model Name : DSC-RX100
Software : Adobe Photoshop Lightroom 5.6 (Macintosh)
Modify Date : 2014:11:24 12:09:42
Exposure Time : 1/250
F Number : 4.0
Exposure Program : Aperture-priority AE
ISO : 200
Date/Time Original : 2012:09:08 11:10:20
Create Date : 2012:09:08 11:10:20
Shutter Speed Value : 1/250
Aperture Value : 4.0
Brightness Value : 7.26328125
Exposure Compensation : 0
Max Aperture Value : 3.2
Metering Mode : Multi-segment
Light Source : Unknown
Flash : Off, Did not fire
Focal Length : 18.2 mm
Color Space : sRGB
Scene Type : Directly photographed
Exposure Mode : Auto
White Balance : Auto
Digital Zoom Ratio : 1
Focal Length In 35mm Format : 49 mm
Scene Capture Type : Standard
Contrast : Normal
Saturation : Normal
Sharpness : Normal
Lens Info : 10.4-37.1mm f/1.8-4.9
Lens Model : 28-100mm F1.8-4.9
Profile Description : sRGB IEC61966-2.1
Lens : 28-100mm F1.8-4.9
Lens Distort Info : 33129/32768 -30060506/1073741824 -31057917/1073741824 11460274/1073741824
Format : image/jpeg
Creator Tool : Adobe Photoshop Lightroom 5.6 (Macintosh)
Rating : 5
Date Created : 2012:09:08 11:10:20
Photographic Sensitivity : 200
Version : 8.6
Process Version : 6.7
Auto White Version : 134348800
Incremental Temperature : 0
Incremental Tint : 0
Luminance Smoothing : 0
Color Noise Reduction : 0
Vignette Amount : 0
Shadow Tint : 0
Red Hue : 0
Red Saturation : 0
Green Hue : 0
Green Saturation : 0
Blue Hue : 0
Blue Saturation : 0
Vibrance : 0
Hue Adjustment Red : 0
Hue Adjustment Orange : 0
Hue Adjustment Yellow : 0
Hue Adjustment Green : 0
Hue Adjustment Aqua : 0
Hue Adjustment Blue : 0
Hue Adjustment Purple : 0
Hue Adjustment Magenta : 0
Saturation Adjustment Red : 0
Saturation Adjustment Orange : 0
Saturation Adjustment Yellow : 0
Saturation Adjustment Green : +16
Saturation Adjustment Aqua : 0
Saturation Adjustment Blue : 0
Saturation Adjustment Purple : 0
Saturation Adjustment Magenta : 0
Luminance Adjustment Red : 0
Luminance Adjustment Orange : 0
Luminance Adjustment Yellow : +45
Luminance Adjustment Green : +41
Luminance Adjustment Aqua : 0
Luminance Adjustment Blue : 0
Luminance Adjustment Purple : 0
Luminance Adjustment Magenta : 0
Split Toning Shadow Hue : 43
Split Toning Shadow Saturation : 10
Split Toning Highlight Hue : 43
Split Toning Highlight Saturation : 10
Split Toning Balance : -6
Parametric Shadows : 0
Parametric Darks : 0
Parametric Lights : 0
Parametric Highlights : 0
Parametric Shadow Split : 25
Parametric Midtone Split : 50
Parametric Highlight Split : 75
Sharpen Radius : +1.0
Sharpen Detail : 25
Sharpen Edge Masking : 0
Post Crop Vignette Amount : 0
Grain Amount : 0
Lens Profile Enable : 0
Lens Manual Distortion Amount : 0
Perspective Vertical : 0
Perspective Horizontal : 0
Perspective Rotate : 0.0
Perspective Scale : 100
Perspective Aspect : 0
Perspective Upright : Off
Auto Lateral CA : 0
Exposure 2012 : 0.00
Contrast 2012 : 0
Highlights 2012 : 0
Shadows 2012 : 0
Whites 2012 : 0
Blacks 2012 : 0
Clarity 2012 : 0
Defringe Purple Amount : 0
Defringe Purple Hue Lo : 30
Defringe Purple Hue Hi : 70
Defringe Green Amount : 0
Defringe Green Hue Lo : 40
Defringe Green Hue Hi : 60
Convert To Grayscale : False
Tone Curve Name : Linear
Tone Curve Name 2012 : Linear
Camera Profile : Embedded
Lens Profile Setup : LensDefaults
Has Settings : True
Has Crop : False
Already Applied : True
Description : Fog along Crest Trail. 1 of 5 printed 17x22
Tone Curve : 0, 0, 255, 255
Tone Curve Red : 0, 0, 255, 255
Tone Curve Green : 0, 0, 255, 255
Tone Curve Blue : 0, 0, 255, 255
Tone Curve PV2012 : 0, 0, 255, 255
Tone Curve PV2012 Red : 0, 0, 255, 255
Tone Curve PV2012 Green : 0, 0, 255, 255
Tone Curve PV2012 Blue : 0, 0, 255, 255
Image Width : 221
Image Height : 300
Bits Per Sample : 8
Color Components : 3
Aperture : 4.0
Image Size : 221x300
Megapixels : 0.066
Scale Factor To 35 mm Equivalent : 2.7
Shutter Speed : 1/250
Circle Of Confusion : 0.011 mm
Field Of View : 40.3 deg
Focal Length : 18.2 mm (35 mm equivalent: 49.0 mm)
Hyperfocal Distance : 7.43 m
Light Value : 11.0
Lens ID : 28-100mm F1.8-4.9