Uber Exif Photo
Object Name : Grand Mosque 3
Keywords : Abu Dhabi, Distagon 25/2.8 ZF, Distagon T* 2.8/25, Emirados Arabes Unidos, Mesquita, Mosque, Nikon D700, Sheikh Zayed Grand Mosque, United Arab Emirates, ZF.2, architecture, arquitectura, filipe brandão
By-line : Filipe Brandao
Sub-location : Al Madina Al Riyadiya
Province-State : Abu Dhabi
Country-Primary Location Name : United Arab Emirates
Copyright Notice : Filipe Brandao
Copyright Flag : True
Make : NIKON CORPORATION
Camera Model Name : NIKON D700
Software : Adobe Photoshop Lightroom 4.1 (Windows)
Modify Date : 2012:08:29 11:23:55
Artist : Filipe Brandao
Copyright : Filipe Brandao
Exposure Time : 1/1600
F Number : 8.0
Exposure Program : Aperture-priority AE
ISO : 200
Date/Time Original : 2012:03:18 09:44:58
Create Date : 2012:03:18 09:44:58
Shutter Speed Value : 1/1600
Aperture Value : 8.0
Exposure Compensation : 0
Max Aperture Value : 2.8
Metering Mode : Multi-segment
Light Source : Unknown
Flash : No Flash
Focal Length : 25.0 mm
Sensing Method : One-chip color area
Scene Type : Directly photographed
CFA Pattern : [Red,Green][Green,Blue]
Custom Rendered : Normal
Exposure Mode : Auto
White Balance : Auto
Digital Zoom Ratio : 1
Focal Length In 35mm Format : 25 mm
Scene Capture Type : Standard
Gain Control : None
Contrast : Normal
Saturation : Normal
Sharpness : Hard
Subject Distance Range : Unknown
Serial Number : 2261265
Lens Info : 25mm f/2.8
Lens Model : 25.0 mm f/2.8
GPS Version ID : 2.2.0.0
GPS Latitude Ref : North
GPS Longitude Ref : East
GPS Map Datum : WGS-84
Profile Description : sRGB IEC61966-2.1
Creator Tool : Adobe Photoshop Lightroom 4.1 (Windows)
Rating : 5
Format : image/jpeg
Lens : 25.0 mm f/2.8
Image Number : 6230
Date Created : 2012:03:18 09:44:58.33Z
City : Abu Dhabi
State : Abu Dhabi
Country : United Arab Emirates
Marked : True
Location : Al Madina Al Riyadiya
Version : 7.1
Process Version : 6.7
Color Temperature : 4900
Tint : -5
Luminance Smoothing : 0
Color Noise Reduction : 0
Vignette Amount : 0
Shadow Tint : 0
Red Hue : 0
Red Saturation : 0
Green Hue : 0
Green Saturation : 0
Blue Hue : 0
Blue Saturation : 0
Vibrance : 0
Hue Adjustment Red : 0
Hue Adjustment Orange : 0
Hue Adjustment Yellow : 0
Hue Adjustment Green : 0
Hue Adjustment Aqua : 0
Hue Adjustment Blue : 0
Hue Adjustment Purple : 0
Hue Adjustment Magenta : 0
Saturation Adjustment Red : 0
Saturation Adjustment Orange : 0
Saturation Adjustment Yellow : 0
Saturation Adjustment Green : 0
Saturation Adjustment Aqua : 0
Saturation Adjustment Blue : 0
Saturation Adjustment Purple : 0
Saturation Adjustment Magenta : 0
Luminance Adjustment Red : 0
Luminance Adjustment Orange : 0
Luminance Adjustment Yellow : 0
Luminance Adjustment Green : 0
Luminance Adjustment Aqua : 0
Luminance Adjustment Blue : 0
Luminance Adjustment Purple : 0
Luminance Adjustment Magenta : 0
Split Toning Shadow Hue : 0
Split Toning Shadow Saturation : 0
Split Toning Highlight Hue : 0
Split Toning Highlight Saturation : 0
Split Toning Balance : 0
Parametric Shadows : 0
Parametric Darks : 0
Parametric Lights : 0
Parametric Highlights : 0
Parametric Shadow Split : 25
Parametric Midtone Split : 50
Parametric Highlight Split : 75
Sharpen Radius : +0.7
Sharpen Detail : 42
Sharpen Edge Masking : 0
Post Crop Vignette Amount : 0
Grain Amount : 0
Lens Profile Enable : 1
Lens Manual Distortion Amount : 0
Perspective Vertical : 0
Perspective Horizontal : 0
Perspective Rotate : 0.0
Perspective Scale : 100
Auto Lateral CA : 1
Exposure 2012 : -0.35
Contrast 2012 : -13
Highlights 2012 : 0
Shadows 2012 : 0
Whites 2012 : +56
Blacks 2012 : -50
Clarity 2012 : 0
Defringe Purple Amount : 0
Defringe Purple Hue Lo : 30
Defringe Purple Hue Hi : 70
Defringe Green Amount : 0
Defringe Green Hue Lo : 40
Defringe Green Hue Hi : 60
Convert To Grayscale : False
Tone Curve Name 2012 : Linear
Camera Profile : Adobe Standard
Lens Profile Setup : Custom
Lens Profile Name : Adobe (Zeiss Distagon T* 2,8/25 ZF.2)
Lens Profile Filename : NIKON CORPORATION (Zeiss Distagon T 2.8-25 ZF.2).lcp
Lens Profile Distortion Scale : 100
Lens Profile Chromatic Aberration Scale : 100
Lens Profile Vignetting Scale : 100
Has Settings : True
Has Crop : False
Already Applied : True
Creator : Filipe Brandao
Title : Grand Mosque 3
Rights : Filipe Brandao
Subject : Abu Dhabi, Distagon 25/2.8 ZF, Distagon T* 2.8/25, Emirados Arabes Unidos, Mesquita, Mosque, Nikon D700, Sheikh Zayed Grand Mosque, United Arab Emirates, ZF.2, architecture, arquitectura, filipe brandão
Tone Curve PV2012 : 0, 0, 255, 255
Tone Curve PV2012 Red : 0, 0, 255, 255
Tone Curve PV2012 Green : 0, 0, 255, 255
Tone Curve PV2012 Blue : 0, 0, 255, 255
Image Width : 300
Image Height : 200
Bits Per Sample : 8
Color Components : 3
Aperture : 8.0
Image Size : 300x200
Megapixels : 0.060
Scale Factor To 35 mm Equivalent : 1.0
Shutter Speed : 1/1600
Create Date : 2012:03:18 09:44:58.33
Date/Time Original : 2012:03:18 09:44:58.33
GPS Latitude : 24 deg 24' 45.14" N
GPS Longitude : 54 deg 28' 31.36" E
Circle Of Confusion : 0.030 mm
Field Of View : 71.5 deg
Focal Length : 25.0 mm (35 mm equivalent: 25.0 mm)
GPS Position : 24 deg 24' 45.14" N, 54 deg 28' 31.36" E
Hyperfocal Distance : 2.60 m
Light Value : 15.6
Lens ID : 25.0mm f/2.8