Uber Exif Photo
By-line : Ivan Ana Rankovic
Copyright Notice : Copyright (C) Ivan&Ana Rankovic
Make : Canon
Camera Model Name : Canon EOS 60D
Software : Adobe Photoshop Lightroom 3.5 (Windows)
Modify Date : 2012:01:31 21:50:29
Artist : Ivan Ana Rankovic
Copyright : Copyright (C) Ivan&Ana Rankovic
Exposure Time : 1/80
F Number : 1.4
Exposure Program : Manual
ISO : 160
Sensitivity Type : Recommended Exposure Index
Recommended Exposure Index : 160
Date/Time Original : 2012:01:31 05:03:29
Create Date : 2012:01:31 05:03:29
Shutter Speed Value : 1/80
Aperture Value : 1.4
Exposure Compensation : 0
Max Aperture Value : 1.4
Metering Mode : Multi-segment
Flash : Off, Did not fire
Focal Length : 50.0 mm
Custom Rendered : Normal
Exposure Mode : Manual
White Balance : Auto
Scene Capture Type : Standard
Serial Number : 0780401362
Lens Info : 50mm f/?
Lens Model : 50-50mm
Lens Serial Number : 0000000000
Creator Tool : Adobe Photoshop Lightroom 3.5 (Windows)
Lens : 50-50mm
Image Number : 0
Flash Compensation : 0
Firmware : 1.0.9
Date Created : 2012:01:31 05:03:29.65
Version : 6.5
Process Version : 5.7
Color Temperature : 4300
Tint : +9
Exposure : -0.05
Shadows : 10
Brightness : +50
Contrast : +55
Sharpness : 36
Luminance Smoothing : 15
Color Noise Reduction : 25
Chromatic Aberration R : 0
Chromatic Aberration B : 0
Vignette Amount : 0
Shadow Tint : +26
Red Hue : +5
Red Saturation : +17
Green Hue : 0
Green Saturation : +40
Blue Hue : +56
Blue Saturation : -47
Fill Light : 28
Highlight Recovery : 84
Clarity : -20
Defringe : 0
Gray Mixer Red : -17
Gray Mixer Orange : -10
Gray Mixer Yellow : -23
Gray Mixer Green : -25
Gray Mixer Aqua : -40
Gray Mixer Blue : 0
Gray Mixer Purple : +68
Gray Mixer Magenta : +19
Split Toning Shadow Hue : 0
Split Toning Shadow Saturation : 0
Split Toning Highlight Hue : 0
Split Toning Highlight Saturation : 0
Split Toning Balance : 0
Parametric Shadows : 0
Parametric Darks : 0
Parametric Lights : 0
Parametric Highlights : 0
Parametric Shadow Split : 25
Parametric Midtone Split : 50
Parametric Highlight Split : 75
Sharpen Radius : +1.0
Sharpen Detail : 15
Sharpen Edge Masking : 9
Post Crop Vignette Amount : -10
Post Crop Vignette Midpoint : 50
Post Crop Vignette Feather : 79
Post Crop Vignette Roundness : 0
Post Crop Vignette Style : Highlight Priority
Post Crop Vignette Highlight Contrast : 0
Grain Amount : 30
Grain Size : 24
Grain Frequency : 20
Luminance Noise Reduction Detail : 41
Color Noise Reduction Detail : 50
Luminance Noise Reduction Contrast : 14
Lens Profile Enable : 1
Lens Manual Distortion Amount : 0
Perspective Vertical : 0
Perspective Horizontal : 0
Perspective Rotate : 0.0
Perspective Scale : 100
Convert To Grayscale : True
Tone Curve Name : Custom
Camera Profile : Adobe Standard
Lens Profile Setup : LensDefaults
Has Settings : True
Crop Top : 0.018168
Crop Left : 0.014057
Crop Bottom : 0.931728
Crop Right : 0.938266
Crop Angle : 1.27285
Crop Constrain To Warp : 0
Crop Width : 1024
Crop Height : 643
Crop Unit : pixels
Has Crop : True
Already Applied : True
Creator : Ivan Ana Rankovic
Rights : Copyright (C) Ivan&Ana Rankovic
Tone Curve : 43, 46, 72, 65, 132, 139, 192, 202, 255, 255
Image Width : 300
Image Height : 188
Bits Per Sample : 8
Color Components : 1
Aperture : 1.4
Image Size : 300x188
Megapixels : 0.056
Scale Factor To 35 mm Equivalent : 1.6
Shutter Speed : 1/80
Create Date : 2012:01:31 05:03:29.65
Date/Time Original : 2012:01:31 05:03:29.65
Circle Of Confusion : 0.019 mm
Field Of View : 25.8 deg
Focal Length : 50.0 mm (35 mm equivalent: 78.6 mm)
Hyperfocal Distance : 93.47 m
Light Value : 6.6
Lens ID : Canon EF 35-80mm f/4-5.6