Uber Exif Photo
Photometric Interpretation : RGB
Make : Phase One A/S
Camera Model Name : P20
Orientation : Horizontal (normal)
Samples Per Pixel : 3
Planar Configuration : Chunky
Software : Adobe Photoshop CS4 Macintosh
Modify Date : 2011:08:29 09:20:50
ISO : 50
Date/Time Original : 2008:07:19 16:38:00
Create Date : 2008:07:19 16:38:00
Light Source : Unknown
Color Space : Uncalibrated
Exif Image Width : 4086
Exif Image Height : 4088
White Balance : Auto
Profile Description : Adobe RGB (1998)
Date/Time Digitized : 2008:07:19 16:38:00+01:00
Serial Number : CD001170
Version : 4.0
Raw File Name : CF004779.TIF
Color Temperature : 6500
Tint : -7
Exposure : -0.35
Shadows : 16
Brightness : +69
Contrast : -6
Saturation : 0
Sharpness : 83
Luminance Smoothing : 0
Color Noise Reduction : 25
Chromatic Aberration R : 0
Chromatic Aberration B : 0
Vignette Amount : -100
Vignette Midpoint : 15
Shadow Tint : 0
Red Hue : 0
Red Saturation : 0
Green Hue : 0
Green Saturation : 0
Blue Hue : 0
Blue Saturation : 0
Fill Light : 60
Vibrance : 0
Highlight Recovery : 13
Hue Adjustment Red : 0
Hue Adjustment Orange : 0
Hue Adjustment Yellow : +8
Hue Adjustment Green : +10
Hue Adjustment Aqua : 0
Hue Adjustment Blue : +20
Hue Adjustment Purple : 0
Hue Adjustment Magenta : 0
Saturation Adjustment Red : 0
Saturation Adjustment Orange : 0
Saturation Adjustment Yellow : 0
Saturation Adjustment Green : 0
Saturation Adjustment Aqua : 0
Saturation Adjustment Blue : 0
Saturation Adjustment Purple : 0
Saturation Adjustment Magenta : 0
Luminance Adjustment Red : 0
Luminance Adjustment Orange : 0
Luminance Adjustment Yellow : 0
Luminance Adjustment Green : 0
Luminance Adjustment Aqua : 0
Luminance Adjustment Blue : 0
Luminance Adjustment Purple : 0
Luminance Adjustment Magenta : 0
Split Toning Shadow Hue : 0
Split Toning Shadow Saturation : 0
Split Toning Highlight Hue : 0
Split Toning Highlight Saturation : 5
Split Toning Balance : 0
Parametric Shadows : +4
Parametric Darks : -17
Parametric Lights : +11
Parametric Highlights : +12
Parametric Shadow Split : 25
Parametric Midtone Split : 50
Parametric Highlight Split : 75
Convert To Grayscale : False
Tone Curve Name : Medium Contrast
Camera Profile : Beta
Has Settings : True
Has Crop : False
Already Applied : True
Format : image/jpeg
Color Mode : RGB
ICC Profile Name : Adobe RGB (1998)
Tone Curve : 0, 0, 32, 22, 64, 56, 128, 128, 192, 196, 255, 255
Image Width : 300
Image Height : 300
Bits Per Sample : 8
Color Components : 3
Image Size : 300x300
Megapixels : 0.090