Uber Exif Photo
Make : Panasonic
Camera Model Name : DMC-GH1
Software : GIMP 2.6.11
Modify Date : 2011:04:19 19:45:58
Exposure Time : 1/60
Exposure Program : Aperture-priority AE
ISO : 100
Date/Time Original : 2011:04:16 20:46:29
Create Date : 2011:04:16 20:46:29
Shutter Speed Value : 1/60
Exposure Compensation : -0.33
Max Aperture Value : 1.0
Metering Mode : Multi-segment
Exif Image Width : 950
Exif Image Height : 673
Related Image Width : 3620
Related Image Height : 2566
Profile Description : sRGB IEC61966-2.1
Creator Tool : Adobe Photoshop Lightroom 3.3
Version : 6.3
Process Version : 5.7
White Balance : Custom
Color Temperature : 5550
Tint : -4
Exposure : +0.69
Shadows : 0
Brightness : +50
Contrast : +25
Sharpness : 112
Luminance Smoothing : 0
Color Noise Reduction : 25
Chromatic Aberration R : 0
Chromatic Aberration B : 0
Vignette Amount : 0
Shadow Tint : 0
Red Hue : 0
Red Saturation : 0
Green Hue : 0
Green Saturation : 0
Blue Hue : 0
Blue Saturation : 0
Fill Light : 13
Highlight Recovery : 23
Clarity : +20
Defringe : 0
Gray Mixer Red : +29
Gray Mixer Orange : +4
Gray Mixer Yellow : -13
Gray Mixer Green : -19
Gray Mixer Aqua : -10
Gray Mixer Blue : +20
Gray Mixer Purple : +25
Gray Mixer Magenta : +28
Split Toning Shadow Hue : 37
Split Toning Shadow Saturation : 22
Split Toning Highlight Hue : 52
Split Toning Highlight Saturation : 64
Split Toning Balance : 0
Parametric Shadows : 0
Parametric Darks : -17
Parametric Lights : +28
Parametric Highlights : 0
Parametric Shadow Split : 25
Parametric Midtone Split : 50
Parametric Highlight Split : 75
Sharpen Radius : +1.1
Sharpen Detail : 25
Sharpen Edge Masking : 0
Post Crop Vignette Amount : 0
Grain Amount : 0
Color Noise Reduction Detail : 50
Lens Profile Enable : 0
Lens Manual Distortion Amount : 0
Perspective Vertical : 0
Perspective Horizontal : 0
Perspective Rotate : 0.0
Perspective Scale : 100
Convert To Grayscale : True
Tone Curve Name : Medium Contrast
Camera Profile : Adobe Standard
Lens Profile Setup : LensDefaults
Has Settings : True
Crop Top : 0.144796
Crop Left : 0.071307
Crop Bottom : 1
Crop Right : 0.976231
Crop Angle : 0
Crop Constrain To Warp : 0
Crop Width : 3620
Crop Height : 2566
Crop Unit : pixels
Has Crop : True
Already Applied : True
Tone Curve : 0, 0, 32, 22, 64, 56, 128, 128, 192, 196, 255, 255
Image Width : 300
Image Height : 213
Bits Per Sample : 8
Color Components : 3
Image Size : 300x213
Megapixels : 0.064
Shutter Speed : 1/60
Flash : No Flash