Uber Exif Photo
Keywords : Tennessee
Copyright Flag : False
Orientation : Horizontal (normal)
Software : Adobe Photoshop CS3 Windows
Modify Date : 2010:08:31 20:25:34
Color Space : Uncalibrated
Exif Image Width : 2070
Exif Image Height : 1417
Profile Description : ProPhoto RGB
Rating : 0
Create Date : 2010:08:31 20:25:12-05:00
Creator Tool : Adobe Photoshop CS3 Windows
Color Mode : RGB
ICC Profile Name : ProPhoto RGB
Format : image/jpeg
Raw File Name : Tn0810-035-2-Edit.jpg
Version : 4.6
White Balance : Custom
Incremental Temperature : 0
Incremental Tint : -7
Exposure : -0.15
Shadows : 0
Brightness : 0
Contrast : 0
Saturation : 0
Sharpness : 0
Luminance Smoothing : 0
Color Noise Reduction : 0
Chromatic Aberration R : 0
Chromatic Aberration B : 0
Vignette Amount : 0
Shadow Tint : 0
Red Hue : 0
Red Saturation : 0
Green Hue : 0
Green Saturation : 0
Blue Hue : 0
Blue Saturation : 0
Fill Light : 0
Vibrance : -6
Highlight Recovery : 53
Clarity : 0
Defringe : 0
Hue Adjustment Red : 0
Hue Adjustment Orange : 0
Hue Adjustment Yellow : 0
Hue Adjustment Green : 0
Hue Adjustment Aqua : 0
Hue Adjustment Blue : 0
Hue Adjustment Purple : 0
Hue Adjustment Magenta : 0
Saturation Adjustment Red : 0
Saturation Adjustment Orange : 0
Saturation Adjustment Yellow : 0
Saturation Adjustment Green : 0
Saturation Adjustment Aqua : 0
Saturation Adjustment Blue : 0
Saturation Adjustment Purple : 0
Saturation Adjustment Magenta : 0
Luminance Adjustment Red : 0
Luminance Adjustment Orange : 0
Luminance Adjustment Yellow : 0
Luminance Adjustment Green : 0
Luminance Adjustment Aqua : 0
Luminance Adjustment Blue : 0
Luminance Adjustment Purple : 0
Luminance Adjustment Magenta : 0
Split Toning Shadow Hue : 0
Split Toning Shadow Saturation : 0
Split Toning Highlight Hue : 0
Split Toning Highlight Saturation : 0
Split Toning Balance : 0
Parametric Shadows : 0
Parametric Darks : 0
Parametric Lights : 0
Parametric Highlights : 0
Parametric Shadow Split : 25
Parametric Midtone Split : 50
Parametric Highlight Split : 75
Sharpen Radius : +1.0
Sharpen Detail : 25
Sharpen Edge Masking : 0
Post Crop Vignette Amount : 0
Convert To Grayscale : False
Tone Curve Name : Linear
Camera Profile : Embedded
Has Settings : True
Has Crop : False
Already Applied : True
Hierarchical Subject : Tennessee
Subject : Tennessee
Tone Curve : 0, 0, 255, 255
Derived From :
Image Width : 300
Image Height : 205
Bits Per Sample : 8
Color Components : 3
Image Size : 300x205
Megapixels : 0.061