Uber Exif Photo
Make : SONY
Camera Model Name : DSC-R1
Modify Date : 2010:10:17 15:47:33
Exposure Time : 1/50
F Number : 4.8
Exposure Program : Shutter speed priority AE
ISO : 160
Sensitivity Type : Unknown
Date/Time Original : 2010:10:16 17:18:13
Create Date : 2010:10:16 17:18:13
Shutter Speed Value : 1/50
Aperture Value : 4.8
Exposure Compensation : -0.3
Max Aperture Value : 2.8
Metering Mode : Multi-segment
Light Source : Unknown
Focal Length : 58.1 mm
Scene Type : Directly photographed
Custom Rendered : Normal
Exposure Mode : Manual
White Balance : Auto
Scene Capture Type : Standard
Contrast : Normal
Saturation : Normal
Sharpness : Normal
Lens Info : 14.3-71.5mm f/2.8-4.8
Lens Model : 14.3-71.5 mm f/2.8-4.8
Profile Description : sRGB IEC61966-2.1
Date/Time Digitized : 2010:10:16 17:18:13+10:30
Exif Image Width : 850
Exif Image Height : 567
Creator Tool : Adobe Photoshop Lightroom
Lens : 14.3-71.5 mm f/2.8-4.8
Version : 6.2
Process Version : 5.7
Color Temperature : 5000
Tint : 0
Exposure : 0.00
Shadows : 5
Brightness : +50
Luminance Smoothing : 0
Color Noise Reduction : 25
Chromatic Aberration R : 0
Chromatic Aberration B : 0
Vignette Amount : -18
Vignette Midpoint : 50
Shadow Tint : 0
Red Hue : 0
Red Saturation : 0
Green Hue : 0
Green Saturation : 0
Blue Hue : 0
Blue Saturation : 0
Fill Light : 25
Vibrance : -20
Highlight Recovery : 0
Clarity : +57
Defringe : 0
Hue Adjustment Red : 0
Hue Adjustment Orange : 0
Hue Adjustment Yellow : 0
Hue Adjustment Green : 0
Hue Adjustment Aqua : 0
Hue Adjustment Blue : 0
Hue Adjustment Purple : 0
Hue Adjustment Magenta : 0
Saturation Adjustment Red : -15
Saturation Adjustment Orange : 0
Saturation Adjustment Yellow : 0
Saturation Adjustment Green : 0
Saturation Adjustment Aqua : 0
Saturation Adjustment Blue : 0
Saturation Adjustment Purple : 0
Saturation Adjustment Magenta : 0
Luminance Adjustment Red : -13
Luminance Adjustment Orange : 0
Luminance Adjustment Yellow : 0
Luminance Adjustment Green : 0
Luminance Adjustment Aqua : 0
Luminance Adjustment Blue : 0
Luminance Adjustment Purple : 0
Luminance Adjustment Magenta : 0
Split Toning Shadow Hue : 0
Split Toning Shadow Saturation : 0
Split Toning Highlight Hue : 0
Split Toning Highlight Saturation : 0
Split Toning Balance : 0
Parametric Shadows : -43
Parametric Darks : -31
Parametric Lights : -49
Parametric Highlights : +72
Parametric Shadow Split : 25
Parametric Midtone Split : 50
Parametric Highlight Split : 75
Sharpen Radius : +2.0
Sharpen Detail : 53
Sharpen Edge Masking : 0
Post Crop Vignette Amount : -66
Post Crop Vignette Midpoint : 24
Post Crop Vignette Feather : 91
Post Crop Vignette Roundness : +61
Post Crop Vignette Style : Highlight Priority
Post Crop Vignette Highlight Contrast : 100
Grain Amount : 0
Color Noise Reduction Detail : 50
Lens Profile Enable : 0
Lens Manual Distortion Amount : 0
Perspective Vertical : 0
Perspective Horizontal : 0
Perspective Rotate : 0.0
Perspective Scale : 78
Convert To Grayscale : False
Tone Curve Name : Medium Contrast
Camera Profile : Adobe Standard
Lens Profile Setup : LensDefaults
Has Settings : True
Has Crop : False
Already Applied : True
Flash Fired : False
Flash Return : No return detection
Flash Mode : Off
Flash Function : False
Flash Red Eye Mode : False
Tone Curve : 0, 0, 32, 22, 64, 56, 128, 128, 192, 196, 255, 255
Paint Correction What : Correction
Paint Correction Amount : 1.000000
Paint Correction Active : true
Paint Correction Exposure : -0.011765
Paint Correction Saturation : 0.000000
Paint Correction Contrast : 0.000000
Paint Correction Clarity : 0.000000
Paint Correction Sharpness : 0.000000
Paint Correction Brightness : -0.176471
Paint Correction Toning Hue : 0.000000
Paint Correction Toning Saturation : 0.000000
Paint Correction Mask What : Mask/Paint
Paint Correction Mask Value : 1.000000
Paint Correction Mask Radius : 0.075797
Paint Correction Mask Flow : 0.988621
Paint Correction Mask Center Weight : 0.024400
Image Width : 300
Image Height : 200
Bits Per Sample : 8
Color Components : 3
Aperture : 4.8
Image Size : 300x200
Megapixels : 0.060
Shutter Speed : 1/50
Flash : Off, Did not fire
Light Value : 9.5
Lens ID : 14.3-71.5mm f/2.8-4.8