Uber Exif Photo
Keywords : Adelaide, Port Adelaide, Sony DSC1, Victor Harbor, landscape, macro, parklands
Make : SONY
Camera Model Name : DSC-R1
Modify Date : 2010:08:27 15:46:18
Exposure Time : 1/30
F Number : 5.6
Exposure Program : Shutter speed priority AE
ISO : 160
Date/Time Original : 2010:05:30 14:32:07
Create Date : 2010:05:30 14:32:07
Shutter Speed Value : 1/30
Aperture Value : 5.6
Exposure Compensation : -0.3
Max Aperture Value : 2.8
Metering Mode : Multi-segment
Light Source : Unknown
Focal Length : 71.5 mm
Scene Type : Directly photographed
Custom Rendered : Normal
Exposure Mode : Manual
White Balance : Auto
Scene Capture Type : Standard
Contrast : Normal
Saturation : Normal
Sharpness : Normal
Profile Description : sRGB IEC61966-2.1
Date/Time Digitized : 2010:05:30 14:32:07+09:30
Exif Image Width : 1000
Exif Image Height : 766
Creator Tool : Adobe Photoshop Lightroom
Lens Info : 14.3-71.5mm f/2.8-4.8
Lens : 14.3-71.5 mm f/2.8-4.8
Version : 6.1
Process Version : 5.7
Color Temperature : 4800
Tint : 0
Exposure : +0.45
Shadows : 5
Brightness : +10
Luminance Smoothing : 0
Color Noise Reduction : 25
Chromatic Aberration R : 0
Chromatic Aberration B : 0
Vignette Amount : 0
Shadow Tint : 0
Red Hue : 0
Red Saturation : 0
Green Hue : 0
Green Saturation : 0
Blue Hue : 0
Blue Saturation : 0
Fill Light : 48
Vibrance : 0
Highlight Recovery : 0
Clarity : +48
Defringe : 0
Hue Adjustment Red : 0
Hue Adjustment Orange : 0
Hue Adjustment Yellow : 0
Hue Adjustment Green : 0
Hue Adjustment Aqua : 0
Hue Adjustment Blue : 0
Hue Adjustment Purple : 0
Hue Adjustment Magenta : 0
Saturation Adjustment Red : 0
Saturation Adjustment Orange : 0
Saturation Adjustment Yellow : 0
Saturation Adjustment Green : 0
Saturation Adjustment Aqua : 0
Saturation Adjustment Blue : 0
Saturation Adjustment Purple : 0
Saturation Adjustment Magenta : 0
Luminance Adjustment Red : 0
Luminance Adjustment Orange : -6
Luminance Adjustment Yellow : 0
Luminance Adjustment Green : 0
Luminance Adjustment Aqua : 0
Luminance Adjustment Blue : 0
Luminance Adjustment Purple : 0
Luminance Adjustment Magenta : 0
Split Toning Shadow Hue : 0
Split Toning Shadow Saturation : 0
Split Toning Highlight Hue : 0
Split Toning Highlight Saturation : 0
Split Toning Balance : 0
Parametric Shadows : +3
Parametric Darks : 0
Parametric Lights : -3
Parametric Highlights : -35
Parametric Shadow Split : 25
Parametric Midtone Split : 50
Parametric Highlight Split : 75
Sharpen Radius : +2.0
Sharpen Detail : 25
Sharpen Edge Masking : 0
Post Crop Vignette Amount : -66
Post Crop Vignette Midpoint : 36
Post Crop Vignette Feather : 61
Post Crop Vignette Roundness : -36
Post Crop Vignette Style : Highlight Priority
Post Crop Vignette Highlight Contrast : 45
Grain Amount : 0
Color Noise Reduction Detail : 50
Lens Profile Enable : 1
Lens Manual Distortion Amount : 0
Perspective Vertical : 0
Perspective Horizontal : 0
Perspective Rotate : 0.0
Perspective Scale : 100
Convert To Grayscale : False
Tone Curve Name : Medium Contrast
Camera Profile : Adobe Standard
Lens Profile Setup : Custom
Lens Profile Name : Adobe (Sony DT 18-200mm f/3.5-6.3)
Lens Profile Filename : DSLR-A700 (Sony DT 18-200mm f3.5-6.3) - RAW.lcp
Lens Profile Distortion Scale : 100
Lens Profile Chromatic Aberration Scale : 100
Lens Profile Vignetting Scale : 100
Has Settings : True
Crop Top : 0
Crop Left : 0.070862
Crop Bottom : 1
Crop Right : 0.940772
Crop Angle : 0
Crop Constrain To Warp : 0
Crop Width : 1000
Crop Height : 766
Crop Unit : pixels
Has Crop : True
Already Applied : True
Flash Fired : False
Flash Return : No return detection
Flash Mode : Off
Flash Function : False
Flash Red Eye Mode : False
Subject : Adelaide, Port Adelaide, Sony DSC1, Victor Harbor, landscape, macro, parklands
Tone Curve : 0, 0, 32, 22, 64, 56, 128, 128, 192, 196, 255, 255
Image Width : 300
Image Height : 230
Bits Per Sample : 8
Color Components : 3
Aperture : 5.6
Image Size : 300x230
Megapixels : 0.069
Shutter Speed : 1/30
Flash : Off, Did not fire
Light Value : 9.2
Lens ID : 14.3-71.5mm f/2.8-4.8