Uber Exif Photo
Keywords : Bridges, Japanese restaurants, Korean War Memorial, boats, driftwood, harley motorcycles, old farms, sunsets
By-line : Matt MacDonald
Copyright Notice : Matt MacDonald Photography
Make : NIKON CORPORATION
Camera Model Name : NIKON D300
Software : Ver.1.00
Modify Date : 2009:08:22 13:47:12
Artist : Matt MacDonald
Copyright : Matt MacDonald Photography
Exposure Time : 1/200
F Number : 11.0
Exposure Program : Aperture-priority AE
ISO : 400
Date/Time Original : 2009:07:19 16:31:50
Create Date : 2009:07:21 11:14:38
Shutter Speed Value : 1/200
Aperture Value : 11.0
Exposure Compensation : +1/3
Max Aperture Value : 1.0
Metering Mode : Multi-segment
Light Source : Fine Weather
Focal Length : 35.0 mm
Sensing Method : One-chip color area
Scene Type : Directly photographed
CFA Pattern : [Red,Green][Green,Blue]
Custom Rendered : Custom
Exposure Mode : Auto
White Balance : Manual
Digital Zoom Ratio : 1
Focal Length In 35mm Format : 52 mm
Scene Capture Type : Standard
Gain Control : Low gain up
Contrast : Normal
Saturation : Normal
Sharpness : Hard
Subject Distance Range : Unknown
Profile Description : Adobe RGB (1998)
Date/Time Digitized : 2009:07:21 11:14:38.51+09:00
Creator Tool : Adobe Photoshop Lightroom
Lens Info : 0mm f/0
Lens : 0.0 mm f/0.0
Image Number : 7927
Version : 1.0
Incremental Temperature : +14
Incremental Tint : -10
Exposure : +0.29
Shadows : 23
Brightness : +4
Luminance Smoothing : 65
Color Noise Reduction : 14
Chromatic Aberration R : 0
Chromatic Aberration B : 0
Vignette Amount : 0
Shadow Tint : 0
Red Hue : 0
Red Saturation : 0
Green Hue : 0
Green Saturation : 0
Blue Hue : 0
Blue Saturation : 0
Fill Light : 46
Vibrance : +19
Highlight Recovery : 27
Clarity : 49
Defringe : 0
Hue Adjustment Red : 0
Hue Adjustment Orange : 0
Hue Adjustment Yellow : 0
Hue Adjustment Green : 0
Hue Adjustment Aqua : 0
Hue Adjustment Blue : 0
Hue Adjustment Purple : 0
Hue Adjustment Magenta : 0
Saturation Adjustment Red : 0
Saturation Adjustment Orange : 0
Saturation Adjustment Yellow : 0
Saturation Adjustment Green : 0
Saturation Adjustment Aqua : 0
Saturation Adjustment Blue : 0
Saturation Adjustment Purple : 0
Saturation Adjustment Magenta : 0
Luminance Adjustment Red : 0
Luminance Adjustment Orange : 0
Luminance Adjustment Yellow : 0
Luminance Adjustment Green : 0
Luminance Adjustment Aqua : 0
Luminance Adjustment Blue : 0
Luminance Adjustment Purple : 0
Luminance Adjustment Magenta : 0
Split Toning Shadow Hue : 0
Split Toning Shadow Saturation : 0
Split Toning Highlight Hue : 0
Split Toning Highlight Saturation : 0
Split Toning Balance : 0
Parametric Shadows : -4
Parametric Darks : -1
Parametric Lights : +6
Parametric Highlights : +2
Parametric Shadow Split : 25
Parametric Midtone Split : 50
Parametric Highlight Split : 75
Sharpen Radius : +0.8
Sharpen Detail : 50
Sharpen Edge Masking : 100
Convert To Grayscale : False
Tone Curve Name : Linear
Camera Profile : Embedded
Has Settings : True
Crop Top : 0
Crop Left : 0.286996
Crop Bottom : 0.993244
Crop Right : 0.932735
Crop Angle : 0
Crop Width : 1000
Crop Height : 1022
Crop Unit : pixels
Has Crop : True
Already Applied : True
Flash Fired : False
Flash Return : No return detection
Flash Mode : Unknown
Flash Function : False
Flash Red Eye Mode : False
Creator Work Email : macmatt78@hotmail.com
Creator : Matt MacDonald
Rights : Matt MacDonald Photography
Subject : Bridges, Japanese restaurants, Korean War Memorial, boats, driftwood, harley motorcycles, old farms, sunsets
Tone Curve : 0, 0, 255, 255
Image Width : 300
Image Height : 294
Bits Per Sample : 8
Color Components : 3
Aperture : 11.0
Image Size : 300x294
Megapixels : 0.088
Scale Factor To 35 mm Equivalent : 1.5
Shutter Speed : 1/200
Create Date : 2009:07:21 11:14:38.51
Date/Time Original : 2009:07:19 16:31:50.82
Flash : No Flash
Circle Of Confusion : 0.020 mm
Field Of View : 38.2 deg
Focal Length : 35.0 mm (35 mm equivalent: 52.0 mm)
Hyperfocal Distance : 5.51 m
Light Value : 12.6
Lens ID : 0.0mm f/0.0