Uber Exif Photo
By-line : Matt MacDonald
Keywords : Antelope, Arches, Bryce, Coyottes National Parks., Las Vegas, Zion
Copyright Notice : Matt MacDonald Photography
Originating Program : Microsoft Windows Photo Gallery 6.0.6001.18000
Orientation : Horizontal (normal)
Software : Microsoft Windows Photo Gallery 6.0.6001.18000
Modify Date : 2010:08:11 15:22:46
Artist : Matt MacDonald
Copyright : Matt MacDonald Photography
Exif Image Width : 2064
Exif Image Height : 3100
Profile Description : Adobe RGB (1998)
Color Mode : RGB
ICC Profile Name : Adobe RGB (1998)
Color Space : Uncalibrated
Creator Tool : Microsoft Windows Photo Gallery 6.0.6001.18000
Create Date : 2010:08:11 07:27:41+09:00
Version : 5.2
White Balance : Custom
Incremental Temperature : +3
Incremental Tint : -3
Exposure : +0.38
Shadows : 7
Brightness : +54
Contrast : -34
Saturation : +2
Sharpness : 25
Luminance Smoothing : 0
Color Noise Reduction : 0
Chromatic Aberration R : 0
Chromatic Aberration B : 0
Vignette Amount : 0
Shadow Tint : 0
Red Hue : 0
Red Saturation : 0
Green Hue : 0
Green Saturation : 0
Blue Hue : 0
Blue Saturation : 0
Fill Light : 12
Vibrance : +29
Highlight Recovery : 100
Clarity : 0
Defringe : 0
Hue Adjustment Red : 0
Hue Adjustment Orange : 0
Hue Adjustment Yellow : 0
Hue Adjustment Green : 0
Hue Adjustment Aqua : 0
Hue Adjustment Blue : 0
Hue Adjustment Purple : 0
Hue Adjustment Magenta : 0
Saturation Adjustment Red : 0
Saturation Adjustment Orange : 0
Saturation Adjustment Yellow : 0
Saturation Adjustment Green : 0
Saturation Adjustment Aqua : 0
Saturation Adjustment Blue : 0
Saturation Adjustment Purple : 0
Saturation Adjustment Magenta : 0
Luminance Adjustment Red : 0
Luminance Adjustment Orange : 0
Luminance Adjustment Yellow : 0
Luminance Adjustment Green : 0
Luminance Adjustment Aqua : 0
Luminance Adjustment Blue : 0
Luminance Adjustment Purple : 0
Luminance Adjustment Magenta : 0
Split Toning Shadow Hue : 0
Split Toning Shadow Saturation : 0
Split Toning Highlight Hue : 0
Split Toning Highlight Saturation : 0
Split Toning Balance : 0
Parametric Shadows : 0
Parametric Darks : 0
Parametric Lights : 0
Parametric Highlights : 0
Parametric Shadow Split : 25
Parametric Midtone Split : 50
Parametric Highlight Split : 75
Sharpen Radius : +0.5
Sharpen Detail : 25
Sharpen Edge Masking : 100
Post Crop Vignette Amount : 0
Convert To Grayscale : False
Tone Curve Name : Medium Contrast
Camera Profile : Camera Landscape
Has Settings : True
Crop Top : 0.040201
Crop Left : 0.058394
Crop Bottom : 0.959799
Crop Right : 0.948905
Crop Angle : 0
Crop Width : 2064
Crop Height : 3100
Crop Unit : pixels
Has Crop : True
Already Applied : True
Format : image/jpeg
Tone Curve : 0, 0, 32, 22, 64, 56, 128, 128, 192, 196, 255, 255
Creator : Matt MacDonald
Rights : Matt MacDonald Photography
Subject : Antelope, Arches, Bryce, Coyottes National Parks., Las Vegas, Zion
Creator Work Email : macmatt78@hotmail.com
Creator Work URL : www.flickr.com/photos/matt_macdonald_shots/
Image Width : 200
Image Height : 300
Bits Per Sample : 8
Color Components : 3
Image Size : 200x300
Megapixels : 0.060