Uber Exif Photo
Keywords : Jeju 2009
By-line : Matt MacDonald Photography
Copyright Notice : Matt MacDonald Photography
Caption-Abstract : Jeju 2009
Image Description : Jeju 2009
Make : NIKON CORPORATION
Camera Model Name : NIKON D300
Software : Ver.1.00
Modify Date : 2009:06:06 20:23:22
Artist : Matt MacDonald Photography
Copyright : Matt MacDonald Photography
Exposure Time : 1/40
F Number : 11.0
Exposure Program : Manual
ISO : 100
Date/Time Original : 2009:05:31 15:02:04
Create Date : 2009:05:31 15:02:04
Shutter Speed Value : 1/40
Aperture Value : 11.0
Exposure Compensation : -2/3
Max Aperture Value : 1.0
Metering Mode : Multi-segment
Light Source : Fine Weather
Focal Length : 35.0 mm
Sensing Method : One-chip color area
Scene Type : Directly photographed
CFA Pattern : [Red,Green][Green,Blue]
Custom Rendered : Normal
Exposure Mode : Manual
White Balance : Manual
Digital Zoom Ratio : 1
Focal Length In 35mm Format : 52 mm
Scene Capture Type : Standard
Gain Control : None
Contrast : Normal
Saturation : High
Sharpness : Hard
Subject Distance Range : Unknown
Profile Description : Adobe RGB (1998)
Date/Time Digitized : 2009:05:31 15:02:04.51+09:00
Creator Tool : Adobe Photoshop Lightroom
Lens Info : 0mm f/0
Lens : 0.0 mm f/0.0
Image Number : 7644
Marked : True
Version : 1.0
Color Temperature : 5452
Tint : +7
Exposure : +0.38
Shadows : 20
Brightness : +50
Luminance Smoothing : 74
Color Noise Reduction : 31
Chromatic Aberration R : 0
Chromatic Aberration B : 0
Vignette Amount : 0
Shadow Tint : 0
Red Hue : 0
Red Saturation : 0
Green Hue : 0
Green Saturation : 0
Blue Hue : 0
Blue Saturation : 0
Fill Light : 30
Vibrance : +17
Highlight Recovery : 39
Clarity : 70
Defringe : 0
Hue Adjustment Red : 0
Hue Adjustment Orange : 0
Hue Adjustment Yellow : 0
Hue Adjustment Green : 0
Hue Adjustment Aqua : 0
Hue Adjustment Blue : 0
Hue Adjustment Purple : 0
Hue Adjustment Magenta : 0
Saturation Adjustment Red : 0
Saturation Adjustment Orange : 0
Saturation Adjustment Yellow : 0
Saturation Adjustment Green : 0
Saturation Adjustment Aqua : 0
Saturation Adjustment Blue : 0
Saturation Adjustment Purple : 0
Saturation Adjustment Magenta : 0
Luminance Adjustment Red : 0
Luminance Adjustment Orange : 0
Luminance Adjustment Yellow : 0
Luminance Adjustment Green : 0
Luminance Adjustment Aqua : 0
Luminance Adjustment Blue : 0
Luminance Adjustment Purple : 0
Luminance Adjustment Magenta : 0
Split Toning Shadow Hue : 0
Split Toning Shadow Saturation : 0
Split Toning Highlight Hue : 0
Split Toning Highlight Saturation : 0
Split Toning Balance : 0
Parametric Shadows : +5
Parametric Darks : +9
Parametric Lights : +12
Parametric Highlights : -3
Parametric Shadow Split : 25
Parametric Midtone Split : 50
Parametric Highlight Split : 75
Sharpen Radius : +0.8
Sharpen Detail : 50
Sharpen Edge Masking : 85
Convert To Grayscale : False
Tone Curve Name : Medium Contrast
Camera Profile : ACR 4.3
Has Settings : True
Has Crop : False
Already Applied : True
Flash Fired : False
Flash Return : No return detection
Flash Mode : Unknown
Flash Function : False
Flash Red Eye Mode : False
Creator Work Email : macmatt78@hotmail.com
Creator : Matt MacDonald Photography
Description : Jeju 2009
Rights : Matt MacDonald Photography
Subject : Jeju 2009
Tone Curve : 0, 0, 32, 22, 64, 56, 128, 128, 192, 196, 255, 255
Image Width : 300
Image Height : 199
Bits Per Sample : 8
Color Components : 3
Aperture : 11.0
Image Size : 300x199
Megapixels : 0.060
Scale Factor To 35 mm Equivalent : 1.5
Shutter Speed : 1/40
Create Date : 2009:05:31 15:02:04.51
Date/Time Original : 2009:05:31 15:02:04.51
Flash : No Flash
Circle Of Confusion : 0.020 mm
Field Of View : 38.2 deg
Focal Length : 35.0 mm (35 mm equivalent: 52.0 mm)
Hyperfocal Distance : 5.51 m
Light Value : 12.2
Lens ID : 0.0mm f/0.0