Uber Exif Photo
Make : Leica Camera AG
Camera Model Name : LEICA M10-P
Orientation : Horizontal (normal)
Software : Adobe Photoshop 23.5 (Macintosh)
Modify Date : 2022:09:29 19:29:28
Exposure Time : 1/125
F Number : 2.4
Exposure Program : Manual
ISO : 6400
Date/Time Original : 2022:09:29 06:08:23
Create Date : 2022:09:29 06:08:23
Shutter Speed Value : 1/125
Aperture Value : 2.4
Exposure Compensation : -2/3
Max Aperture Value : 1.4
Metering Mode : Multi-spot
Light Source : Unknown
Flash : No Flash
Focal Length : 50.0 mm
Color Space : Uncalibrated
Exif Image Width : 2400
Exif Image Height : 1504
Scene Type : Directly photographed
Custom Rendered : Normal
Exposure Mode : Manual
White Balance : Auto
Digital Zoom Ratio : 0
Scene Capture Type : Standard
Contrast : Normal
Saturation : Normal
Sharpness : Normal
Serial Number : 5332286
Lens Info : 50mm f/1.4
Lens Make : Leica Camera AG
Lens Model : Summilux-M 1:1.4/50 ASPH.
GPS Version ID : 2.2.0.0
GPS Latitude Ref : North
GPS Longitude Ref : West
GPS Altitude Ref : Above Sea Level
GPS Time Stamp : 10:08:21
GPS Status : Measurement Active
GPS Date Stamp : 2022:09:29
Profile Description : ProPhoto RGB
Date Created : 2022:09:29 06:08:23
Color Mode : RGB
ICC Profile Name : ProPhoto RGB
Creator Tool : 3.21.3.50
Rating : 0
Label :
Color Class : 0 (None)
Tagged : No
Prefs : Tagged:0, ColorClass:0, Rating:0, FrameNum:007263
PM Version : PM6
Image Number : 7263
Lens : Summilux-M 1:1.4/50 ASPH.
Approximate Focus Distance : 30.6
Distortion Correction Already Applied : True
Lateral Chromatic Aberration Correction Already Applied:
True
Preserved File Name : L1007263.DNG
Format : image/jpeg
Version : 14.5
Process Version : 11.0
Color Temperature : 5500
Tint : +10
Exposure 2012 : +0.65
Contrast 2012 : +5
Highlights 2012 : -29
Shadows 2012 : +45
Whites 2012 : -19
Blacks 2012 : 0
Texture : 0
Clarity 2012 : +12
Dehaze : +10
Vibrance : 0
Parametric Shadows : 0
Parametric Darks : 0
Parametric Lights : 0
Parametric Highlights : 0
Parametric Shadow Split : 25
Parametric Midtone Split : 50
Parametric Highlight Split : 75
Sharpen Radius : +1.0
Sharpen Detail : 25
Sharpen Edge Masking : 0
Luminance Smoothing : 25
Luminance Noise Reduction Detail : 50
Luminance Noise Reduction Contrast : 0
Color Noise Reduction : 45
Color Noise Reduction Detail : 50
Color Noise Reduction Smoothness : 50
Hue Adjustment Red : 0
Hue Adjustment Orange : 0
Hue Adjustment Yellow : 0
Hue Adjustment Green : 0
Hue Adjustment Aqua : 0
Hue Adjustment Blue : 0
Hue Adjustment Purple : 0
Hue Adjustment Magenta : 0
Saturation Adjustment Red : 0
Saturation Adjustment Orange : 0
Saturation Adjustment Yellow : 0
Saturation Adjustment Green : 0
Saturation Adjustment Aqua : 0
Saturation Adjustment Blue : 0
Saturation Adjustment Purple : 0
Saturation Adjustment Magenta : 0
Luminance Adjustment Red : 0
Luminance Adjustment Orange : 0
Luminance Adjustment Yellow : 0
Luminance Adjustment Green : 0
Luminance Adjustment Aqua : 0
Luminance Adjustment Blue : 0
Luminance Adjustment Purple : 0
Luminance Adjustment Magenta : 0
Split Toning Shadow Hue : 0
Split Toning Shadow Saturation : 0
Split Toning Highlight Hue : 0
Split Toning Highlight Saturation : 0
Split Toning Balance : 0
Color Grade Midtone Hue : 0
Color Grade Midtone Sat : 0
Color Grade Shadow Lum : 0
Color Grade Midtone Lum : 0
Color Grade Highlight Lum : 0
Color Grade Blending : 50
Color Grade Global Hue : 0
Color Grade Global Sat : 0
Color Grade Global Lum : 0
Auto Lateral CA : 1
Lens Profile Enable : 1
Lens Manual Distortion Amount : 0
Vignette Amount : 0
Defringe Purple Amount : 0
Defringe Purple Hue Lo : 30
Defringe Purple Hue Hi : 70
Defringe Green Amount : 0
Defringe Green Hue Lo : 40
Defringe Green Hue Hi : 60
Perspective Upright : Off
Perspective Vertical : 0
Perspective Horizontal : 0
Perspective Rotate : 0.0
Perspective Aspect : 0
Perspective Scale : 100
Perspective X : 0.00
Perspective Y : 0.00
Grain Amount : 0
Post Crop Vignette Amount : 0
Shadow Tint : 0
Red Hue : 0
Red Saturation : 0
Green Hue : 0
Green Saturation : 0
Blue Hue : 0
Blue Saturation : 0
Convert To Grayscale : False
Override Look Vignette : False
Tone Curve Name 2012 : Custom
Camera Profile : LEICA M10
Lens Profile Setup : LensDefaults
Lens Profile Name : Adobe (Leica SUMMILUX-M 50 mm f/1.4 ASPH.)
Lens Profile Filename : Leica Camera AG (Leica SUMMILUX-M 50 mm f1.4 ASPH.) - RAW.lcp
Lens Profile Is Embedded : False
Lens Profile Distortion Scale : 100
Lens Profile Vignetting Scale : 100
Has Settings : True
Has Crop : False
Already Applied : True
Tone Curve PV2012 : 0, 0, 15, 17, 255, 255
Tone Curve PV2012 Red : 0, 0, 255, 255
Tone Curve PV2012 Green : 0, 0, 255, 255
Tone Curve PV2012 Blue : 0, 0, 255, 255
Image Width : 400
Image Height : 251
Bits Per Sample : 8
Color Components : 3
Aperture : 2.4
Image Size : 400x251
Megapixels : 0.100
Scale Factor To 35 mm Equivalent : 2.5
Shutter Speed : 1/125
GPS Altitude : 14.1 m Above Sea Level
GPS Date/Time : 2022:09:29 10:08:21Z
GPS Latitude : 42 deg 21' 18.88" N
GPS Longitude : 71 deg 5' 51.81" W
Circle Of Confusion : 0.012 mm
Depth Of Field : 24.31 m (22.69 - 47.00 m)
Field Of View : 16.2 deg
Focal Length : 50.0 mm (35 mm equivalent: 126.3 mm)
GPS Position : 42 deg 21' 18.88" N, 71 deg 5' 51.81" W
Hyperfocal Distance : 87.56 m
Light Value : 3.5
Lens ID : Summilux-M 1:1.4/50 ASPH.