Uber Exif Photo
Province-State : Georgia
Country-Primary Location Name : USA
Country-Primary Location Code : USA
Object Name : LF4_7233
Keywords : Atlanta, Decatur, neighborhood, East Howard, East Trinity, night, dusk, 90mm, Leica, scaffold
By-line : Louie Favorite
Writer-Editor : LF
Caption-Abstract : January 22, 2022 - Decatur, Georgia, USA -
Special Instructions : shutter=
Copyright Notice : ©2021 Louie Favorite, Atlanta, Georgia, USA
Sub-location : 506
Copyright Flag : True
Make : Leica Camera AG
Camera Model Name : LEICA M10
Orientation : Horizontal (normal)
Software : Adobe Photoshop 22.5 (Macintosh)
Modify Date : 2022:01:23 09:34:05
Artist : Louie Favorite
Exposure Time : 1/1000
F Number : 2.0
Exposure Program : Manual
ISO : 3200
Date/Time Original : 2022:01:22 18:26:08
Create Date : 2022:01:22 18:26:08
Shutter Speed Value : 1/1000
Aperture Value : 2.0
Exposure Compensation : 0
Max Aperture Value : 2.0
Metering Mode : Multi-spot
Light Source : Unknown
Flash : No Flash
Focal Length : 90.0 mm
Color Space : Uncalibrated
Exif Image Width : 3000
Exif Image Height : 2000
Scene Type : Directly photographed
Custom Rendered : Normal
Exposure Mode : Manual
White Balance : Auto
Digital Zoom Ratio : 0
Scene Capture Type : Standard
Contrast : Normal
Saturation : Normal
Sharpness : Normal
Serial Number : 5230664
Lens Info : 90mm f/2
Lens Make : Leica Camera AG
Lens Model : Apo-Summicron-M 1:2/90 ASPH.
GPS Version ID : 2.2.0.0
GPS Altitude Ref : Above Sea Level
GPS Time Stamp : 23:27:01
GPS Status : Measurement Active
GPS Date Stamp : 2022:01:22
Color Mode : RGB
ICC Profile Name : Adobe RGB (1998)
City : Decatur
State : Georgia
Country : USA
Source : Apo-Summicron-M 1:2/90 ASPH. Leica Camera AG,90
Caption Writer : LF
Instructions : shutter=
Urgency : 5 (normal urgency)
Date Created : 2022:01:22 18:26:08
Creator Tool : 2.6.5.0
Label : Winner
Rating : 0
Lens : Apo-Summicron-M 1:2/90 ASPH.
Approximate Focus Distance : 6.2
Distortion Correction Already Applied : True
Lateral Chromatic Aberration Correction Already Applied:
True
Image Number : 7233
Format : image/jpeg
Version : 13.3
Process Version : 11.0
Color Temperature : 6200
Tint : +6
Exposure 2012 : +1.15
Contrast 2012 : +24
Highlights 2012 : +12
Shadows 2012 : +35
Whites 2012 : 0
Blacks 2012 : -28
Texture : 0
Clarity 2012 : +100
Dehaze : 0
Vibrance : +25
Parametric Shadows : 0
Parametric Darks : 0
Parametric Lights : 0
Parametric Highlights : 0
Parametric Shadow Split : 25
Parametric Midtone Split : 50
Parametric Highlight Split : 75
Sharpen Radius : +1.0
Sharpen Detail : 25
Sharpen Edge Masking : 0
Luminance Smoothing : 20
Luminance Noise Reduction Detail : 50
Luminance Noise Reduction Contrast : 0
Color Noise Reduction : 25
Color Noise Reduction Detail : 50
Color Noise Reduction Smoothness : 50
Hue Adjustment Red : 0
Hue Adjustment Orange : 0
Hue Adjustment Yellow : 0
Hue Adjustment Green : 0
Hue Adjustment Aqua : 0
Hue Adjustment Blue : 0
Hue Adjustment Purple : 0
Hue Adjustment Magenta : 0
Saturation Adjustment Red : 0
Saturation Adjustment Orange : 0
Saturation Adjustment Yellow : 0
Saturation Adjustment Green : 0
Saturation Adjustment Aqua : 0
Saturation Adjustment Blue : 0
Saturation Adjustment Purple : 0
Saturation Adjustment Magenta : 0
Luminance Adjustment Red : 0
Luminance Adjustment Orange : 0
Luminance Adjustment Yellow : 0
Luminance Adjustment Green : 0
Luminance Adjustment Aqua : 0
Luminance Adjustment Blue : 0
Luminance Adjustment Purple : 0
Luminance Adjustment Magenta : 0
Split Toning Shadow Hue : 0
Split Toning Shadow Saturation : 0
Split Toning Highlight Hue : 0
Split Toning Highlight Saturation : 0
Split Toning Balance : 0
Color Grade Midtone Hue : 0
Color Grade Midtone Sat : 0
Color Grade Shadow Lum : 0
Color Grade Midtone Lum : 0
Color Grade Highlight Lum : 0
Color Grade Blending : 50
Color Grade Global Hue : 0
Color Grade Global Sat : 0
Color Grade Global Lum : 0
Auto Lateral CA : 1
Lens Profile Enable : 1
Lens Manual Distortion Amount : 0
Vignette Amount : 0
Defringe Purple Amount : 0
Defringe Purple Hue Lo : 30
Defringe Purple Hue Hi : 70
Defringe Green Amount : 0
Defringe Green Hue Lo : 40
Defringe Green Hue Hi : 60
Perspective Upright : Off
Perspective Vertical : 0
Perspective Horizontal : 0
Perspective Rotate : 0.0
Perspective Aspect : 0
Perspective Scale : 100
Perspective X : 0.00
Perspective Y : 0.00
Grain Amount : 0
Post Crop Vignette Amount : 0
Shadow Tint : 0
Red Hue : 0
Red Saturation : 0
Green Hue : 0
Green Saturation : 0
Blue Hue : 0
Blue Saturation : 0
Override Look Vignette : False
Tone Curve Name 2012 : Linear
Camera Profile : Adobe Standard
Lens Profile Setup : LensDefaults
Lens Profile Name : Adobe (Leica APO-SUMMICRON-M 90 mm f/2 ASPH.)
Lens Profile Filename : Leica Camera AG (Leica APO-SUMMICRON-M 90 mm f2 ASPH.) - RAW.lcp
Lens Profile Is Embedded : False
Lens Profile Distortion Scale : 100
Lens Profile Vignetting Scale : 100
Has Settings : True
Already Applied : True
Marked : True
Web Statement : louiefavorite.com
Country Code : USA
Location : 506
Color Class : 1 (Winner)
Tagged : Yes
Prefs : Tagged:1, ColorClass:1, Rating:0, FrameNum:007233
PM Version : PM6
Supplemental Categories : serial #5230664
Subject : Atlanta, Decatur, neighborhood, East Howard, East Trinity, night, dusk, 90mm, Leica, scaffold
Description : January 22, 2022 - Decatur, Georgia, USA -
Creator : Louie Favorite
Title : LF4_7233
Rights : ©2021 Louie Favorite, Atlanta, Georgia, USA
Tone Curve PV2012 : 0, 0, 255, 255
Tone Curve PV2012 Red : 0, 0, 255, 255
Tone Curve PV2012 Green : 0, 0, 255, 255
Tone Curve PV2012 Blue : 0, 0, 255, 255
Look Name : Adobe Color
Look Amount : 1.000000
Look Supports Amount : false
Look Supports Monochrome : false
Look Supports Output Referred : false
Look Copyright : © 2018 Adobe Systems, Inc.
Look Group : Profiles
Look Parameters Version : 13.3
Look Parameters Process Version : 11.0
Look Parameters Convert To Grayscale : False
Look Parameters Camera Profile : Adobe Standard
Look Parameters Look Table : E1095149FDB39D7A057BAB208837E2E1
Look Parameters Tone Curve PV2012 : 0, 0, 22, 16, 40, 35, 127, 127, 224, 230, 240, 246, 255, 255
Look Parameters Tone Curve PV2012 Red : 0, 0, 255, 255
Look Parameters Tone Curve PV2012 Green : 0, 0, 255, 255
Look Parameters Tone Curve PV2012 Blue : 0, 0, 255, 255
Usage Terms : ©2021 Louie Favorite, Atlanta, Georgia, USA
Creator City : Atlanta
Creator Region : Georgia
Creator Postal Code : 30030
Creator Country : United States
Creator Work Telephone : 1+ 404-422-5511
Creator Work Email : lfavorite@mac.com
Creator Work URL : louiefavorite.com
Image Width : 400
Image Height : 267
Bits Per Sample : 8
Color Components : 3
Aperture : 2.0
Image Size : 400x267
Megapixels : 0.107
Scale Factor To 35 mm Equivalent : 2.0
Shutter Speed : 1/1000
GPS Altitude : 319.7 m Above Sea Level
GPS Date/Time : 2022:01:22 23:27:01Z
GPS Latitude : 33 deg 46' 23.10" N
GPS Longitude : 84 deg 17' 25.02" W
GPS Latitude Ref : North
GPS Longitude Ref : West
Circle Of Confusion : 0.015 mm
Depth Of Field : 0.28 m (6.06 - 6.34 m)
Field Of View : 11.5 deg
Focal Length : 90.0 mm (35 mm equivalent: 178.6 mm)
GPS Position : 33 deg 46' 23.10" N, 84 deg 17' 25.02" W
Hyperfocal Distance : 267.43 m
Light Value : 7.0
Lens ID : Apo-Summicron-M 1:2/90 ASPH.