Uber Exif Photo
Copyright Flag : False
Orientation : Horizontal (normal)
Software : Adobe Photoshop CS Windows
Modify Date : 2021:08:31 20:16:43
Color Space : sRGB
Exif Image Width : 3303
Exif Image Height : 2191
Profile Description : sRGB IEC61966-2.1
Version : 6.6
Process Version : 5.7
White Balance : Custom
Incremental Temperature : -5
Incremental Tint : -36
Exposure : -0.05
Shadows : 6
Brightness : -2
Contrast : 0
Sharpness : 19
Luminance Smoothing : 0
Color Noise Reduction : 0
Chromatic Aberration R : 0
Chromatic Aberration B : 0
Vignette Amount : 0
Shadow Tint : 0
Red Hue : 0
Red Saturation : 0
Green Hue : 0
Green Saturation : 0
Blue Hue : 0
Blue Saturation : 0
Fill Light : 0
Highlight Recovery : 18
Clarity : -13
Defringe : 0
Gray Mixer Red : -60
Gray Mixer Orange : -42
Gray Mixer Yellow : -60
Gray Mixer Green : -56
Gray Mixer Aqua : +63
Gray Mixer Blue : +54
Gray Mixer Purple : +44
Gray Mixer Magenta : +65
Split Toning Shadow Hue : 0
Split Toning Shadow Saturation : 0
Split Toning Highlight Hue : 0
Split Toning Highlight Saturation : 0
Split Toning Balance : 0
Parametric Shadows : -18
Parametric Darks : -9
Parametric Lights : +1
Parametric Highlights : +3
Parametric Shadow Split : 25
Parametric Midtone Split : 50
Parametric Highlight Split : 75
Sharpen Radius : +1.1
Sharpen Detail : 11
Sharpen Edge Masking : 0
Post Crop Vignette Amount : -15
Post Crop Vignette Midpoint : 48
Post Crop Vignette Feather : 48
Post Crop Vignette Roundness : 0
Post Crop Vignette Style : Highlight Priority
Post Crop Vignette Highlight Contrast : 0
Grain Amount : 0
Lens Profile Enable : 0
Lens Manual Distortion Amount : +3
Perspective Vertical : 0
Perspective Horizontal : 0
Perspective Rotate : +0.3
Perspective Scale : 101
Convert To Grayscale : True
Tone Curve Name : Linear
Camera Profile : Embedded
Lens Profile Setup : LensDefaults
Has Settings : True
Crop Top : 0
Crop Left : 0.033932
Crop Bottom : 0.986689
Crop Right : 0.928144
Crop Angle : 0
Crop Constrain To Warp : 0
Crop Width : 3827
Crop Height : 2535
Crop Unit : pixels
Has Crop : True
Already Applied : True
Tone Curve : 0, 0, 255, 255
Creator Tool : Adobe Photoshop CS Windows
Create Date : 2021:08:30 23:26:47+02:00
Format : image/jpeg
Image Width : 400
Image Height : 265
Bits Per Sample : 8
Color Components : 3
Image Size : 400x265
Megapixels : 0.106