Uber Exif Photo
By-line : Charles Zewe
Copyright Notice : Charles Zewe
Make : Leica Camera AG
Camera Model Name : LEICA M (Typ 240)
Orientation : Horizontal (normal)
Software : Adobe Photoshop Lightroom 6.14 (Macintosh)
Modify Date : 2021:08:04 14:50:18
Artist : Charles Zewe
Copyright : Charles Zewe
Exposure Time : 1/350
F Number : 22.0
Exposure Program : Aperture-priority AE
ISO : 500
Date/Time Original : 2021:06:20 16:07:35
Create Date : 2021:06:20 16:07:35
Shutter Speed Value : 1/350
Aperture Value : 22.0
Exposure Compensation : 0
Max Aperture Value : 4.0
Metering Mode : Multi-spot
Light Source : Unknown
Flash : No Flash
Focal Length : 35.0 mm
Color Space : sRGB
Exif Image Width : 1511
Exif Image Height : 1080
Scene Type : Directly photographed
Custom Rendered : Normal
Exposure Mode : Auto
White Balance : Auto
Digital Zoom Ratio : 0
Scene Capture Type : Standard
Contrast : Normal
Saturation : Normal
Sharpness : Hard
Serial Number : 4787932
Lens Info : 28-50mm f/4-22
Lens Make : Leica Camera AG
Lens Model : Tri-Elmar-M 1:4/28-35-50 ASPH.
Lens Serial Number : -------
Sharpen Detail : 52
Blacks 2012 : -96
Luminance Adjustment Orange : 0
Hue Adjustment Yellow : 0
Saturation Adjustment Blue : 0
Parametric Highlight Split : 75
Lens Profile Enable : 0
Split Toning Shadow Saturation : 0
Crop Angle : 0
Convert To Grayscale : False
Contrast 2012 : +14
Highlights 2012 : -100
Split Toning Highlight Hue : 0
Saturation Adjustment Aqua : 0
Perspective Scale : 100
Luminance Noise Reduction Contrast : 0
Perspective Vertical : 0
Parametric Shadow Split : 25
Luminance Adjustment Green : 0
Perspective Rotate : 0.0
Split Toning Shadow Hue : 0
Luminance Adjustment Yellow : 0
Shadows 2012 : +100
Lens Profile Setup : LensDefaults
Whites 2012 : +13
Perspective Horizontal : 0
Camera Profile : Adobe Standard
Saturation Adjustment Yellow : 0
Parametric Midtone Split : 50
Luminance Noise Reduction Detail : 50
Crop Top : 0
Parametric Highlights : 0
Defringe Green Amount : 0
Parametric Darks : 0
Sharpen Radius : +1.0
Vibrance : +5
Shadow Tint : 0
Has Crop : True
Luminance Smoothing : 22
Tone Curve Name 2012 : Linear
Split Toning Highlight Saturation : 0
Defringe Purple Hue Hi : 70
Crop Constrain To Warp : 0
Saturation Adjustment Orange : 0
Sharpen Edge Masking : 66
Color Temperature : 4750
Hue Adjustment Green : 0
Vignette Amount : 0
Blue Saturation : 0
Red Saturation : 0
Parametric Lights : 0
Red Hue : 0
Split Toning Balance : 0
Hue Adjustment Purple : 0
Dehaze : 0
Tone Curve Name : Linear
Color Noise Reduction Smoothness : 50
Color Noise Reduction Detail : 50
Exposure 2012 : +0.70
Saturation Adjustment Green : 0
Hue Adjustment Blue : 0
Crop Right : 0.861893
Luminance Adjustment Purple : 0
Perspective Y : 0.00
Perspective Aspect : 0
Perspective Upright : Off
Parametric Shadows : 0
Post Crop Vignette Amount : 0
Blue Hue : 0
Clarity 2012 : +2
Grain Amount : 0
Auto Lateral CA : 0
Hue Adjustment Aqua : 0
Process Version : 6.7
Tint : -2
Already Applied : True
Auto White Version : 134348800
Luminance Adjustment Blue : 0
Tone Map Strength : 0
Luminance Adjustment Red : 0
Color Noise Reduction : 25
Green Hue : 0
Hue Adjustment Magenta : 0
Has Settings : True
Saturation Adjustment Red : 0
Hue Adjustment Red : 0
Hue Adjustment Orange : 0
Lens Manual Distortion Amount : 0
Green Saturation : 0
Crop Left : 0.100545
Defringe Purple Hue Lo : 30
Defringe Green Hue Hi : 60
Saturation Adjustment Purple : 0
Saturation Adjustment Magenta : 0
Luminance Adjustment Aqua : 0
Version : 10.1
Perspective X : 0.00
Defringe Green Hue Lo : 40
Defringe Purple Amount : 0
Crop Bottom : 0.814578
Luminance Adjustment Magenta : 0
Creator Tool : Adobe Photoshop Lightroom 6.14 (Macintosh)
Lens : Tri-Elmar-M 1:4/28-35-50 ASPH.
Format : image/jpeg
Marked : True
Date Created : 2021:06:20 16:07:35
Tone Curve Blue : 0, 0, 255, 255
Tone Curve Green : 0, 0, 255, 255
Tone Curve PV2012 Red : 0, 0, 255, 255
Tone Curve PV2012 : 0, 0, 255, 255
Tone Curve : 0, 0, 255, 255
Tone Curve Red : 0, 0, 255, 255
Tone Curve PV2012 Green : 0, 0, 255, 255
Tone Curve PV2012 Blue : 0, 0, 255, 255
Creator Region : LA
Creator Work Telephone : 504-251-5400
Creator Country : USA
Creator City : New Orleans
Creator Postal Code : 70124
Creator Work Email : czewe@bellsouth.net
Creator : Charles Zewe
Rights : Charles Zewe
Usage Terms : With written permission from Charles Zewe
Image Width : 400
Image Height : 286
Bits Per Sample : 8
Color Components : 3
Aperture : 22.0
Image Size : 400x286
Megapixels : 0.114
Scale Factor To 35 mm Equivalent : 3.9
Shutter Speed : 1/350
Circle Of Confusion : 0.008 mm
Field Of View : 15.2 deg
Focal Length : 35.0 mm (35 mm equivalent: 134.8 mm)
Hyperfocal Distance : 7.14 m
Light Value : 15.0