Uber Exif Photo
Keywords : Siem Reap
By-line : Graham Berry
Copyright Notice : Graham Berry
Copyright Flag : True
Make : Leica Camera AG
Camera Model Name : M9 Digital Camera
Software : Adobe Photoshop Lightroom Classic 10.3 (Macintosh)
Modify Date : 2021:08:04 19:23:21
Artist : Graham Berry
Copyright : Graham Berry
Exposure Time : 1/350
F Number : 2.0
Exposure Program : Aperture-priority AE
ISO : 200
Date/Time Original : 2015:09:23 09:36:12
Create Date : 2015:09:23 09:36:12
Shutter Speed Value : 1/350
Aperture Value : 2.0
Exposure Compensation : 0
Max Aperture Value : 1.4
Metering Mode : Center-weighted average
Light Source : Unknown
Flash : No Flash
Focal Length : 50.0 mm
Contrast : Normal
Sharpening : Normal
Saturation : Normal
White Balance : Auto
JPEG Quality : Fine
WB RGB Levels : 0.4663156397 1 0.7717381065
User Profile :
JPEG Size : 5216x3472
Firmware Version : 1.196
Base ISO : 160
Sensor Width : 5270
Sensor Height : 3516
Sensor Bit Depth : 14
Camera Temperature : 24 C
Lens Type : Summilux-M 50mm f/1.4 ASPH.
Approximate F Number : 2.0
Measured LV : 5.07
External Sensor Brightness Value : 3.11
Color Space : sRGB
Scene Type : Directly photographed
Exposure Mode : Manual
Digital Zoom Ratio : 0
Focal Length In 35mm Format : 50 mm
Scene Capture Type : Standard
Serial Number : 4253984
Lens Model : Leica Summilux-M 50mm f/1.4 ASPH.
Maker Note Safety : Safe
Profile Description : sRGB IEC61966-2.1
Creator Tool : Adobe Photoshop Lightroom Classic 10.3 (Macintosh)
Lens : Leica Summilux-M 50mm f/1.4 ASPH.
Date Created : 2015:09:23 09:36:12
Preserved File Name : L9082185.dng
Format : image/jpeg
Marked : True
Photographic Sensitivity : 200
Raw File Name :
Version : 13.3
Process Version : 6.7
Color Temperature : 4800
Tint : -2
Exposure 2012 : 0.00
Contrast 2012 : -24
Highlights 2012 : +18
Shadows 2012 : +47
Whites 2012 : 0
Blacks 2012 : -23
Texture : 0
Clarity 2012 : +71
Dehaze : 0
Vibrance : 0
Parametric Shadows : 0
Parametric Darks : 0
Parametric Lights : 0
Parametric Highlights : 0
Parametric Shadow Split : 25
Parametric Midtone Split : 50
Parametric Highlight Split : 75
Sharpness : 147
Sharpen Radius : +1.0
Sharpen Detail : 25
Sharpen Edge Masking : 0
Luminance Smoothing : 43
Luminance Noise Reduction Detail : 50
Luminance Noise Reduction Contrast : 0
Color Noise Reduction : 25
Color Noise Reduction Detail : 50
Color Noise Reduction Smoothness : 50
Hue Adjustment Red : 0
Hue Adjustment Orange : 0
Hue Adjustment Yellow : 0
Hue Adjustment Green : 0
Hue Adjustment Aqua : 0
Hue Adjustment Blue : 0
Hue Adjustment Purple : 0
Hue Adjustment Magenta : 0
Saturation Adjustment Red : 0
Saturation Adjustment Orange : 0
Saturation Adjustment Yellow : 0
Saturation Adjustment Green : 0
Saturation Adjustment Aqua : 0
Saturation Adjustment Blue : 0
Saturation Adjustment Purple : 0
Saturation Adjustment Magenta : 0
Luminance Adjustment Red : 0
Luminance Adjustment Orange : 0
Luminance Adjustment Yellow : 0
Luminance Adjustment Green : 0
Luminance Adjustment Aqua : 0
Luminance Adjustment Blue : 0
Luminance Adjustment Purple : 0
Luminance Adjustment Magenta : 0
Split Toning Shadow Hue : 0
Split Toning Shadow Saturation : 0
Split Toning Highlight Hue : 0
Split Toning Highlight Saturation : 0
Split Toning Balance : 0
Color Grade Midtone Hue : 0
Color Grade Midtone Sat : 0
Color Grade Shadow Lum : 0
Color Grade Midtone Lum : 0
Color Grade Highlight Lum : 0
Color Grade Blending : 50
Color Grade Global Hue : 0
Color Grade Global Sat : 0
Color Grade Global Lum : 0
Auto Lateral CA : 0
Lens Profile Enable : 0
Lens Manual Distortion Amount : 0
Vignette Amount : 0
Defringe Purple Amount : 0
Defringe Purple Hue Lo : 30
Defringe Purple Hue Hi : 70
Defringe Green Amount : 0
Defringe Green Hue Lo : 40
Defringe Green Hue Hi : 60
Perspective Upright : Off
Perspective Vertical : 0
Perspective Horizontal : 0
Perspective Rotate : 0.0
Perspective Aspect : 0
Perspective Scale : 100
Perspective X : 0.00
Perspective Y : 0.00
Grain Amount : 0
Post Crop Vignette Amount : 0
Shadow Tint : 0
Red Hue : 0
Red Saturation : 0
Green Hue : 0
Green Saturation : 0
Blue Hue : 0
Blue Saturation : 0
Convert To Grayscale : False
Override Look Vignette : False
Tone Curve Name 2012 : Linear
Camera Profile : Adobe Standard
Has Settings : True
Crop Top : 0.082718
Crop Left : 0.184508
Crop Bottom : 0.868813
Crop Right : 0.969917
Crop Angle : -0.886549
Crop Constrain To Warp : 0
Has Crop : True
Already Applied : True
Creator : Graham Berry
Rights : Graham Berry
Subject : Siem Reap
Creator Postal Code : 448908
Creator Region : Singapore
Creator Country : Singapore
Creator City : Singapore
Creator Address : 5 Siglap Road -#18-37
Creator Work Email : berry.singapore@gmail.com
Tone Curve PV2012 : 0, 0, 255, 255
Tone Curve PV2012 Red : 0, 0, 255, 255
Tone Curve PV2012 Green : 0, 0, 255, 255
Tone Curve PV2012 Blue : 0, 0, 255, 255
Image Width : 400
Image Height : 276
Bits Per Sample : 8
Color Components : 3
Aperture : 2.0
Blue Balance : 0.771738
Image Size : 400x276
Lens ID : Leica Summilux-M 50mm f/1.4 ASPH.
Megapixels : 0.110
Red Balance : 0.466316
Scale Factor To 35 mm Equivalent : 1.0
Shutter Speed : 1/350
Modify Date : 2021:08:04 19:23:21+01:00
Circle Of Confusion : 0.030 mm
Field Of View : 39.6 deg
Focal Length : 50.0 mm (35 mm equivalent: 50.0 mm)
Hyperfocal Distance : 41.60 m
Light Value : 9.5