Uber Exif Photo
By-line : Charles Zewe
Copyright Notice : Charles Zewe
Photometric Interpretation : RGB
Make : Leica Camera AG
Camera Model Name : LEICA M (Typ 240)
Orientation : Horizontal (normal)
Software : Adobe Photoshop Elements 11.0 Macintosh
Modify Date : 2021:08:04 10:21:14
Artist : Charles Zewe
Copyright : Charles Zewe
Exposure Time : 1/500
F Number : 16.0
Exposure Program : Aperture-priority AE
ISO : 1000
Date/Time Original : 2018:04:20 13:26:18
Create Date : 2018:04:20 13:26:18
Shutter Speed Value : 1/500
Aperture Value : 16.0
Exposure Compensation : 0
Max Aperture Value : 4.0
Metering Mode : Center-weighted average
Light Source : Unknown
Flash : No Flash
Focal Length : 50.0 mm
Color Space : sRGB
Exif Image Width : 1518
Exif Image Height : 1080
Scene Type : Directly photographed
Custom Rendered : Normal
Exposure Mode : Auto
White Balance : Auto
Digital Zoom Ratio : 0
Scene Capture Type : Standard
Contrast : High
Saturation : High
Sharpness : Hard
Lens Info : 28-50mm f/4-22
Lens Make : Leica Camera AG
Lens Model : Tri-Elmar-M 1:4/28-35-50 ASPH.
Lens Serial Number : -------
Sharpen Detail : 25
Blacks 2012 : -100
Luminance Adjustment Orange : 0
Hue Adjustment Yellow : 0
Saturation Adjustment Blue : 0
Parametric Highlight Split : 75
Lens Profile Enable : 0
Split Toning Shadow Saturation : 0
Crop Angle : 0
Convert To Grayscale : False
Contrast 2012 : +26
Highlights 2012 : -100
Split Toning Highlight Hue : 0
Saturation Adjustment Aqua : 0
Perspective Scale : 100
Perspective Vertical : 0
Parametric Shadow Split : 25
Luminance Adjustment Green : 0
Perspective Rotate : 0.0
Split Toning Shadow Hue : 0
Luminance Adjustment Yellow : 0
Shadows 2012 : +100
Lens Profile Setup : LensDefaults
Whites 2012 : +34
Perspective Horizontal : 0
Camera Profile : Embedded
Saturation Adjustment Yellow : 0
Parametric Midtone Split : 50
Crop Top : 0
Parametric Highlights : 0
Defringe Green Amount : 0
Parametric Darks : 0
Incremental Tint : 0
Sharpen Radius : +1.0
Vibrance : 0
Shadow Tint : 0
Has Crop : True
Luminance Smoothing : 0
Tone Curve Name 2012 : Linear
Split Toning Highlight Saturation : 0
Defringe Purple Hue Hi : 70
Crop Constrain To Warp : 0
Saturation Adjustment Orange : 0
Sharpen Edge Masking : 0
Hue Adjustment Green : 0
Vignette Amount : 0
Blue Saturation : 0
Red Saturation : 0
Parametric Lights : 0
Red Hue : 0
Split Toning Balance : 0
Hue Adjustment Purple : 0
Dehaze : 0
Tone Curve Name : Linear
Exposure 2012 : +0.05
Saturation Adjustment Green : 0
Hue Adjustment Blue : 0
Crop Right : 0.867953
Luminance Adjustment Purple : 0
Perspective Y : 0.00
Perspective Aspect : 0
Perspective Upright : Off
Parametric Shadows : 0
Post Crop Vignette Amount : 0
Blue Hue : 0
Clarity 2012 : 0
Grain Amount : 0
Auto Lateral CA : 0
Hue Adjustment Aqua : 0
Process Version : 6.7
Already Applied : True
Auto White Version : 134348800
Luminance Adjustment Blue : 0
Tone Map Strength : 0
Luminance Adjustment Red : 0
Incremental Temperature : 0
Color Noise Reduction : 0
Green Hue : 0
Hue Adjustment Magenta : 0
Has Settings : True
Saturation Adjustment Red : 0
Hue Adjustment Red : 0
Hue Adjustment Orange : 0
Lens Manual Distortion Amount : 0
Green Saturation : 0
Crop Left : 0.123168
Defringe Purple Hue Lo : 30
Defringe Green Hue Hi : 60
Saturation Adjustment Purple : 0
Saturation Adjustment Magenta : 0
Luminance Adjustment Aqua : 0
Version : 9.9
Perspective X : 0.00
Defringe Green Hue Lo : 40
Defringe Purple Amount : 0
Crop Bottom : 0.822215
Luminance Adjustment Magenta : 0
Creator Tool : Adobe Photoshop Elements 11.0 Macintosh
ICC Profile Name : sRGB IEC61966-2.1
Date Created : 2018:04:20 13:26:18
Color Mode : RGB
Lens : Tri-Elmar-M 1:4/28-35-50 ASPH.
Format : image/jpeg
Marked : True
Tone Curve Blue : 0, 0, 255, 255
Tone Curve Green : 0, 0, 255, 255
Tone Curve PV2012 Red : 0, 0, 255, 255
Tone Curve PV2012 : 0, 0, 255, 255
Tone Curve : 0, 0, 255, 255
Tone Curve Red : 0, 0, 255, 255
Tone Curve PV2012 Green : 0, 0, 255, 255
Tone Curve PV2012 Blue : 0, 0, 255, 255
Creator Region : LA
Creator Work Telephone : 504-251-5400
Creator Country : USA
Creator City : New Orleans
Creator Postal Code : 70124
Creator Work Email : czewe@bellsouth.net
Creator : Charles Zewe
Rights : Charles Zewe
Usage Terms : With written permission from Charles Zewe
Image Width : 400
Image Height : 285
Bits Per Sample : 8
Color Components : 3
Aperture : 16.0
Image Size : 400x285
Megapixels : 0.114
Shutter Speed : 1/500
Light Value : 13.6