Uber Exif Photo
By-line : Charles Zewe
Copyright Notice : Charles Zewe
Photometric Interpretation : RGB
Make : LEICA
Camera Model Name : D-LUX 4
Orientation : Horizontal (normal)
Software : Adobe Photoshop Elements 11.0 Macintosh
Modify Date : 2021:08:04 09:11:45
Artist : Charles Zewe
Copyright : Charles Zewe
Exposure Time : 1/800
F Number : 4.0
Exposure Program : Landscape
ISO : 80
Date/Time Original : 2013:05:26 11:24:08
Create Date : 2013:05:26 11:24:08
Shutter Speed Value : 1/800
Aperture Value : 4.0
Exposure Compensation : 0
Max Aperture Value : 2.0
Metering Mode : Multi-segment
Light Source : Unknown
Flash : Off, Did not fire
Focal Length : 5.1 mm
Color Space : sRGB
Exif Image Width : 1920
Exif Image Height : 848
Sensing Method : One-chip color area
Luminance Adjustment Green : 0
Hue Adjustment Green : 0
Saturation Adjustment Yellow : 0
Parametric Darks : 0
Perspective Scale : 100
Clarity 2012 : +10
Hue Adjustment Magenta : 0
Color Noise Reduction : 0
Perspective Upright : Off
Has Crop : False
Hue Adjustment Aqua : 0
Red Saturation : 0
Parametric Shadows : 0
Hue Adjustment Orange : 0
White Balance : As Shot
Hue Adjustment Yellow : 0
Split Toning Shadow Saturation : 0
Lens Manual Distortion Amount : 0
Tone Curve Name : Linear
Luminance Noise Reduction Contrast : 0
Shadows 2012 : +100
Hue Adjustment Blue : 0
Luminance Adjustment Magenta : 0
Convert To Grayscale : False
Blacks 2012 : -61
Luminance Smoothing : 15
Tone Curve Name 2012 : Linear
Highlights 2012 : -100
Luminance Adjustment Yellow : 0
Incremental Tint : 0
Parametric Midtone Split : 50
Perspective Aspect : 0
Shadow Tint : 0
Hue Adjustment Red : 0
Split Toning Highlight Saturation : 0
Split Toning Shadow Hue : 0
Has Settings : True
Lens Profile Setup : LensDefaults
Defringe Purple Hue Hi : 70
Saturation Adjustment Orange : 0
Defringe Purple Hue Lo : 30
Post Crop Vignette Amount : 0
Split Toning Balance : 0
Lens Profile Enable : 0
Vignette Amount : 0
Perspective Rotate : 0.0
Process Version : 6.7
Saturation Adjustment Purple : 0
Saturation Adjustment Green : 0
Vibrance : +9
Parametric Highlights : 0
Parametric Shadow Split : 25
Luminance Adjustment Purple : 0
Luminance Adjustment Orange : 0
Green Hue : 0
Perspective Vertical : 0
Sharpness : 12
Green Saturation : 0
Perspective Horizontal : 0
Luminance Noise Reduction Detail : 50
Blue Saturation : 0
Sharpen Detail : 25
Blue Hue : 0
Luminance Adjustment Aqua : 0
Parametric Highlight Split : 75
Auto Lateral CA : 0
Incremental Temperature : 0
Red Hue : 0
Split Toning Highlight Hue : 0
Camera Profile : Embedded
Saturation Adjustment Aqua : 0
Saturation Adjustment Red : 0
Defringe Purple Amount : 0
Parametric Lights : 0
Sharpen Radius : +1.0
Luminance Adjustment Blue : 0
Luminance Adjustment Red : 0
Hue Adjustment Purple : 0
Auto White Version : 134348800
Saturation Adjustment Blue : 0
Saturation : +13
Contrast 2012 : +24
Already Applied : True
Defringe Green Hue Hi : 60
Grain Amount : 0
Version : 8.6
Defringe Green Amount : 0
Whites 2012 : +62
Defringe Green Hue Lo : 40
Sharpen Edge Masking : 0
Exposure 2012 : +0.05
Saturation Adjustment Magenta : 0
Creator Tool : Adobe Photoshop Elements 11.0 Macintosh
Marked : True
Format : image/jpeg
ICC Profile Name : sRGB IEC61966-2.1
Date Created : 2013:05:26 11:24:08
Color Mode : RGB
Tone Curve PV2012 Red : 0, 0, 255, 255
Tone Curve PV2012 Green : 0, 0, 255, 255
Tone Curve PV2012 : 0, 0, 255, 255
Tone Curve Green : 0, 0, 255, 255
Tone Curve Red : 0, 0, 255, 255
Tone Curve Blue : 0, 0, 255, 255
Tone Curve : 0, 0, 255, 255
Tone Curve PV2012 Blue : 0, 0, 255, 255
Creator Region : LA
Creator Work Telephone : 504-251-5400
Creator Country : USA
Creator City : New Orleans
Creator Postal Code : 70124
Creator Work Email : czewe@bellsouth.net
Usage Terms : With written permission from Charles Zewe
Creator : Charles Zewe
Rights : Charles Zewe
Image Width : 400
Image Height : 177
Bits Per Sample : 8
Color Components : 3
Aperture : 4.0
Image Size : 400x177
Megapixels : 0.071
Shutter Speed : 1/800
Light Value : 14.0