Uber Exif Photo
Photometric Interpretation : RGB
Make : LEICA CAMERA AG
Camera Model Name : D-Lux 7
Orientation : Horizontal (normal)
Samples Per Pixel : 3
Software : Adobe Photoshop 22.4 (Windows)
Modify Date : 2021:06:26 16:29:51
Exposure Time : 1/1250
F Number : 9.0
Exposure Program : Aperture-priority AE
ISO : 200
Date/Time Original : 2021:06:26 10:24:04
Create Date : 2021:06:26 10:24:04
Shutter Speed Value : 1/1250
Aperture Value : 9.0
Exposure Compensation : -0.33
Max Aperture Value : 2.8
Metering Mode : Multi-segment
Light Source : Unknown
Flash : Off, Did not fire
Focal Length : 33.7 mm
Color Space : sRGB
Exif Image Width : 2100
Exif Image Height : 1500
Sensing Method : One-chip color area
Scene Type : Directly photographed
Custom Rendered : Custom
Exposure Mode : Auto
White Balance : Auto
Digital Zoom Ratio : 0
Focal Length In 35mm Format : 75 mm
Scene Capture Type : Standard
Gain Control : Low gain up
Contrast : Normal
Saturation : Normal
Sharpness : Normal
Profile Description : sRGB IEC61966-2.1
Creator Tool : Adobe Photoshop Lightroom Classic 10.3 (Windows)
Preserved File Name : L1013020.RWL
Date Created : 2021:06:26 10:24:04.816-08:00
Color Mode : RGB
ICC Profile Name : sRGB IEC61966-2.1
Format : image/jpeg
Raw File Name : L1013020.RWL
Version : 13.3
Process Version : 11.0
Color Temperature : 5550
Tint : +25
Exposure 2012 : 0.00
Contrast 2012 : -7
Highlights 2012 : +61
Shadows 2012 : +2
Whites 2012 : +7
Blacks 2012 : -60
Texture : +21
Clarity 2012 : +11
Dehaze : +5
Parametric Shadows : 0
Parametric Darks : 0
Parametric Lights : 0
Parametric Highlights : 0
Parametric Shadow Split : 25
Parametric Midtone Split : 50
Parametric Highlight Split : 75
Sharpen Radius : +1.0
Sharpen Detail : 25
Sharpen Edge Masking : 0
Luminance Smoothing : 0
Color Noise Reduction : 25
Color Noise Reduction Detail : 50
Color Noise Reduction Smoothness : 50
Gray Mixer Red : +7
Gray Mixer Orange : 0
Gray Mixer Yellow : 0
Gray Mixer Green : +3
Gray Mixer Aqua : 0
Gray Mixer Blue : 0
Gray Mixer Purple : 0
Gray Mixer Magenta : 0
Split Toning Shadow Hue : 0
Split Toning Shadow Saturation : 0
Split Toning Highlight Hue : 0
Split Toning Highlight Saturation : 0
Split Toning Balance : 0
Color Grade Midtone Hue : 0
Color Grade Midtone Sat : 0
Color Grade Shadow Lum : 0
Color Grade Midtone Lum : 0
Color Grade Highlight Lum : 0
Color Grade Blending : 50
Color Grade Global Hue : 0
Color Grade Global Sat : 0
Color Grade Global Lum : 0
Auto Lateral CA : 0
Lens Profile Enable : 0
Lens Manual Distortion Amount : 0
Vignette Amount : 0
Perspective Upright : Auto
Perspective Vertical : 0
Perspective Horizontal : 0
Perspective Rotate : 0.0
Perspective Aspect : 0
Perspective Scale : 100
Perspective X : 0.00
Perspective Y : 0.00
Grain Amount : 0
Post Crop Vignette Amount : 0
Shadow Tint : 0
Red Hue : 0
Red Saturation : 0
Green Hue : 0
Green Saturation : 0
Blue Hue : 0
Blue Saturation : 0
Override Look Vignette : False
Tone Curve Name 2012 : Linear
Camera Profile : Adobe Standard v2
Has Settings : True
Crop Top : 0
Crop Left : 0.106952
Crop Bottom : 0.889483
Crop Right : 0.996435
Crop Angle : 0
Crop Constrain To Warp : 1
Has Crop : True
Already Applied : True
Lateral Chromatic Aberration Correction Already Applied:
True
Tone Curve PV2012 : 0, 0, 255, 255
Tone Curve PV2012 Red : 0, 0, 255, 255
Tone Curve PV2012 Green : 0, 0, 255, 255
Tone Curve PV2012 Blue : 0, 0, 255, 255
Look Name : B&W 03
Look Amount : 0.980000
Look Cluster : Adobe
Look Supports Monochrome : false
Look Sort Name : B&W 03
Look Group : B&W
Look Parameters Version : 13.3
Look Parameters Process Version : 11.0
Look Parameters Contrast 2012 : +57
Look Parameters Clarity 2012 : +8
Look Parameters Convert To Grayscale : True
Look Parameters Look Table : 62CE423BDCA099FE0B786CA01EB606B0
Look Parameters Tone Curve PV2012 : 0, 0, 29, 25, 128, 128, 192, 196, 255, 255
Look Parameters Tone Curve PV2012 Red : 0, 0, 255, 255
Look Parameters Tone Curve PV2012 Green : 0, 0, 255, 255
Look Parameters Tone Curve PV2012 Blue : 0, 0, 255, 255
Image Width : 400
Image Height : 286
Bits Per Sample : 8
Color Components : 1
Aperture : 9.0
Image Size : 400x286
Megapixels : 0.114
Scale Factor To 35 mm Equivalent : 2.2
Shutter Speed : 1/1250
Create Date : 2021:06:26 10:24:04.816-08:00
Date/Time Original : 2021:06:26 10:24:04.816-08:00
Modify Date : 2021:06:26 16:29:51-04:00
Circle Of Confusion : 0.014 mm
Field Of View : 27.0 deg
Focal Length : 33.7 mm (35 mm equivalent: 75.0 mm)
Hyperfocal Distance : 9.35 m
Light Value : 15.6