Uber Exif Photo
Photometric Interpretation : RGB
Make : LEICA CAMERA AG
Camera Model Name : D-Lux 7
Orientation : Horizontal (normal)
Samples Per Pixel : 3
Software : Adobe Photoshop 22.3 (Windows)
Modify Date : 2021:04:27 13:02:56
Exposure Time : 1/25
F Number : 2.8
Exposure Program : Aperture-priority AE
ISO : 1600
Date/Time Original : 2021:04:26 17:34:31
Create Date : 2021:04:26 17:34:31
Shutter Speed Value : 1/25
Aperture Value : 2.8
Exposure Compensation : -1
Max Aperture Value : 2.8
Metering Mode : Multi-segment
Light Source : Unknown
Flash : Off, Did not fire
Focal Length : 24.5 mm
Color Space : sRGB
Exif Image Width : 4441
Exif Image Height : 3331
Sensing Method : One-chip color area
Scene Type : Directly photographed
Custom Rendered : Custom
Exposure Mode : Auto
White Balance : Auto
Digital Zoom Ratio : 0
Focal Length In 35mm Format : 54 mm
Scene Capture Type : Standard
Gain Control : High gain up
Contrast : High
Saturation : Normal
Sharpness : Normal
Profile Description : sRGB IEC61966-2.1
Creator Tool : Adobe Photoshop Lightroom Classic 10.2 (Windows)
Preserved File Name : L1012909.RWL
Date Created : 2021:04:26 17:34:31.052-08:00
Color Mode : RGB
ICC Profile Name : sRGB IEC61966-2.1
Format : image/jpeg
Raw File Name : L1012909.RWL
Version : 13.2
Process Version : 11.0
Color Temperature : 3300
Tint : +11
Exposure 2012 : 0.00
Contrast 2012 : 0
Highlights 2012 : -12
Shadows 2012 : +33
Whites 2012 : 0
Blacks 2012 : +40
Texture : 0
Clarity 2012 : +28
Dehaze : 0
Parametric Shadows : 0
Parametric Darks : 0
Parametric Lights : 0
Parametric Highlights : 0
Parametric Shadow Split : 25
Parametric Midtone Split : 50
Parametric Highlight Split : 75
Sharpen Radius : +1.0
Sharpen Detail : 25
Sharpen Edge Masking : 0
Luminance Smoothing : 0
Color Noise Reduction : 25
Color Noise Reduction Detail : 50
Color Noise Reduction Smoothness : 50
Split Toning Shadow Hue : 0
Split Toning Shadow Saturation : 0
Split Toning Highlight Hue : 0
Split Toning Highlight Saturation : 0
Split Toning Balance : 0
Color Grade Midtone Hue : 0
Color Grade Midtone Sat : 0
Color Grade Shadow Lum : 0
Color Grade Midtone Lum : 0
Color Grade Highlight Lum : 0
Color Grade Blending : 50
Color Grade Global Hue : 0
Color Grade Global Sat : 0
Color Grade Global Lum : 0
Auto Lateral CA : 0
Lens Profile Enable : 0
Lens Manual Distortion Amount : 0
Vignette Amount : 0
Perspective Upright : Auto
Perspective Vertical : 0
Perspective Horizontal : 0
Perspective Rotate : 0.0
Perspective Aspect : 0
Perspective Scale : 100
Perspective X : 0.00
Perspective Y : 0.00
Grain Amount : 0
Post Crop Vignette Amount : 0
Shadow Tint : 0
Red Hue : 0
Red Saturation : 0
Green Hue : 0
Green Saturation : 0
Blue Hue : 0
Blue Saturation : 0
Convert To Grayscale : True
Override Look Vignette : False
Tone Curve Name 2012 : Linear
Camera Profile : Camera Monochrome v2
Has Settings : True
Crop Top : 0.0205
Crop Left : 0.056596
Crop Bottom : 0.958111
Crop Right : 0.994206
Crop Angle : 0
Crop Constrain To Warp : 1
Has Crop : True
Already Applied : True
Distortion Correction Already Applied : True
Lateral Chromatic Aberration Correction Already Applied:
True
Tone Curve PV2012 : 0, 0, 255, 255
Tone Curve PV2012 Red : 0, 0, 255, 255
Tone Curve PV2012 Green : 0, 0, 255, 255
Tone Curve PV2012 Blue : 0, 0, 255, 255
Paint Correction What : Correction
Paint Correction Amount : 1.000000
Paint Correction Active : true
Paint Correction Hue : 0.000000
Paint Correction Saturation : 0.000000
Paint Correction Sharpness : 0.000000
Paint Correction Brightness : 0.000000
Paint Correction Toning Hue : 0.000000
Paint Correction Toning Saturation : 0.000000
Paint Correction Exposure 2012 : 0.546250
Paint Correction Contrast 2012 : 0.000000
Paint Correction Highlights 2012 : 0.000000
Paint Correction Shadows 2012 : 0.000000
Paint Correction Whites 2012 : 0.000000
Paint Correction Blacks 2012 : 0.000000
Paint Correction Clarity 2012 : 0.361340
Paint Correction Dehaze : 0.000000
Paint Correction Luminance Noise : 0.000000
Paint Correction Moire : 0.000000
Paint Correction Defringe : 0.000000
Paint Correction Temperature : 0.000000
Paint Correction Tint : 0.000000
Paint Correction Texture : 0.000000
Paint Correction Mask What : Mask/Paint
Paint Correction Mask Value : 0.713000
Paint Correction Mask Radius : 0.036116
Paint Correction Mask Flow : 1.000000
Paint Correction Mask Center Weight : 0.129896
Paint Correction Range Mask Version : +2
Paint Correction Range Mask Type : 0
Paint Correction Range Mask Color Amount : 0.500000
Paint Correction Range Mask Lum Min : 0.000000
Paint Correction Range Mask Lum Max : 1.000000
Paint Correction Range Mask Lum Feather : 0.500000
Paint Correction Range Mask Depth Min : 0.000000
Paint Correction Range Mask Depth Max : 1.000000
Paint Correction Range Mask Depth Feather : 0.500000
Image Width : 400
Image Height : 300
Bits Per Sample : 8
Color Components : 3
Aperture : 2.8
Image Size : 400x300
Megapixels : 0.120
Scale Factor To 35 mm Equivalent : 2.2
Shutter Speed : 1/25
Create Date : 2021:04:26 17:34:31.520-08:00
Date/Time Original : 2021:04:26 17:34:31.520-08:00
Modify Date : 2021:04:27 13:02:56-04:00
Circle Of Confusion : 0.014 mm
Field Of View : 36.9 deg
Focal Length : 24.5 mm (35 mm equivalent: 54.0 mm)
Hyperfocal Distance : 15.73 m
Light Value : 3.6