Uber Exif Photo
Province-State : Georgia
Country-Primary Location Name : United States
Country-Primary Location Code : USA
Object Name : LF4_4585
Keywords : neighborhood, neighbor, Pate, Decatur, dog, Boomer, smoke, cigarette, coronavirus, COVID-19, Novel Coronavirus, social distance
By-line : Louie Favorite
Writer-Editor : LF
Caption-Abstract : April 8, 2020 - Decatur, Georgia - Meeting neighbors while social distancing.
Copyright Notice : ©2020 Louie Favorite, Atlanta, Georgia, USA
Copyright Flag : True
URL : louiefavorite.com
Make : Leica Camera AG
Camera Model Name : LEICA M10
Orientation : Horizontal (normal)
Software : Adobe Photoshop 21.1 (Macintosh)
Modify Date : 2020:04:08 20:22:50
Artist : Louie Favorite
Copyright : ©2020 Louie Favorite, Atlanta, Georgia, USA
Exposure Time : 1/350
F Number : 1.4
Exposure Program : Aperture-priority AE
ISO : 800
Date/Time Original : 2020:04:08 19:13:44
Create Date : 2020:04:08 19:13:44
Shutter Speed Value : 1/350
Aperture Value : 1.7
Exposure Compensation : 0
Max Aperture Value : 1.4
Metering Mode : Center-weighted average
Light Source : Unknown
Flash : No Flash
Focal Length : 35.0 mm
Color Space : Uncalibrated
Exif Image Width : 2000
Exif Image Height : 1334
Scene Type : Directly photographed
Custom Rendered : Normal
Exposure Mode : Auto
White Balance : Auto
Digital Zoom Ratio : 0
Scene Capture Type : Standard
Contrast : Normal
Saturation : Normal
Sharpness : Normal
Serial Number : 5230664
Lens Info : 35mm f/1.4
Lens Make : Leica Camera AG
Lens Model : Summilux-M 1:1.4/35 ASPH.
GPS Version ID : 2.2.0.0
Creator Tool : 2.6.5.0
Rating : 0
Format : image/jpeg
Lens : Summilux-M 1:1.4/35 ASPH.
Approximate Focus Distance : 8.41
Distortion Correction Already Applied : True
Lateral Chromatic Aberration Correction Already Applied:
True
Image Number : 4585
Color Class : 0 (None)
Tagged : Yes
Prefs : Tagged:1, ColorClass:0, Rating:0, FrameNum:004585
PM Version : PM6
Color Mode : RGB
ICC Profile Name : Adobe RGB (1998)
City : Decatur
State : Georgia
Country : United States
Source : Summilux-M 1:1.4/35 ASPH. Leica Camera AG,35
Caption Writer : LF
Urgency : 5 (normal urgency)
Date Created : 2020:04:08 19:13:44
Version : 12.2
Process Version : 11.0
Color Temperature : 5050
Tint : +17
Luminance Smoothing : 10
Color Noise Reduction : 25
Vignette Amount : 0
Shadow Tint : 0
Red Hue : 0
Red Saturation : 0
Green Hue : 0
Green Saturation : 0
Blue Hue : 0
Blue Saturation : 0
Vibrance : 0
Hue Adjustment Red : 0
Hue Adjustment Orange : 0
Hue Adjustment Yellow : 0
Hue Adjustment Green : 0
Hue Adjustment Aqua : 0
Hue Adjustment Blue : 0
Hue Adjustment Purple : 0
Hue Adjustment Magenta : 0
Saturation Adjustment Red : 0
Saturation Adjustment Orange : 0
Saturation Adjustment Yellow : 0
Saturation Adjustment Green : 0
Saturation Adjustment Aqua : 0
Saturation Adjustment Blue : 0
Saturation Adjustment Purple : 0
Saturation Adjustment Magenta : 0
Luminance Adjustment Red : 0
Luminance Adjustment Orange : 0
Luminance Adjustment Yellow : 0
Luminance Adjustment Green : 0
Luminance Adjustment Aqua : 0
Luminance Adjustment Blue : 0
Luminance Adjustment Purple : 0
Luminance Adjustment Magenta : 0
Split Toning Shadow Hue : 0
Split Toning Shadow Saturation : 0
Split Toning Highlight Hue : 0
Split Toning Highlight Saturation : 0
Split Toning Balance : 0
Parametric Shadows : 0
Parametric Darks : 0
Parametric Lights : 0
Parametric Highlights : 0
Parametric Shadow Split : 25
Parametric Midtone Split : 50
Parametric Highlight Split : 75
Sharpen Radius : +1.0
Sharpen Detail : 25
Sharpen Edge Masking : 0
Post Crop Vignette Amount : 0
Grain Amount : 0
Luminance Noise Reduction Detail : 50
Color Noise Reduction Detail : 50
Luminance Noise Reduction Contrast : 0
Color Noise Reduction Smoothness : 50
Lens Profile Enable : 1
Lens Manual Distortion Amount : 0
Perspective Vertical : 0
Perspective Horizontal : 0
Perspective Rotate : 0.0
Perspective Scale : 100
Perspective Aspect : 0
Perspective Upright : Off
Perspective X : 0.00
Perspective Y : 0.00
Auto Lateral CA : 1
Exposure 2012 : +1.00
Contrast 2012 : +12
Highlights 2012 : -53
Shadows 2012 : +18
Whites 2012 : -26
Blacks 2012 : -6
Clarity 2012 : +30
Defringe Purple Amount : 0
Defringe Purple Hue Lo : 30
Defringe Purple Hue Hi : 70
Defringe Green Amount : 0
Defringe Green Hue Lo : 40
Defringe Green Hue Hi : 60
Dehaze : +13
Texture : +12
Tone Map Strength : 0
Convert To Grayscale : False
Override Look Vignette : False
Tone Curve Name : Medium Contrast
Tone Curve Name 2012 : Linear
Camera Profile : Adobe Standard
Lens Profile Setup : LensDefaults
Lens Profile Name : Adobe (Leica SUMMILUX-M 35 mm f/1.4 ASPH.)
Lens Profile Filename : Leica Camera AG (Leica SUMMILUX-M 35 mm f1.4 ASPH.) - RAW.lcp
Lens Profile Distortion Scale : 100
Lens Profile Chromatic Aberration Scale : 100
Lens Profile Vignetting Scale : 100
Has Settings : True
Already Applied : True
Marked : True
Web Statement : louiefavorite.com
Country Code : USA
Subject : neighborhood, neighbor, Pate, Decatur, dog, Boomer, smoke, cigarette, coronavirus, COVID-19, Novel Coronavirus, social distance
Description : April 8, 2020 - Decatur, Georgia - Meeting neighbors while social distancing.
Creator : Louie Favorite
Title : LF4_4585
Rights : ©2020 Louie Favorite, Atlanta, Georgia, USA
Supplemental Categories : serial #5230664
Tone Curve : 0, 0, 32, 22, 64, 56, 128, 128, 192, 196, 255, 255
Tone Curve Red : 0, 0, 255, 255
Tone Curve Green : 0, 0, 255, 255
Tone Curve Blue : 0, 0, 255, 255
Tone Curve PV2012 : 0, 0, 255, 255
Tone Curve PV2012 Red : 0, 0, 255, 255
Tone Curve PV2012 Green : 0, 0, 255, 255
Tone Curve PV2012 Blue : 0, 0, 255, 255
Look Name : Adobe Landscape
Look Amount : 1.000000
Look Supports Amount : false
Look Supports Monochrome : false
Look Supports Output Referred : false
Look Copyright : © 2018 Adobe Systems, Inc.
Look Group : Profiles
Look Parameters Version : 12.2
Look Parameters Process Version : 11.0
Look Parameters Highlights 2012 : -12
Look Parameters Shadows 2012 : +12
Look Parameters Clarity 2012 : +10
Look Parameters Convert To Grayscale : False
Look Parameters Camera Profile : Adobe Standard
Look Parameters Look Table : 0B3BFB5CFB7DBF7FF175E98F24D316B0
Look Parameters Tone Curve PV2012 : 0, 0, 64, 60, 128, 128, 192, 196, 255, 255
Usage Terms : ©2020 Louie Favorite, Atlanta, Georgia, USA
Creator City : Atlanta
Creator Region : Georgia
Creator Postal Code : 30030
Creator Country : United States
Creator Work Telephone : 1+ 404-422-5511
Creator Work Email : lfavorite@mac.com
Creator Work URL : louiefavorite.com
Image Width : 400
Image Height : 267
Bits Per Sample : 8
Color Components : 3
Aperture : 1.4
Image Size : 400x267
Megapixels : 0.107
Scale Factor To 35 mm Equivalent : 3.0
Shutter Speed : 1/350
GPS Latitude : 33 deg 46' 24.30" N
GPS Longitude : 84 deg 17' 26.40" W
GPS Latitude Ref : North
GPS Longitude Ref : West
Circle Of Confusion : 0.010 mm
Depth Of Field : 1.64 m (7.67 - 9.31 m)
Field Of View : 19.6 deg
Focal Length : 35.0 mm (35 mm equivalent: 104.1 mm)
GPS Position : 33 deg 46' 24.30" N, 84 deg 17' 26.40" W
Hyperfocal Distance : 86.65 m
Light Value : 6.4
Lens ID : Summilux-M 1:1.4/35 ASPH.