Uber Exif Photo
Make : Leica Camera AG
Camera Model Name : LEICA M (Typ 240)
Software : Adobe Photoshop Lightroom Classic 8.4 (Macintosh)
Modify Date : 2019:09:21 03:52:07
Exposure Time : 1/125
F Number : 2.8
Exposure Program : Aperture-priority AE
ISO : 800
Date/Time Original : 2016:05:22 06:19:06
Create Date : 2016:05:22 06:19:06
Shutter Speed Value : 1/125
Aperture Value : 2.8
Exposure Compensation : -0.664
Max Aperture Value : 2.0
Metering Mode : Multi-spot
Light Source : Unknown
Flash : No Flash
Focal Length : 75.0 mm
Color Space : Uncalibrated
Scene Type : Directly photographed
Exposure Mode : Auto
White Balance : Auto
Digital Zoom Ratio : 0
Scene Capture Type : Standard
Contrast : Normal
Saturation : Normal
Sharpness : Normal
Serial Number : 4698394
Lens Info : 75mm f/2-16
Lens Model : Apo-Summicron-M 1:2/75 ASPH .
Lens Serial Number : -------
GPS Version ID : 2.2.0.0
GPS Altitude Ref : Above Sea Level
GPS Status : Measurement Void
GPS Dilution Of Precision : 0
GPS Speed : 0
GPS Track : 0
Profile Description : Adobe RGB (1998)
Lens : Apo-Summicron-M 1:2/75 ASPH .
Already Applied : True
Auto Lateral CA : 0
Auto White Version : 134348800
Blacks 2012 : -31
Blue Hue : 0
Blue Saturation : 0
Camera Profile : Adobe Standard
Clarity 2012 : +13
Color Noise Reduction : 25
Color Noise Reduction Detail : 50
Color Noise Reduction Smoothness : 50
Contrast 2012 : +4
Convert To Grayscale : False
Crop Angle : 0
Crop Bottom : 0.608519
Crop Constrain To Warp : 0
Crop Left : 0.172773
Crop Right : 0.802321
Crop Top : 0.092009
Defringe Green Amount : 0
Defringe Green Hue Hi : 60
Defringe Green Hue Lo : 40
Defringe Purple Amount : 0
Defringe Purple Hue Hi : 70
Defringe Purple Hue Lo : 30
Exposure 2012 : +0.10
Grain Amount : 0
Green Hue : 0
Green Saturation : 0
Has Crop : True
Has Settings : True
Highlights 2012 : -100
Hue Adjustment Aqua : 0
Hue Adjustment Blue : 0
Hue Adjustment Green : 0
Hue Adjustment Magenta : 0
Hue Adjustment Orange : 0
Hue Adjustment Purple : 0
Hue Adjustment Red : 0
Hue Adjustment Yellow : +5
Lens Manual Distortion Amount : 0
Lens Profile Enable : 0
Lens Profile Setup : LensDefaults
Luminance Adjustment Aqua : 0
Luminance Adjustment Blue : 0
Luminance Adjustment Green : 0
Luminance Adjustment Magenta : 0
Luminance Adjustment Orange : 0
Luminance Adjustment Purple : 0
Luminance Adjustment Red : 0
Luminance Adjustment Yellow : 0
Luminance Smoothing : 0
Parametric Darks : +5
Parametric Highlight Split : 75
Parametric Highlights : +6
Parametric Lights : 0
Parametric Midtone Split : 50
Parametric Shadow Split : 25
Parametric Shadows : +32
Perspective Aspect : 0
Perspective Horizontal : 0
Perspective Rotate : 0.0
Perspective Scale : 100
Perspective Upright : Off
Perspective Vertical : 0
Post Crop Vignette Amount : 0
Process Version : 6.7
Red Hue : 0
Red Saturation : 0
Saturation Adjustment Aqua : 0
Saturation Adjustment Blue : 0
Saturation Adjustment Green : +14
Saturation Adjustment Magenta : 0
Saturation Adjustment Orange : 0
Saturation Adjustment Purple : 0
Saturation Adjustment Red : 0
Saturation Adjustment Yellow : +80
Shadow Tint : 0
Shadows 2012 : +100
Sharpen Detail : 25
Sharpen Edge Masking : 0
Sharpen Radius : +1.0
Split Toning Balance : 0
Split Toning Highlight Hue : 0
Split Toning Highlight Saturation : 0
Split Toning Shadow Hue : 0
Split Toning Shadow Saturation : 0
Color Temperature : 2850
Tint : -21
Tone Curve Name : Linear
Tone Curve Name 2012 : Linear
Version : 8.7.1
Vibrance : +3
Vignette Amount : 0
Whites 2012 : +51
Format : image/jpeg
Creator Tool : Adobe Photoshop Lightroom Classic 8.4 (Macintosh)
Date Created : 2016:05:22 06:19:06
Photographic Sensitivity : 800
Tone Curve : 0, 0, 255, 255
Tone Curve Blue : 0, 0, 255, 255
Tone Curve Green : 0, 0, 255, 255
Tone Curve PV2012 : 0, 0, 255, 255
Tone Curve PV2012 Blue : 0, 0, 255, 255
Tone Curve PV2012 Green : 0, 0, 255, 255
Tone Curve PV2012 Red : 0, 0, 255, 255
Tone Curve Red : 0, 0, 255, 255
Image Width : 400
Image Height : 219
Bits Per Sample : 8
Color Components : 3
Aperture : 2.8
Image Size : 400x219
Megapixels : 0.088
Scale Factor To 35 mm Equivalent : 15.7
Shutter Speed : 1/125
Modify Date : 2019:09:21 03:52:07+08:00
GPS Altitude : 0 m Above Sea Level
Circle Of Confusion : 0.002 mm
Field Of View : 1.8 deg
Focal Length : 75.0 mm (35 mm equivalent: 1176.5 mm)
Hyperfocal Distance : 1048.81 m
Light Value : 6.9
Lens ID : Apo-Summicron-M 1:2/75 ASPH .