Uber Exif Photo
Province-State : Georgia
Country-Primary Location Name : United States
Country-Primary Location Code : USA
Keywords : back light, flare, man, cigarette, downtown, smoke, Peachtree Street, Atlanta, Leica, M9
By-line : Louie Favorite
Writer-Editor : LF
Caption-Abstract : January 20, 2017 - Atlanta, Georgia
Copyright Notice : ©2017 Louie Favorite, Atlanta, Georgia, USA
Copyright Flag : True
URL : louiefavorite.com
Image Description : January 20, 2017 - Atlanta, Georgia
Make : Leica Camera AG
Camera Model Name : M9 Digital Camera
Orientation : Horizontal (normal)
Modify Date : 2019:07:23 20:19:29
Artist : Louie Favorite
GPS Version ID : 2.2.0.0
Maker Note Safety : Safe
Exposure Time : 1/4000
F Number : 2.8
Exposure Program : Aperture-priority AE
ISO : 160
Date/Time Original : 2017:01:20 16:07:17
Create Date : 2017:01:20 16:07:17
Shutter Speed Value : 1/4000
Aperture Value : 2.8
Exposure Compensation : -0.332
Max Aperture Value : 2.0
Metering Mode : Center-weighted average
Light Source : Unknown
Flash : No Flash
Focal Length : 35.0 mm
Color Space : Uncalibrated
Exif Image Width : 2000
Exif Image Height : 1331
Scene Type : Directly photographed
Exposure Mode : Manual
White Balance : Auto
Digital Zoom Ratio : 0
Focal Length In 35mm Format : 35 mm
Scene Capture Type : Standard
Creator Tool : 1.202
Rating : 0
Serial Number : 4206096
Lens : Leica Summicron-M 35mm f/2 (IV)
Image Number : 9711
Format : image/jpeg
Photographic Sensitivity : 160
Lens Model : Leica Summicron-M 35mm f/2 (IV)
Color Mode : Grayscale
ICC Profile Name : Gray Gamma 2.2
City : Atlanta
State : Georgia
Country : United States
Credit : Louie Favorite
Source : Leica Camera AG / M9 Digital Cam
Caption Writer : LF
Urgency : 5 (normal urgency)
Date Created : 2017:01:20 16:07:17
Country Code : USA
Version : 11.3.1
Process Version : 11.0
Color Temperature : 4700
Tint : -2
Sharpness : 40
Luminance Smoothing : 0
Color Noise Reduction : 25
Vignette Amount : 0
Shadow Tint : 0
Red Hue : 0
Red Saturation : 0
Green Hue : 0
Green Saturation : 0
Blue Hue : 0
Blue Saturation : 0
Gray Mixer Red : 0
Gray Mixer Orange : 0
Gray Mixer Yellow : 0
Gray Mixer Green : 0
Gray Mixer Aqua : 0
Gray Mixer Blue : 0
Gray Mixer Purple : 0
Gray Mixer Magenta : 0
Split Toning Shadow Hue : 0
Split Toning Shadow Saturation : 0
Split Toning Highlight Hue : 0
Split Toning Highlight Saturation : 0
Split Toning Balance : 0
Parametric Shadows : 0
Parametric Darks : 0
Parametric Lights : 0
Parametric Highlights : 0
Parametric Shadow Split : 25
Parametric Midtone Split : 50
Parametric Highlight Split : 75
Sharpen Radius : +1.0
Sharpen Detail : 25
Sharpen Edge Masking : 0
Post Crop Vignette Amount : 0
Grain Amount : 0
Color Noise Reduction Detail : 50
Color Noise Reduction Smoothness : 50
Lens Profile Enable : 0
Lens Manual Distortion Amount : 0
Perspective Vertical : 0
Perspective Horizontal : 0
Perspective Rotate : 0.0
Perspective Scale : 100
Perspective Aspect : 0
Perspective Upright : Off
Perspective X : 0.00
Perspective Y : 0.00
Auto Lateral CA : 0
Exposure 2012 : +1.90
Contrast 2012 : 0
Highlights 2012 : -72
Shadows 2012 : +47
Whites 2012 : -61
Blacks 2012 : 0
Clarity 2012 : +38
Dehaze : +28
Texture : +25
Tone Map Strength : 0
Convert To Grayscale : True
Override Look Vignette : False
Tone Curve Name : Medium Contrast
Tone Curve Name 2012 : Linear
Camera Profile : Adobe Standard
Lens Profile Setup : LensDefaults
Has Settings : True
Already Applied : True
Raw File Name : backlit smoker03.dng
Marked : True
Web Statement : louiefavorite.com
Color Class : 0 (None)
Tagged : No
Prefs : Tagged:0, ColorClass:0, Rating:0, FrameNum:009711
PM Version : PM5
Subject : back light, flare, man, cigarette, downtown, smoke, Peachtree Street, Atlanta, Leica, M9
Description : January 20, 2017 - Atlanta, Georgia
Creator : Louie Favorite
Rights : ©2017 Louie Favorite, Atlanta, Georgia, USA
Supplemental Categories : L1009711.jpg, 5216 X 3472
Creator City : Atlanta
Creator Region : Georgia
Creator Country : United States
Creator Work Telephone : 1+ 404-422-5511
Creator Work Email : lfavorite@mac.com
Creator Work URL : louiefavorite.com
Tone Curve : 0, 0, 32, 22, 64, 56, 128, 128, 192, 196, 255, 255
Tone Curve Red : 0, 0, 255, 255
Tone Curve Green : 0, 0, 255, 255
Tone Curve Blue : 0, 0, 255, 255
Tone Curve PV2012 : 0, 0, 255, 255
Tone Curve PV2012 Red : 0, 0, 255, 255
Tone Curve PV2012 Green : 0, 0, 255, 255
Tone Curve PV2012 Blue : 0, 0, 255, 255
Look Name : Adobe Monochrome
Look Amount : 1.000000
Look Supports Amount : false
Look Supports Monochrome : false
Look Supports Output Referred : false
Look Copyright : © 2018 Adobe Systems, Inc.
Look Group : Profiles
Look Parameters Version : 11.3.1
Look Parameters Process Version : 11.0
Look Parameters Clarity 2012 : +8
Look Parameters Convert To Grayscale : True
Look Parameters Camera Profile : Adobe Standard
Look Parameters Look Table : 73ED6C18DDE909DD7EA2D771F5AC282D
Look Parameters Tone Curve PV2012 : 0, 0, 64, 56, 128, 128, 192, 197, 255, 255
Look Parameters Tone Curve PV2012 Red : 0, 0, 255, 255
Look Parameters Tone Curve PV2012 Green : 0, 0, 255, 255
Look Parameters Tone Curve PV2012 Blue : 0, 0, 255, 255
Usage Terms : ©2017 Louie Favorite, Atlanta, Georgia, USA
Image Width : 350
Image Height : 233
Bits Per Sample : 8
Color Components : 1
Aperture : 2.8
Image Size : 350x233
Megapixels : 0.082
Scale Factor To 35 mm Equivalent : 1.0
Shutter Speed : 1/4000
GPS Latitude : 33 deg 45' 8.89" N
GPS Longitude : 84 deg 23' 30.29" W
GPS Latitude Ref : North
GPS Longitude Ref : West
Circle Of Confusion : 0.030 mm
Field Of View : 54.4 deg
Focal Length : 35.0 mm (35 mm equivalent: 35.0 mm)
GPS Position : 33 deg 45' 8.89" N, 84 deg 23' 30.29" W
Hyperfocal Distance : 14.56 m
Light Value : 14.3
Lens ID : Summicron-M 35mm f/2 (IV)