Uber Exif Photo
Make : Leica Camera AG
Camera Model Name : LEICA M10
Software : Adobe Photoshop Lightroom 6.14 (Windows)
Modify Date : 2018:12:14 08:59:51
Exposure Time : 1/125
Exposure Program : Aperture-priority AE
ISO : 250
Date/Time Original : 2018:06:04 12:36:44
Create Date : 2018:06:04 12:36:44
Shutter Speed Value : 1/125
Exposure Compensation : 0
Max Aperture Value : 2.0
Metering Mode : Center-weighted average
Light Source : Unknown
Flash : No Flash
Focal Length : 75.0 mm
Color Space : sRGB
Scene Type : Directly photographed
Custom Rendered : Normal
Exposure Mode : Auto
White Balance : Auto
Digital Zoom Ratio : 0
Scene Capture Type : Standard
Contrast : Normal
Saturation : Normal
Sharpness : Normal
Serial Number : 5253431
Lens Info : 75mm f/511
Lens Make : Leica Camera AG
Lens Model : Apo-Summicron-M 1:2/75 ASPH .
Profile Description : sRGB IEC61966-2.1
Creator Tool : Adobe Photoshop Lightroom 6.14 (Windows)
Format : image/jpeg
Lens : Apo-Summicron-M 1:2/75 ASPH .
Approximate Focus Distance : 1.28
Distortion Correction Already Applied : True
Lateral Chromatic Aberration Correction Already Applied:
True
Date Created : 2018:06:04 12:36:44
Version : 10.1
Process Version : 6.7
Auto White Version : 134348800
Color Temperature : 5100
Tint : +8
Luminance Smoothing : 0
Color Noise Reduction : 25
Vignette Amount : 0
Shadow Tint : 0
Red Hue : 0
Red Saturation : 0
Green Hue : 0
Green Saturation : 0
Blue Hue : 0
Blue Saturation : 0
Gray Mixer Red : -9
Gray Mixer Orange : -19
Gray Mixer Yellow : -23
Gray Mixer Green : -27
Gray Mixer Aqua : -18
Gray Mixer Blue : +10
Gray Mixer Purple : +16
Gray Mixer Magenta : +4
Split Toning Shadow Hue : 0
Split Toning Shadow Saturation : 0
Split Toning Highlight Hue : 0
Split Toning Highlight Saturation : 0
Split Toning Balance : 0
Parametric Shadows : 0
Parametric Darks : 0
Parametric Lights : 0
Parametric Highlights : 0
Parametric Shadow Split : 25
Parametric Midtone Split : 50
Parametric Highlight Split : 75
Sharpen Radius : +1.0
Sharpen Detail : 25
Sharpen Edge Masking : 0
Post Crop Vignette Amount : 0
Grain Amount : 0
Color Noise Reduction Detail : 50
Color Noise Reduction Smoothness : 50
Lens Profile Enable : 1
Lens Manual Distortion Amount : 0
Perspective Vertical : 0
Perspective Horizontal : 0
Perspective Rotate : 0.0
Perspective Scale : 100
Perspective Aspect : 0
Perspective Upright : Off
Perspective X : 0.00
Perspective Y : 0.00
Auto Lateral CA : 1
Exposure 2012 : +0.71
Contrast 2012 : 0
Highlights 2012 : -79
Shadows 2012 : +94
Whites 2012 : +1
Blacks 2012 : -74
Clarity 2012 : 0
Dehaze : 0
Tone Map Strength : 0
Convert To Grayscale : True
Tone Curve Name : Linear
Tone Curve Name 2012 : Strong Contrast
Camera Profile : Adobe Standard
Lens Profile Setup : LensDefaults
Lens Profile Name : Adobe (Leica APO-SUMMICRON-M 75 mm f/2 ASPH.)
Lens Profile Filename : Leica Camera AG (Leica APO-SUMMICRON-M 75 mm f2 ASPH.) - RAW.lcp
Lens Profile Distortion Scale : 100
Lens Profile Chromatic Aberration Scale : 100
Lens Profile Vignetting Scale : 100
Has Settings : True
Crop Top : 0.01485
Crop Left : 0.011723
Crop Bottom : 1
Crop Right : 0.996873
Crop Angle : 0
Crop Constrain To Warp : 0
Has Crop : True
Already Applied : True
Tone Curve : 0, 0, 255, 255
Tone Curve Red : 0, 0, 255, 255
Tone Curve Green : 0, 0, 255, 255
Tone Curve Blue : 0, 0, 255, 255
Tone Curve PV2012 : 0, 0, 32, 16, 64, 50, 128, 128, 192, 202, 255, 255
Tone Curve PV2012 Red : 0, 0, 255, 255
Tone Curve PV2012 Green : 0, 0, 255, 255
Tone Curve PV2012 Blue : 0, 0, 255, 255
Paint Correction What : Correction
Paint Correction Amount : 1.000000
Paint Correction Active : true
Paint Correction Saturation : 0.000000
Paint Correction Sharpness : 0.000000
Paint Correction Brightness : 0.000000
Paint Correction Toning Hue : 0.000000
Paint Correction Toning Saturation : 0.000000
Paint Correction Exposure 2012 : -0.166750
Paint Correction Contrast 2012 : 0.000000
Paint Correction Highlights 2012 : 0.000000
Paint Correction Shadows 2012 : 0.000000
Paint Correction Whites 2012 : 0.000000
Paint Correction Blacks 2012 : 0.000000
Paint Correction Clarity 2012 : 0.000000
Paint Correction Dehaze : 0.000000
Paint Correction Luminance Noise : 0.000000
Paint Correction Moire : 0.000000
Paint Correction Defringe : 0.000000
Paint Correction Temperature : 0.000000
Paint Correction Tint : 0.000000
Paint Correction Mask What : Mask/Paint
Paint Correction Mask Value : 1.000000
Paint Correction Mask Radius : 0.089493
Paint Correction Mask Flow : 1.000000
Paint Correction Mask Center Weight : 0.000000
Image Width : 350
Image Height : 233
Bits Per Sample : 8
Color Components : 3
Image Size : 350x233
Megapixels : 0.082
Scale Factor To 35 mm Equivalent : 17.0
Shutter Speed : 1/125
Circle Of Confusion : 0.002 mm
Field Of View : 1.6 deg
Focal Length : 75.0 mm (35 mm equivalent: 1276.0 mm)
Lens ID : Apo-Summicron-M 1:2/75 ASPH .