Uber Exif Photo
Caption-Abstract : September 14, 2018 - Portland, Maine
Writer-Editor : LF
By-line : Louie Favorite
Sub-location : Commercial Street
Province-State : Maine
Country-Primary Location Name : United States
Country-Primary Location Code : USA
Keywords : Portland, Maine, Commercial Street, downtown, Old Port, homeless
Copyright Notice : ©2018 Louie Favorite, Atlanta, Georgia, USA
Copyright Flag : True
URL : www.louiefavorite.com
Image Description : September 14, 2018 - Portland, Maine
Make : Leica Camera AG
Camera Model Name : LEICA M10
Orientation : Horizontal (normal)
Software : Adobe Photoshop CC 2019 (Macintosh)
Modify Date : 2018:10:20 10:34:07
Artist : Louie Favorite
Copyright : ©2018 Louie Favorite, Atlanta, Georgia, USA
Exposure Time : 1/180
F Number : 1.4
Exposure Program : Aperture-priority AE
ISO : 20000
Date/Time Original : 2018:09:14 19:31:33
Create Date : 2018:09:14 19:31:33
Shutter Speed Value : 1/180
Aperture Value : 1.4
Exposure Compensation : 0
Max Aperture Value : 1.4
Metering Mode : Center-weighted average
Light Source : Unknown
Flash : No Flash
Focal Length : 35.0 mm
Color Space : Uncalibrated
Exif Image Width : 1333
Exif Image Height : 2000
Scene Type : Directly photographed
Custom Rendered : Normal
Exposure Mode : Auto
White Balance : Auto
Digital Zoom Ratio : 0
Scene Capture Type : Standard
Contrast : Normal
Saturation : Normal
Sharpness : Normal
Serial Number : 5230664
Lens Info : 35mm f/248
Lens Make : Leica Camera AG
Lens Model : Summilux-M 1:1.4/35 ASPH.
GPS Version ID : 2.2.0.0
GPS Latitude Ref : North
GPS Longitude Ref : West
Label : Winner
Rating : 1
Creator Tool : 1.9.4.0
Format : image/jpeg
Country Code : USA
Location : Commercial Street
City : Portland
State : Maine
Country : United States
Credit : Louie Favorite
Source : Leica Camera AG / LEICA M10 / 35mm
Caption Writer : LF
Urgency : 5 (normal urgency)
Date Created : 2018:09:14 19:31:33
Color Mode : RGB
ICC Profile Name : Adobe RGB (1998)
Marked : True
Web Statement : www.louiefavorite.com
Color Class : 1 (Winner)
Tagged : Yes
Prefs : Tagged:1, ColorClass:1, Rating:1, FrameNum:006252
PM Version : PM5
Image Number : 6252
Lens : Summilux-M 1:1.4/35 ASPH.
Approximate Focus Distance : 2.67
Distortion Correction Already Applied : True
Lateral Chromatic Aberration Correction Already Applied:
True
Version : 11.0
Process Version : 10.0
Color Temperature : 2250
Tint : -12
Luminance Smoothing : 25
Color Noise Reduction : 25
Vignette Amount : 0
Shadow Tint : 0
Red Hue : 0
Red Saturation : 0
Green Hue : 0
Green Saturation : 0
Blue Hue : 0
Blue Saturation : 0
Vibrance : -100
Hue Adjustment Red : 0
Hue Adjustment Orange : 0
Hue Adjustment Yellow : 0
Hue Adjustment Green : 0
Hue Adjustment Aqua : 0
Hue Adjustment Blue : 0
Hue Adjustment Purple : 0
Hue Adjustment Magenta : 0
Saturation Adjustment Red : 0
Saturation Adjustment Orange : 0
Saturation Adjustment Yellow : 0
Saturation Adjustment Green : 0
Saturation Adjustment Aqua : 0
Saturation Adjustment Blue : 0
Saturation Adjustment Purple : 0
Saturation Adjustment Magenta : 0
Luminance Adjustment Red : 0
Luminance Adjustment Orange : 0
Luminance Adjustment Yellow : 0
Luminance Adjustment Green : 0
Luminance Adjustment Aqua : 0
Luminance Adjustment Blue : 0
Luminance Adjustment Purple : 0
Luminance Adjustment Magenta : 0
Split Toning Shadow Hue : 0
Split Toning Shadow Saturation : 0
Split Toning Highlight Hue : 0
Split Toning Highlight Saturation : 0
Split Toning Balance : 0
Parametric Shadows : 0
Parametric Darks : 0
Parametric Lights : 0
Parametric Highlights : 0
Parametric Shadow Split : 25
Parametric Midtone Split : 50
Parametric Highlight Split : 75
Sharpen Radius : +1.0
Sharpen Detail : 25
Sharpen Edge Masking : 0
Post Crop Vignette Amount : 0
Grain Amount : 0
Luminance Noise Reduction Detail : 50
Color Noise Reduction Detail : 50
Luminance Noise Reduction Contrast : 0
Color Noise Reduction Smoothness : 50
Lens Profile Enable : 1
Lens Manual Distortion Amount : 0
Perspective Vertical : 0
Perspective Horizontal : 0
Perspective Rotate : 0.0
Perspective Scale : 100
Perspective Aspect : 0
Perspective Upright : Off
Perspective X : 0.00
Perspective Y : 0.00
Auto Lateral CA : 1
Exposure 2012 : -0.15
Contrast 2012 : +13
Highlights 2012 : -43
Shadows 2012 : +25
Whites 2012 : -18
Blacks 2012 : -27
Clarity 2012 : +73
Defringe Purple Amount : 0
Defringe Purple Hue Lo : 30
Defringe Purple Hue Hi : 70
Defringe Green Amount : 0
Defringe Green Hue Lo : 40
Defringe Green Hue Hi : 60
Dehaze : +42
Tone Map Strength : 0
Convert To Grayscale : False
Override Look Vignette : False
Tone Curve Name : Medium Contrast
Tone Curve Name 2012 : Linear
Camera Profile : Adobe Standard
Lens Profile Setup : LensDefaults
Lens Profile Name : Adobe (Leica SUMMILUX-M 35 mm f/1.4 ASPH.)
Lens Profile Filename : Leica Camera AG (Leica SUMMILUX-M 35 mm f1.4 ASPH.) - RAW.lcp
Lens Profile Distortion Scale : 100
Lens Profile Chromatic Aberration Scale : 100
Lens Profile Vignetting Scale : 100
Has Settings : True
Has Crop : False
Already Applied : True
Raw File Name : street people01.dng
Subject : Portland, Maine, Commercial Street, downtown, Old Port, homeless
Description : September 14, 2018 - Portland, Maine
Creator : Louie Favorite
Rights : ©2018 Louie Favorite, Atlanta, Georgia, USA
Creator City : Atlanta
Creator Region : Georgia
Creator Postal Code : 30030
Creator Country : United States
Creator Work Email : lfavorite@mac.com
Creator Work URL : www.louiefavorite.com
Supplemental Categories : original filename: LF4_6252.jpg, 3968 X 5952
Usage Terms : ©2018 Louie Favorite, Atlanta, Georgia, USA
Tone Curve : 0, 0, 32, 22, 64, 56, 128, 128, 192, 196, 255, 255
Tone Curve Red : 0, 0, 255, 255
Tone Curve Green : 0, 0, 255, 255
Tone Curve Blue : 0, 0, 255, 255
Tone Curve PV2012 : 0, 0, 255, 255
Tone Curve PV2012 Red : 0, 0, 255, 255
Tone Curve PV2012 Green : 0, 0, 255, 255
Tone Curve PV2012 Blue : 0, 0, 255, 255
Image Width : 350
Image Height : 525
Bits Per Sample : 8
Color Components : 3
Aperture : 1.4
Image Size : 350x525
Megapixels : 0.184
Scale Factor To 35 mm Equivalent : 3.0
Shutter Speed : 1/180
GPS Latitude : 43 deg 39' 24.78" N
GPS Longitude : 70 deg 15' 2.69" W
Circle Of Confusion : 0.010 mm
Depth Of Field : 0.16 m (2.59 - 2.75 m)
Field Of View : 19.6 deg
Focal Length : 35.0 mm (35 mm equivalent: 104.2 mm)
GPS Position : 43 deg 39' 24.78" N, 70 deg 15' 2.69" W
Hyperfocal Distance : 86.67 m
Light Value : 0.8
Lens ID : Summilux-M 1:1.4/35 ASPH.