Uber Exif Photo
By-line : Johannes Andreas Hillerbrand
Copyright Notice : © 2018, Johannes Hillerbrand All Rights Reserved
Copyright Flag : True
Make : Leica Camera AG
Camera Model Name : LEICA M10
Software : Adobe Photoshop Lightroom Classic 7.1 (Macintosh)
Modify Date : 2018:01:31 15:22:52
Artist : Johannes Andreas Hillerbrand
Copyright : © 2018, Johannes Hillerbrand All Rights Reserved
Exposure Time : 1/125
Exposure Program : Manual
ISO : 1600
Date/Time Original : 2018:01:21 19:55:40
Create Date : 2018:01:21 19:55:40
Shutter Speed Value : 1/125
Exposure Compensation : -0.3
Max Aperture Value : 1.4
Metering Mode : Center-weighted average
Light Source : Unknown
Flash : No Flash
Focal Length : 35.0 mm
Color Space : sRGB
Scene Type : Directly photographed
Custom Rendered : Normal
Exposure Mode : Manual
White Balance : Auto
Digital Zoom Ratio : 0
Scene Capture Type : Standard
Contrast : Normal
Saturation : Normal
Sharpness : Normal
Serial Number : 5189879
Lens Info : 35mm f/248
Lens Make : Leica Camera AG
Lens Model : Summilux-M 1:1.4/35 ASPH.
Profile Description : sRGB IEC61966-2.1
Rating : 4
Creator Tool : Adobe Photoshop Lightroom Classic 7.1 (Macintosh)
Label : Grün
Format : image/jpeg
Lens : Summilux-M 1:1.4/35 ASPH.
Approximate Focus Distance : 16
Date Created : 2018:01:21 19:55:40
Marked : True
Version : 10.1
Process Version : 10.0
Auto White Version : 134348800
Color Temperature : 2850
Tint : +22
Luminance Smoothing : 0
Color Noise Reduction : 15
Vignette Amount : 0
Shadow Tint : 0
Red Hue : 0
Red Saturation : 0
Green Hue : 0
Green Saturation : 0
Blue Hue : 0
Blue Saturation : 0
Gray Mixer Red : +16
Gray Mixer Orange : +8
Gray Mixer Yellow : +4
Gray Mixer Green : -22
Gray Mixer Aqua : -26
Gray Mixer Blue : -44
Gray Mixer Purple : -11
Gray Mixer Magenta : -18
Split Toning Shadow Hue : 200
Split Toning Shadow Saturation : 0
Split Toning Highlight Hue : 80
Split Toning Highlight Saturation : 0
Split Toning Balance : 0
Parametric Shadows : -42
Parametric Darks : +5
Parametric Lights : +10
Parametric Highlights : +20
Parametric Shadow Split : 32
Parametric Midtone Split : 60
Parametric Highlight Split : 82
Sharpen Radius : +0.8
Sharpen Detail : 35
Sharpen Edge Masking : 0
Post Crop Vignette Amount : 0
Grain Amount : 35
Grain Size : 33
Grain Frequency : 65
Color Noise Reduction Detail : 50
Color Noise Reduction Smoothness : 50
Lens Profile Enable : 0
Lens Manual Distortion Amount : 0
Perspective Vertical : 0
Perspective Horizontal : 0
Perspective Rotate : 0.0
Perspective Scale : 100
Perspective Aspect : 0
Perspective Upright : Off
Perspective X : 0.00
Perspective Y : 0.00
Auto Lateral CA : 0
Exposure 2012 : +1.25
Contrast 2012 : +17
Highlights 2012 : -100
Shadows 2012 : +100
Whites 2012 : +29
Blacks 2012 : +15
Clarity 2012 : +30
Dehaze : 0
Convert To Grayscale : True
Tone Curve Name : Linear
Tone Curve Name 2012 : Agfa Scala C +
Camera Profile : LEICA M10
Lens Profile Setup : LensDefaults
Has Settings : True
Crop Top : 0
Crop Left : 0.017935
Crop Bottom : 1
Crop Right : 0.982065
Crop Angle : 0.97263
Crop Constrain To Warp : 0
Has Crop : True
Already Applied : True
Creator : Johannes Andreas Hillerbrand
Rights : © 2018, Johannes Hillerbrand All Rights Reserved
Usage Terms : All rights reserved, no reproduction without prior permission
Creator Postal Code : 84048
Creator Work Telephone : +491752446954
Creator Region : Bayern
Creator Country : Deutschland
Creator City : Mainburg
Creator Address : Sandelzhauser Gangsteig 26
Creator Work Email : johannes.hillerbrand@gmail.com
Tone Curve : 0, 0, 255, 255
Tone Curve Red : 0, 0, 255, 255
Tone Curve Green : 0, 0, 255, 255
Tone Curve Blue : 0, 0, 255, 255
Tone Curve PV2012 : 0, 0, 21, 10, 104, 100, 199, 211, 255, 255
Tone Curve PV2012 Red : 0, 0, 255, 255
Tone Curve PV2012 Green : 0, 0, 255, 255
Tone Curve PV2012 Blue : 0, 0, 255, 255
Paint Correction Range Mask Version : +2, +2
Paint Correction Range Mask Type : 0, 0
Paint Correction Range Mask Color Amount : 0.500000, 0.500000
Paint Correction Range Mask Lum Min : 0.000000, 0.000000
Paint Correction Range Mask Lum Max : 1.000000, 1.000000
Paint Correction Range Mask Lum Feather : 0.500000, 0.500000
Paint Correction What : Correction
Paint Correction Amount : 1.000000
Paint Correction Active : true
Paint Correction Saturation : 0.000000
Paint Correction Sharpness : 0.208545
Paint Correction Brightness : 0.000000
Paint Correction Toning Hue : 0.000000
Paint Correction Toning Saturation : 0.000000
Paint Correction Exposure 2012 : 0.036963
Paint Correction Contrast 2012 : 0.000000
Paint Correction Highlights 2012 : 0.000000
Paint Correction Shadows 2012 : 0.000000
Paint Correction Whites 2012 : 0.000000
Paint Correction Blacks 2012 : 0.000000
Paint Correction Clarity 2012 : 0.105908
Paint Correction Dehaze : 0.000000
Paint Correction Luminance Noise : 0.000000
Paint Correction Moire : 0.000000
Paint Correction Defringe : 0.000000
Paint Correction Temperature : 0.000000
Paint Correction Tint : 0.000000
Paint Correction Mask What : Mask/Paint
Paint Correction Mask Value : 0.786954
Paint Correction Mask Radius : 0.035234
Paint Correction Mask Flow : 0.796752
Paint Correction Mask Center Weight : 0.019738
Image Width : 350
Image Height : 233
Bits Per Sample : 8
Color Components : 3
Image Size : 350x233
Megapixels : 0.082
Scale Factor To 35 mm Equivalent : 17.0
Shutter Speed : 1/125
Circle Of Confusion : 0.002 mm
Field Of View : 3.5 deg
Focal Length : 35.0 mm (35 mm equivalent: 595.5 mm)
Lens ID : Summilux-M 1:1.4/35 ASPH.