Uber Exif Photo
By-line : Johannes Andreas Hillerbrand
Copyright Notice : © 2018, Johannes Hillerbrand All Rights Reserved
Copyright Flag : True
Make : Leica Camera AG
Camera Model Name : LEICA M10
Software : Adobe Photoshop Lightroom Classic 7.2 (Macintosh)
Modify Date : 2018:04:02 21:47:48
Artist : Johannes Andreas Hillerbrand
Copyright : © 2018, Johannes Hillerbrand All Rights Reserved
Exposure Time : 1/750
Exposure Program : Aperture-priority AE
ISO : 800
Date/Time Original : 2018:03:17 13:48:13
Create Date : 2018:03:17 13:48:13
Shutter Speed Value : 1/750
Exposure Compensation : -0.3
Max Aperture Value : 1.4
Metering Mode : Center-weighted average
Light Source : Unknown
Flash : No Flash
Focal Length : 35.0 mm
Color Space : sRGB
Scene Type : Directly photographed
Custom Rendered : Normal
Exposure Mode : Auto
White Balance : Auto
Digital Zoom Ratio : 0
Scene Capture Type : Standard
Contrast : Normal
Saturation : Normal
Sharpness : Normal
Serial Number : 5189879
Lens Info : 35mm f/248
Lens Make : Leica Camera AG
Lens Model : Summilux-M 1:1.4/35 ASPH.
Profile Description : sRGB IEC61966-2.1
Rating : 5
Creator Tool : Adobe Photoshop Lightroom Classic 7.2 (Macintosh)
Label : Grün
Format : image/jpeg
Lens : Summilux-M 1:1.4/35 ASPH.
Approximate Focus Distance : 2.06
Date Created : 2018:03:17 13:48:13
Marked : True
Version : 10.2
Process Version : 10.0
Color Temperature : 5500
Tint : +10
Luminance Smoothing : 0
Color Noise Reduction : 15
Vignette Amount : 0
Shadow Tint : 0
Red Hue : 0
Red Saturation : 0
Green Hue : 0
Green Saturation : 0
Blue Hue : 0
Blue Saturation : 0
Vibrance : -5
Hue Adjustment Red : 0
Hue Adjustment Orange : 0
Hue Adjustment Yellow : 0
Hue Adjustment Green : 0
Hue Adjustment Aqua : 0
Hue Adjustment Blue : 0
Hue Adjustment Purple : 0
Hue Adjustment Magenta : 0
Saturation Adjustment Red : 0
Saturation Adjustment Orange : 0
Saturation Adjustment Yellow : 0
Saturation Adjustment Green : 0
Saturation Adjustment Aqua : 0
Saturation Adjustment Blue : 0
Saturation Adjustment Purple : 0
Saturation Adjustment Magenta : 0
Luminance Adjustment Red : 0
Luminance Adjustment Orange : 0
Luminance Adjustment Yellow : 0
Luminance Adjustment Green : 0
Luminance Adjustment Aqua : 0
Luminance Adjustment Blue : 0
Luminance Adjustment Purple : 0
Luminance Adjustment Magenta : 0
Split Toning Shadow Hue : 0
Split Toning Shadow Saturation : 0
Split Toning Highlight Hue : 0
Split Toning Highlight Saturation : 0
Split Toning Balance : 0
Parametric Shadows : -15
Parametric Darks : -27
Parametric Lights : +21
Parametric Highlights : +13
Parametric Shadow Split : 25
Parametric Midtone Split : 50
Parametric Highlight Split : 75
Sharpen Radius : +0.8
Sharpen Detail : 35
Sharpen Edge Masking : 0
Post Crop Vignette Amount : -10
Post Crop Vignette Midpoint : 80
Post Crop Vignette Feather : 80
Post Crop Vignette Roundness : 0
Post Crop Vignette Style : Highlight Priority
Post Crop Vignette Highlight Contrast : 0
Grain Amount : 0
Color Noise Reduction Detail : 50
Color Noise Reduction Smoothness : 50
Lens Profile Enable : 0
Lens Manual Distortion Amount : 0
Perspective Vertical : 0
Perspective Horizontal : 0
Perspective Rotate : 0.0
Perspective Scale : 100
Perspective Aspect : 0
Perspective Upright : Off
Perspective X : 0.00
Perspective Y : 0.00
Auto Lateral CA : 0
Exposure 2012 : +0.80
Contrast 2012 : +35
Highlights 2012 : -50
Shadows 2012 : +30
Whites 2012 : +22
Blacks 2012 : 0
Clarity 2012 : +16
Defringe Purple Amount : 0
Defringe Purple Hue Lo : 30
Defringe Purple Hue Hi : 70
Defringe Green Amount : 0
Defringe Green Hue Lo : 40
Defringe Green Hue Hi : 60
Dehaze : 0
Convert To Grayscale : False
Tone Curve Name : Linear
Tone Curve Name 2012 : Medium Contrast
Camera Profile : LEICA M10
Lens Profile Setup : LensDefaults
Has Settings : True
Crop Top : 0
Crop Left : 0.09436
Crop Bottom : 1
Crop Right : 0.927694
Crop Angle : 0
Crop Constrain To Warp : 0
Has Crop : True
Already Applied : True
Creator : Johannes Andreas Hillerbrand
Rights : © 2018, Johannes Hillerbrand All Rights Reserved
Usage Terms : All rights reserved, no reproduction without prior permission
Creator Postal Code : 84048
Creator Work Telephone : +491752446954
Creator Region : Bayern
Creator Country : Deutschland
Creator City : Mainburg
Creator Address : Sandelzhauser Gangsteig 26
Creator Work Email : johannes.hillerbrand@gmail.com
Tone Curve : 0, 0, 255, 255
Tone Curve Red : 0, 0, 255, 255
Tone Curve Green : 0, 0, 255, 255
Tone Curve Blue : 0, 0, 255, 255
Tone Curve PV2012 : 0, 0, 32, 22, 64, 56, 128, 128, 192, 196, 255, 255
Tone Curve PV2012 Red : 0, 0, 255, 255
Tone Curve PV2012 Green : 0, 0, 255, 255
Tone Curve PV2012 Blue : 0, 0, 255, 255
Image Width : 350
Image Height : 438
Bits Per Sample : 8
Color Components : 3
Image Size : 350x438
Megapixels : 0.153
Scale Factor To 35 mm Equivalent : 12.8
Shutter Speed : 1/750
Circle Of Confusion : 0.002 mm
Field Of View : 4.6 deg
Focal Length : 35.0 mm (35 mm equivalent: 446.6 mm)
Lens ID : Summilux-M 1:1.4/35 ASPH.