Uber Exif Photo
By-line : VINCENT VAN KLEEF
Copyright Notice : © Soul2Soul Photography_Vincent van Kleef
Make : Leica Camera AG
Camera Model Name : LEICA M10
Software : Adobe Lightroom CC 1.5 (Macintosh)
Modify Date : 2018:10:03 13:58:46
Artist : VINCENT VAN KLEEF
Copyright : © Soul2Soul Photography_Vincent van Kleef
Exposure Time : 1/45
F Number : 4.0
Exposure Program : Aperture-priority AE
ISO : 6400
Date/Time Original : 2018:10:02 20:51:36
Create Date : 2018:10:02 20:51:36
Shutter Speed Value : 1/45
Aperture Value : 4.0
Exposure Compensation : 0
Max Aperture Value : 4.0
Metering Mode : Center-weighted average
Light Source : Unknown
Flash : No Flash
Focal Length : 16.0 mm
Color Space : sRGB
Scene Type : Directly photographed
Custom Rendered : Normal
Exposure Mode : Auto
White Balance : Auto
Digital Zoom Ratio : 0
Scene Capture Type : Standard
Contrast : Normal
Saturation : Normal
Sharpness : Normal
Serial Number : 5182027
Lens Info : 16-21mm f/1023
Lens Make : Leica Camera AG
Lens Model : Tri-Elmar-M 1:4/16-18-21 ASPH.
Profile Description : sRGB IEC61966-2.1
Creator Tool : Adobe Lightroom CC 1.5 (Macintosh)
Format : image/jpeg
Lens : Tri-Elmar-M 1:4/16-18-21 ASPH.
Approximate Focus Distance : 1.74
Distortion Correction Already Applied : True
Lateral Chromatic Aberration Correction Already Applied:
True
Date Created : 2018:10:02 20:51:36
Raw File Name :
Version : 10.5
Process Version : 10.0
Color Temperature : 2800
Tint : +14
Luminance Smoothing : 0
Color Noise Reduction : 25
Vignette Amount : 0
Shadow Tint : 0
Red Hue : 0
Red Saturation : 0
Green Hue : 0
Green Saturation : 0
Blue Hue : 0
Blue Saturation : 0
Gray Mixer Red : -5
Gray Mixer Orange : +10
Gray Mixer Yellow : -10
Gray Mixer Green : -20
Gray Mixer Aqua : -15
Gray Mixer Blue : -15
Gray Mixer Purple : 0
Gray Mixer Magenta : 0
Split Toning Shadow Hue : 0
Split Toning Shadow Saturation : 0
Split Toning Highlight Hue : 0
Split Toning Highlight Saturation : 0
Split Toning Balance : 0
Parametric Shadows : 0
Parametric Darks : 0
Parametric Lights : 0
Parametric Highlights : 0
Parametric Shadow Split : 25
Parametric Midtone Split : 40
Parametric Highlight Split : 75
Sharpen Radius : +1.4
Sharpen Detail : 75
Sharpen Edge Masking : 75
Post Crop Vignette Amount : -9
Post Crop Vignette Midpoint : 44
Post Crop Vignette Feather : 50
Post Crop Vignette Roundness : 0
Post Crop Vignette Style : Highlight Priority
Post Crop Vignette Highlight Contrast : 0
Grain Amount : 0
Color Noise Reduction Detail : 50
Color Noise Reduction Smoothness : 50
Lens Profile Enable : 1
Lens Manual Distortion Amount : 0
Perspective Vertical : 0
Perspective Horizontal : 0
Perspective Rotate : 0.0
Perspective Scale : 100
Perspective Aspect : 0
Perspective Upright : Off
Perspective X : 0.00
Perspective Y : 0.00
Auto Lateral CA : 1
Exposure 2012 : -0.30
Contrast 2012 : 0
Highlights 2012 : -88
Shadows 2012 : +80
Whites 2012 : +53
Blacks 2012 : -74
Clarity 2012 : 0
Dehaze : 0
Tone Map Strength : 0
Convert To Grayscale : True
Override Look Vignette : False
Tone Curve Name : Linear
Tone Curve Name 2012 : Linear
Camera Profile : Tri-X 320 - L
Lens Profile Setup : LensDefaults
Lens Profile Name : Adobe (Leica TRI-ELMAR-M 16-18-21 mm f/4 ASPH.)
Lens Profile Filename : Leica Camera AG (Leica TRI-ELMAR-M 16-18-21 mm f4 ASPH.) - RAW.lcp
Lens Profile Distortion Scale : 100
Lens Profile Chromatic Aberration Scale : 100
Lens Profile Vignetting Scale : 100
Has Settings : True
Crop Top : 0
Crop Left : 0
Crop Bottom : 1
Crop Right : 0.841854
Crop Angle : 0
Crop Constrain To Warp : 0
Has Crop : True
Already Applied : True
Rights : © Soul2Soul Photography_Vincent van Kleef
Creator : VINCENT VAN KLEEF
Tone Curve : 0, 0, 255, 255
Tone Curve Red : 0, 0, 255, 255
Tone Curve Green : 0, 0, 255, 255
Tone Curve Blue : 0, 0, 255, 255
Tone Curve PV2012 : 0, 0, 255, 255
Tone Curve PV2012 Red : 0, 0, 255, 255
Tone Curve PV2012 Green : 0, 0, 255, 255
Tone Curve PV2012 Blue : 0, 0, 255, 255
Look Name :
Image Width : 350
Image Height : 442
Bits Per Sample : 8
Color Components : 3
Aperture : 4.0
Image Size : 350x442
Megapixels : 0.155
Scale Factor To 35 mm Equivalent : 12.7
Shutter Speed : 1/45
Circle Of Confusion : 0.002 mm
Depth Of Field : 0.22 m (1.64 - 1.86 m)
Field Of View : 10.1 deg
Focal Length : 16.0 mm (35 mm equivalent: 203.0 mm)
Hyperfocal Distance : 27.03 m
Light Value : 3.5