Uber Exif Photo
Make : Leica Camera AG
Camera Model Name : M9 Digital Camera
Orientation : Horizontal (normal)
Software : Adobe Photoshop Lightroom 6.0 (Macintosh)
Modify Date : 2017:12:13 17:31:59
Exposure Time : 1/125
F Number : 2.4
Exposure Program : Aperture-priority AE
ISO : 400
Date/Time Original : 2017:12:13 15:40:47
Create Date : 2017:12:13 15:40:47
Shutter Speed Value : 1/125
Aperture Value : 2.4
Exposure Compensation : +0.664
Max Aperture Value : 1.4
Metering Mode : Center-weighted average
Light Source : Unknown
Flash : No Flash
Focal Length : 50.0 mm
Contrast : Normal
Sharpening : Normal
Saturation : Normal
White Balance : Auto
JPEG Quality : Fine
WB RGB Levels : 0.466076864 1 0.8799140709
User Profile : SWhoKontr
JPEG Size : 5216x3472
Firmware Version : 1.196
Base ISO : 160
Sensor Width : 5270
Sensor Height : 3516
Sensor Bit Depth : 14
Camera Temperature : 8 C
Lens Type : Summilux-M 50mm f/1.4 ASPH.
Approximate F Number : 2.5
Measured LV : 3.65
External Sensor Brightness Value : 2.04
Scene Type : Directly photographed
Exposure Mode : Manual
Digital Zoom Ratio : 0
Focal Length In 35mm Format : 50 mm
Scene Capture Type : Standard
Serial Number : 4229560
Lens Model : Leica Summilux-M 50mm f/1.4 ASPH.
Maker Note Safety : Safe
Profile Description : sRGB IEC61966-2.1
Creator Tool : Adobe Photoshop Lightroom 6.0 (Macintosh)
Label : Red
Lens : Leica Summilux-M 50mm f/1.4 ASPH.
Date Created : 2017:12:13 15:40:47
Format : image/jpeg
Version : 9.0
Process Version : 6.7
Auto White Version : 134348800
Color Temperature : 5350
Tint : -25
Sharpness : 60
Luminance Smoothing : 0
Color Noise Reduction : 25
Vignette Amount : 0
Shadow Tint : 0
Red Hue : 0
Red Saturation : +20
Green Hue : 0
Green Saturation : +5
Blue Hue : 0
Blue Saturation : -40
Gray Mixer Red : 0
Gray Mixer Orange : -12
Gray Mixer Yellow : -8
Gray Mixer Green : -20
Gray Mixer Aqua : -15
Gray Mixer Blue : +10
Gray Mixer Purple : +25
Gray Mixer Magenta : +15
Split Toning Shadow Hue : 0
Split Toning Shadow Saturation : 0
Split Toning Highlight Hue : 0
Split Toning Highlight Saturation : 0
Split Toning Balance : 0
Parametric Shadows : 0
Parametric Darks : 0
Parametric Lights : 0
Parametric Highlights : 0
Parametric Shadow Split : 25
Parametric Midtone Split : 50
Parametric Highlight Split : 75
Sharpen Radius : +1.4
Sharpen Detail : 81
Sharpen Edge Masking : 51
Post Crop Vignette Amount : -33
Post Crop Vignette Midpoint : 50
Post Crop Vignette Feather : 50
Post Crop Vignette Roundness : 0
Post Crop Vignette Style : Highlight Priority
Post Crop Vignette Highlight Contrast : 0
Grain Amount : 0
Color Noise Reduction Detail : 50
Color Noise Reduction Smoothness : 50
Lens Profile Enable : 0
Lens Manual Distortion Amount : 0
Perspective Vertical : 0
Perspective Horizontal : 0
Perspective Rotate : 0.0
Perspective Scale : 100
Perspective Aspect : 0
Perspective Upright : Off
Auto Lateral CA : 0
Exposure 2012 : 0.00
Contrast 2012 : 0
Highlights 2012 : -38
Shadows 2012 : +10
Whites 2012 : +2
Blacks 2012 : -32
Clarity 2012 : 0
Convert To Grayscale : True
Tone Curve Name : Linear
Tone Curve Name 2012 : TRI-X+3
Camera Profile : TRI-X⁺¹ - L
Lens Profile Setup : LensDefaults
Has Settings : True
Crop Top : 0
Crop Left : 0.134129
Crop Bottom : 1
Crop Right : 1
Crop Angle : 0
Crop Constrain To Warp : 0
Has Crop : True
Already Applied : True
Raw File Name :  Thijs van der Haak_KLEIN_DEC_2017_VincentPhotography (16 of 18).jpg
Tone Curve : 0, 0, 255, 255
Tone Curve Red : 0, 0, 255, 255
Tone Curve Green : 0, 0, 255, 255
Tone Curve Blue : 0, 0, 255, 255
Tone Curve PV2012 : 0, 9, 39, 26, 105, 97, 168, 179, 255, 255
Tone Curve PV2012 Red : 0, 0, 255, 255
Tone Curve PV2012 Green : 0, 0, 255, 255
Tone Curve PV2012 Blue : 0, 0, 255, 255
Image Width : 350
Image Height : 455
Bits Per Sample : 8
Color Components : 3
Aperture : 2.4
Blue Balance : 0.879914
Image Size : 350x455
Lens ID : Leica Summilux-M 50mm f/1.4 ASPH.
Megapixels : 0.159
Red Balance : 0.466077
Scale Factor To 35 mm Equivalent : 1.0
Shutter Speed : 1/125
Circle Of Confusion : 0.030 mm
Field Of View : 39.6 deg
Focal Length : 50.0 mm (35 mm equivalent: 50.0 mm)
Hyperfocal Distance : 34.67 m
Light Value : 7.5