Uber Exif Photo
Keywords : 50 Summilux ASPH, M10
Make : Leica Camera AG
Camera Model Name : LEICA M10
Software : Adobe Photoshop Lightroom Classic 8.0 (Macintosh)
Modify Date : 2018:12:02 20:22:31
Exposure Time : 1/125
F Number : 8.0
Exposure Program : Aperture-priority AE
ISO : 800
Date/Time Original : 2018:12:01 07:34:28
Create Date : 2018:12:01 07:34:28
Shutter Speed Value : 1/125
Aperture Value : 8.0
Exposure Compensation : -1.33
Max Aperture Value : 1.4
Metering Mode : Center-weighted average
Light Source : Unknown
Flash : No Flash
Focal Length : 50.0 mm
Color Space : Uncalibrated
Scene Type : Directly photographed
Exposure Mode : Auto
White Balance : Auto
Digital Zoom Ratio : 0
Scene Capture Type : Standard
Contrast : Normal
Saturation : Normal
Sharpness : Normal
Serial Number : 5255491
Lens Info : 50mm f/1.4
Lens Model : Summilux-M 1:1.4/50 ASPH.
Profile Description : Adobe RGB (1998)
Approximate Focus Distance : 17.1
Distortion Correction Already Applied : True
Lateral Chromatic Aberration Correction Already Applied:
True
Lens : Summilux-M 1:1.4/50 ASPH.
Format : image/jpeg
Creator Tool : Adobe Photoshop Lightroom Classic 8.0 (Macintosh)
Photographic Sensitivity : 800
Date Created : 2018:12:01 07:34:28
Version : 11.0
Process Version : 11.0
Incremental Temperature : 0
Incremental Tint : 0
Luminance Smoothing : 0
Color Noise Reduction : 0
Vignette Amount : 0
Shadow Tint : 0
Red Hue : 0
Red Saturation : 0
Green Hue : 0
Green Saturation : 0
Blue Hue : 0
Blue Saturation : 0
Gray Mixer Red : -12
Gray Mixer Orange : -21
Gray Mixer Yellow : -25
Gray Mixer Green : -28
Gray Mixer Aqua : -16
Gray Mixer Blue : +15
Gray Mixer Purple : +19
Gray Mixer Magenta : +4
Split Toning Shadow Hue : 0
Split Toning Shadow Saturation : 0
Split Toning Highlight Hue : 0
Split Toning Highlight Saturation : 0
Split Toning Balance : 0
Parametric Shadows : 0
Parametric Darks : 0
Parametric Lights : 0
Parametric Highlights : 0
Parametric Shadow Split : 25
Parametric Midtone Split : 50
Parametric Highlight Split : 75
Sharpen Radius : +1.0
Sharpen Detail : 25
Sharpen Edge Masking : 0
Post Crop Vignette Amount : 0
Grain Amount : 0
Lens Profile Enable : 0
Lens Manual Distortion Amount : 0
Perspective Vertical : 0
Perspective Horizontal : 0
Perspective Rotate : 0.0
Perspective Scale : 100
Perspective Aspect : 0
Perspective Upright : Off
Perspective X : 0.00
Perspective Y : 0.00
Auto Lateral CA : 0
Exposure 2012 : 0.00
Contrast 2012 : 0
Highlights 2012 : +46
Shadows 2012 : +4
Whites 2012 : +65
Blacks 2012 : -24
Clarity 2012 : 0
Dehaze : 0
Tone Map Strength : 0
Convert To Grayscale : True
Override Look Vignette : False
Tone Curve Name : Linear
Tone Curve Name 2012 : Linear
Camera Profile : Embedded
Lens Profile Setup : LensDefaults
Has Settings : True
Already Applied : True
Subject : 50 Summilux ASPH, M10
Tone Curve : 0, 0, 255, 255
Tone Curve Red : 0, 0, 255, 255
Tone Curve Green : 0, 0, 255, 255
Tone Curve Blue : 0, 0, 255, 255
Tone Curve PV2012 : 0, 0, 255, 255
Tone Curve PV2012 Red : 0, 0, 255, 255
Tone Curve PV2012 Green : 0, 0, 255, 255
Tone Curve PV2012 Blue : 0, 0, 255, 255
Paint Correction Range Mask Version : +2, +2
Paint Correction Range Mask Type : 0, 0
Paint Correction Range Mask Color Amount : 0.500000, 0.500000
Paint Correction Range Mask Lum Min : 0.000000, 0.000000
Paint Correction Range Mask Lum Max : 1.000000, 1.000000
Paint Correction Range Mask Lum Feather : 0.500000, 0.500000
Paint Correction Range Mask Depth Min : 0.000000, 0.000000
Paint Correction Range Mask Depth Max : 1.000000, 1.000000
Paint Correction Range Mask Depth Feather : 0.500000, 0.500000
Paint Correction What : Correction
Paint Correction Amount : 1.000000
Paint Correction Active : true
Paint Correction Exposure : 0.000000
Paint Correction Saturation : 0.000000
Paint Correction Contrast : 0.000000
Paint Correction Clarity : 0.000000
Paint Correction Sharpness : 0.000000
Paint Correction Brightness : 0.000000
Paint Correction Toning Hue : 240.000000
Paint Correction Toning Saturation : 0.000000
Paint Correction Exposure 2012 : 0.081216
Paint Correction Contrast 2012 : 0.000000
Paint Correction Highlights 2012 : 0.000000
Paint Correction Shadows 2012 : 0.000000
Paint Correction Whites 2012 : 0.000000
Paint Correction Blacks 2012 : 0.000000
Paint Correction Clarity 2012 : 0.000000
Paint Correction Dehaze : 0.000000
Paint Correction Luminance Noise : 0.000000
Paint Correction Moire : 0.000000
Paint Correction Defringe : 0.000000
Paint Correction Temperature : 0.000000
Paint Correction Tint : 0.000000
Paint Correction Mask What : Mask/Paint
Paint Correction Mask Value : 0.521745
Paint Correction Mask Radius : 0.102982
Paint Correction Mask Flow : 0.636775
Paint Correction Mask Center Weight : 0.026170
Look Name : B&W 03
Look Amount : 1.000000
Look Cluster : Adobe
Look Supports Monochrome : false
Look Sort Name : B&W 03
Look Group : B&W
Look Parameters Version : 11.0
Look Parameters Process Version : 11.0
Look Parameters Contrast 2012 : +57
Look Parameters Clarity 2012 : +8
Look Parameters Convert To Grayscale : True
Look Parameters Look Table : 62CE423BDCA099FE0B786CA01EB606B0
Look Parameters Tone Curve PV2012 : 0, 0, 29, 25, 128, 128, 192, 196, 255, 255
Look Parameters Tone Curve PV2012 Red : 0, 0, 255, 255
Look Parameters Tone Curve PV2012 Green : 0, 0, 255, 255
Look Parameters Tone Curve PV2012 Blue : 0, 0, 255, 255
Image Width : 350
Image Height : 228
Bits Per Sample : 8
Color Components : 3
Aperture : 8.0
Image Size : 350x228
Megapixels : 0.080
Scale Factor To 35 mm Equivalent : 17.1
Shutter Speed : 1/125
Circle Of Confusion : 0.002 mm
Depth Of Field : 3.30 m (15.61 - 18.91 m)
Field Of View : 2.4 deg
Focal Length : 50.0 mm (35 mm equivalent: 856.3 mm)
Hyperfocal Distance : 178.11 m
Light Value : 10.0
Lens ID : Summilux-M 1:1.4/50 ASPH.