Uber Exif Photo
Keywords : 50 Summilux ASPH, M10
Make : Leica Camera AG
Camera Model Name : LEICA M10
Software : Adobe Photoshop Lightroom Classic 8.0 (Macintosh)
Modify Date : 2018:11:30 20:46:33
Exposure Time : 1/350
F Number : 2.0
Exposure Program : Aperture-priority AE
ISO : 400
Date/Time Original : 2018:10:21 07:54:52
Create Date : 2018:10:21 07:54:52
Shutter Speed Value : 1/350
Aperture Value : 2.0
Exposure Compensation : -1
Max Aperture Value : 1.4
Metering Mode : Center-weighted average
Light Source : Unknown
Flash : No Flash
Focal Length : 50.0 mm
Color Space : Uncalibrated
Scene Type : Directly photographed
Exposure Mode : Auto
White Balance : Auto
Digital Zoom Ratio : 0
Scene Capture Type : Standard
Contrast : Normal
Saturation : Normal
Sharpness : Normal
Serial Number : 5255491
Lens Info : 50mm f/1.4
Lens Model : Summilux-M 1:1.4/50 ASPH.
Profile Description : Adobe RGB (1998)
Approximate Focus Distance : 23.4
Distortion Correction Already Applied : True
Lateral Chromatic Aberration Correction Already Applied:
True
Lens : Summilux-M 1:1.4/50 ASPH.
Format : image/jpeg
Creator Tool : Adobe Photoshop Lightroom Classic 8.0 (Macintosh)
Photographic Sensitivity : 400
Date Created : 2018:10:21 07:54:52
Version : 11.0
Process Version : 11.0
Incremental Temperature : 0
Incremental Tint : 0
Luminance Smoothing : 0
Color Noise Reduction : 0
Vignette Amount : 0
Shadow Tint : 0
Red Hue : 0
Red Saturation : 0
Green Hue : 0
Green Saturation : 0
Blue Hue : 0
Blue Saturation : 0
Vibrance : 0
Hue Adjustment Red : 0
Hue Adjustment Orange : 0
Hue Adjustment Yellow : +36
Hue Adjustment Green : -25
Hue Adjustment Aqua : 0
Hue Adjustment Blue : 0
Hue Adjustment Purple : 0
Hue Adjustment Magenta : 0
Saturation Adjustment Red : 0
Saturation Adjustment Orange : 0
Saturation Adjustment Yellow : -27
Saturation Adjustment Green : -17
Saturation Adjustment Aqua : 0
Saturation Adjustment Blue : 0
Saturation Adjustment Purple : 0
Saturation Adjustment Magenta : 0
Luminance Adjustment Red : 0
Luminance Adjustment Orange : 0
Luminance Adjustment Yellow : 0
Luminance Adjustment Green : 0
Luminance Adjustment Aqua : 0
Luminance Adjustment Blue : 0
Luminance Adjustment Purple : 0
Luminance Adjustment Magenta : 0
Split Toning Shadow Hue : 0
Split Toning Shadow Saturation : 0
Split Toning Highlight Hue : 0
Split Toning Highlight Saturation : 0
Split Toning Balance : 0
Parametric Shadows : 0
Parametric Darks : 0
Parametric Lights : 0
Parametric Highlights : 0
Parametric Shadow Split : 25
Parametric Midtone Split : 50
Parametric Highlight Split : 75
Sharpen Radius : +1.0
Sharpen Detail : 25
Sharpen Edge Masking : 0
Post Crop Vignette Amount : 0
Grain Amount : 0
Lens Profile Enable : 0
Lens Manual Distortion Amount : 0
Perspective Vertical : 0
Perspective Horizontal : 0
Perspective Rotate : 0.0
Perspective Scale : 100
Perspective Aspect : 0
Perspective Upright : Off
Perspective X : 0.00
Perspective Y : 0.00
Auto Lateral CA : 0
Exposure 2012 : 0.00
Contrast 2012 : 0
Highlights 2012 : 0
Shadows 2012 : 0
Whites 2012 : 0
Blacks 2012 : 0
Clarity 2012 : 0
Defringe Purple Amount : 0
Defringe Purple Hue Lo : 30
Defringe Purple Hue Hi : 70
Defringe Green Amount : 0
Defringe Green Hue Lo : 40
Defringe Green Hue Hi : 60
Dehaze : 0
Tone Map Strength : 0
Convert To Grayscale : False
Override Look Vignette : False
Tone Curve Name : Linear
Tone Curve Name 2012 : Linear
Camera Profile : Embedded
Lens Profile Setup : LensDefaults
Has Settings : True
Already Applied : True
Subject : 50 Summilux ASPH, M10
Tone Curve : 0, 0, 255, 255
Tone Curve Red : 0, 0, 255, 255
Tone Curve Green : 0, 0, 255, 255
Tone Curve Blue : 0, 0, 255, 255
Tone Curve PV2012 : 0, 0, 255, 255
Tone Curve PV2012 Red : 0, 0, 255, 255
Tone Curve PV2012 Green : 0, 0, 255, 255
Tone Curve PV2012 Blue : 0, 0, 255, 255
Paint Correction What : Correction
Paint Correction Amount : 1.000000
Paint Correction Active : true
Paint Correction Exposure : 0.000000
Paint Correction Saturation : 0.000000
Paint Correction Contrast : 0.000000
Paint Correction Clarity : 0.000000
Paint Correction Sharpness : 0.000000
Paint Correction Brightness : 0.000000
Paint Correction Toning Hue : 240.000000
Paint Correction Toning Saturation : 0.000000
Paint Correction Exposure 2012 : 0.000000
Paint Correction Contrast 2012 : 0.000000
Paint Correction Highlights 2012 : 0.214629
Paint Correction Shadows 2012 : 0.000000
Paint Correction Whites 2012 : 0.000000
Paint Correction Blacks 2012 : 0.000000
Paint Correction Clarity 2012 : 0.000000
Paint Correction Dehaze : 0.000000
Paint Correction Luminance Noise : 0.000000
Paint Correction Moire : 0.000000
Paint Correction Defringe : 0.000000
Paint Correction Temperature : 0.000000
Paint Correction Tint : 0.000000
Paint Correction Mask What : Mask/Paint
Paint Correction Mask Value : 0.521745
Paint Correction Mask Radius : 0.215970
Paint Correction Mask Flow : 0.636775
Paint Correction Mask Center Weight : 0.026170
Paint Correction Range Mask Version : +2
Paint Correction Range Mask Type : 0
Paint Correction Range Mask Color Amount : 0.500000
Paint Correction Range Mask Lum Min : 0.000000
Paint Correction Range Mask Lum Max : 1.000000
Paint Correction Range Mask Lum Feather : 0.500000
Paint Correction Range Mask Depth Min : 0.000000
Paint Correction Range Mask Depth Max : 1.000000
Paint Correction Range Mask Depth Feather : 0.500000
Look Name :
Image Width : 350
Image Height : 243
Bits Per Sample : 8
Color Components : 3
Aperture : 2.0
Image Size : 350x243
Megapixels : 0.085
Scale Factor To 35 mm Equivalent : 16.8
Shutter Speed : 1/350
Circle Of Confusion : 0.002 mm
Depth Of Field : 1.57 m (22.64 - 24.21 m)
Field Of View : 2.5 deg
Focal Length : 50.0 mm (35 mm equivalent: 839.4 mm)
Hyperfocal Distance : 698.45 m
Light Value : 8.5
Lens ID : Summilux-M 1:1.4/50 ASPH.