Uber Exif Photo
Make : Leica Camera AG
Camera Model Name : M9 Digital Camera
Software : Adobe Photoshop Lightroom Classic 8.0 (Macintosh)
Modify Date : 2018:10:23 23:43:11
Exposure Time : 1/15
F Number : 8.0
Exposure Program : Manual
ISO : 640
Date/Time Original : 2015:08:18 19:58:53
Create Date : 2015:08:18 19:58:53
Shutter Speed Value : 1/15
Aperture Value : 8.0
Exposure Compensation : 0
Max Aperture Value : 1.0
Metering Mode : Center-weighted average
Light Source : Unknown
Flash : No Flash
Color Space : sRGB
Scene Type : Directly photographed
Exposure Mode : Manual
White Balance : Auto
Digital Zoom Ratio : 0
Scene Capture Type : Standard
Serial Number : 3971285
Profile Description : sRGB IEC61966-2.1
Already Applied : True
Auto Lateral CA : 0
Blacks 2012 : -19
Blue Hue : 0
Blue Saturation : 0
Camera Profile : Embedded
Clarity 2012 : +19
Color Noise Reduction : 0
Contrast 2012 : 0
Convert To Grayscale : False
Defringe Green Amount : 0
Defringe Green Hue Hi : 60
Defringe Green Hue Lo : 40
Defringe Purple Amount : 0
Defringe Purple Hue Hi : 70
Defringe Purple Hue Lo : 30
Dehaze : 0
Exposure 2012 : 0.00
Grain Amount : 0
Green Hue : 0
Green Saturation : 0
Has Crop : False
Has Settings : True
Highlights 2012 : -44
Hue Adjustment Aqua : 0
Hue Adjustment Blue : 0
Hue Adjustment Green : 0
Hue Adjustment Magenta : 0
Hue Adjustment Orange : 0
Hue Adjustment Purple : 0
Hue Adjustment Red : 0
Hue Adjustment Yellow : 0
Incremental Temperature : 0
Incremental Tint : 0
Lens Manual Distortion Amount : 0
Lens Profile Enable : 0
Lens Profile Setup : LensDefaults
Luminance Adjustment Aqua : 0
Luminance Adjustment Blue : 0
Luminance Adjustment Green : 0
Luminance Adjustment Magenta : 0
Luminance Adjustment Orange : 0
Luminance Adjustment Purple : 0
Luminance Adjustment Red : 0
Luminance Adjustment Yellow : 0
Luminance Smoothing : 0
Parametric Darks : -13
Parametric Highlight Split : 75
Parametric Highlights : +7
Parametric Lights : +15
Parametric Midtone Split : 50
Parametric Shadow Split : 25
Parametric Shadows : -15
Perspective Aspect : 0
Perspective Horizontal : 0
Perspective Rotate : 0.0
Perspective Scale : 100
Perspective Upright : Off
Perspective Vertical : 0
Perspective X : 0.00
Perspective Y : 0.00
Post Crop Vignette Amount : 0
Process Version : 10.0
Red Hue : 0
Red Saturation : 0
Saturation : 0
Saturation Adjustment Aqua : 0
Saturation Adjustment Blue : 0
Saturation Adjustment Green : 0
Saturation Adjustment Magenta : 0
Saturation Adjustment Orange : 0
Saturation Adjustment Purple : 0
Saturation Adjustment Red : 0
Saturation Adjustment Yellow : 0
Shadow Tint : 0
Shadows 2012 : +22
Sharpen Detail : 25
Sharpen Edge Masking : 0
Sharpen Radius : +1.0
Sharpness : 0
Split Toning Balance : 0
Split Toning Highlight Hue : 0
Split Toning Highlight Saturation : 0
Split Toning Shadow Hue : 0
Split Toning Shadow Saturation : 0
Tone Curve Name : Linear
Tone Curve Name 2012 : Linear
Version : 10.2
Vibrance : 0
Vignette Amount : 0
Whites 2012 : +28
Format : image/jpeg
Creator Tool : Adobe Photoshop Lightroom Classic 8.0 (Macintosh)
Photographic Sensitivity : 640
Date Created : 2015:08:18 19:58:53
Tone Curve : 0, 0, 255, 255
Tone Curve Blue : 0, 0, 255, 255
Tone Curve Green : 0, 0, 255, 255
Tone Curve PV2012 : 0, 0, 255, 255
Tone Curve PV2012 Blue : 0, 0, 255, 255
Tone Curve PV2012 Green : 0, 0, 255, 255
Tone Curve PV2012 Red : 0, 0, 255, 255
Tone Curve Red : 0, 0, 255, 255
Image Width : 350
Image Height : 623
Bits Per Sample : 8
Color Components : 3
Aperture : 8.0
Image Size : 350x623
Megapixels : 0.218
Scale Factor To 35 mm Equivalent : 8.8
Shutter Speed : 1/15
Circle Of Confusion : 0.003 mm
Light Value : 7.2