Uber Exif Photo
Keywords : A7R 50 Lux
Make : SONY
Camera Model Name : ILCE-7R
Software : Adobe Photoshop Lightroom Classic 7.4 (Macintosh)
Modify Date : 2018:08:05 13:27:10
Exposure Time : 1/1250
Exposure Program : Manual
ISO : 400
Date/Time Original : 2018:07:30 08:52:11
Create Date : 2018:07:30 08:52:11
Shutter Speed Value : 1/1250
Brightness Value : 3.134375
Exposure Compensation : 0
Max Aperture Value : 1.0
Metering Mode : Spot
Light Source : Unknown
Flash : Off, Did not fire
Color Space : sRGB
Scene Type : Directly photographed
Exposure Mode : Manual
White Balance : Auto
Digital Zoom Ratio : 1
Scene Capture Type : Standard
Contrast : Normal
Saturation : Normal
Sharpness : Normal
Lens Model : ----
Profile Description : sRGB IEC61966-2.1
Lens : ----
Format : image/jpeg
Creator Tool : Adobe Photoshop Lightroom Classic 7.4 (Macintosh)
Photographic Sensitivity : 400
Date Created : 2018:07:30 08:52:11
Raw File Name :
Version : 10.4
Process Version : 10.0
Incremental Temperature : 0
Incremental Tint : 0
Luminance Smoothing : 0
Color Noise Reduction : 0
Vignette Amount : 0
Shadow Tint : 0
Red Hue : 0
Red Saturation : 0
Green Hue : 0
Green Saturation : 0
Blue Hue : 0
Blue Saturation : 0
Vibrance : 0
Hue Adjustment Red : 0
Hue Adjustment Orange : 0
Hue Adjustment Yellow : 0
Hue Adjustment Green : 0
Hue Adjustment Aqua : 0
Hue Adjustment Blue : 0
Hue Adjustment Purple : 0
Hue Adjustment Magenta : 0
Saturation Adjustment Red : 0
Saturation Adjustment Orange : 0
Saturation Adjustment Yellow : 0
Saturation Adjustment Green : 0
Saturation Adjustment Aqua : 0
Saturation Adjustment Blue : 0
Saturation Adjustment Purple : 0
Saturation Adjustment Magenta : 0
Luminance Adjustment Red : 0
Luminance Adjustment Orange : 0
Luminance Adjustment Yellow : 0
Luminance Adjustment Green : 0
Luminance Adjustment Aqua : 0
Luminance Adjustment Blue : 0
Luminance Adjustment Purple : 0
Luminance Adjustment Magenta : 0
Split Toning Shadow Hue : 0
Split Toning Shadow Saturation : 0
Split Toning Highlight Hue : 0
Split Toning Highlight Saturation : 0
Split Toning Balance : 0
Parametric Shadows : 0
Parametric Darks : 0
Parametric Lights : 0
Parametric Highlights : 0
Parametric Shadow Split : 25
Parametric Midtone Split : 50
Parametric Highlight Split : 75
Sharpen Radius : +1.0
Sharpen Detail : 25
Sharpen Edge Masking : 0
Post Crop Vignette Amount : 0
Grain Amount : 0
Lens Profile Enable : 0
Lens Manual Distortion Amount : 0
Perspective Vertical : 0
Perspective Horizontal : 0
Perspective Rotate : 0.0
Perspective Scale : 100
Perspective Aspect : 0
Perspective Upright : Off
Perspective X : 0.00
Perspective Y : 0.00
Auto Lateral CA : 0
Exposure 2012 : 0.00
Contrast 2012 : 0
Highlights 2012 : 0
Shadows 2012 : 0
Whites 2012 : 0
Blacks 2012 : 0
Clarity 2012 : 0
Defringe Purple Amount : 0
Defringe Purple Hue Lo : 30
Defringe Purple Hue Hi : 70
Defringe Green Amount : 0
Defringe Green Hue Lo : 40
Defringe Green Hue Hi : 60
Dehaze : 0
Tone Map Strength : 0
Convert To Grayscale : False
Override Look Vignette : False
Tone Curve Name : Linear
Tone Curve Name 2012 : Linear
Camera Profile : Embedded
Lens Profile Setup : LensDefaults
Has Settings : True
Has Crop : False
Already Applied : True
Subject : A7R 50 Lux
Tone Curve : 0, 0, 255, 255
Tone Curve Red : 0, 0, 255, 255
Tone Curve Green : 0, 0, 255, 255
Tone Curve Blue : 0, 0, 255, 255
Tone Curve PV2012 : 0, 0, 255, 255
Tone Curve PV2012 Red : 0, 0, 255, 255
Tone Curve PV2012 Green : 0, 0, 255, 255
Tone Curve PV2012 Blue : 0, 0, 255, 255
Paint Correction Range Mask Version : +2, +2, +2
Paint Correction Range Mask Type : 0, 0, 0
Paint Correction Range Mask Color Amount : 0.500000, 0.500000, 0.500000
Paint Correction Range Mask Lum Min : 0.000000, 0.000000, 0.000000
Paint Correction Range Mask Lum Max : 1.000000, 1.000000, 1.000000
Paint Correction Range Mask Lum Feather : 0.500000, 0.500000, 0.500000
Paint Correction What : Correction
Paint Correction Amount : 1.000000
Paint Correction Active : true
Paint Correction Saturation : 0.000000
Paint Correction Sharpness : 0.000000
Paint Correction Brightness : 0.000000
Paint Correction Toning Hue : 240.000000
Paint Correction Toning Saturation : 0.000000
Paint Correction Exposure 2012 : 0.009741
Paint Correction Contrast 2012 : 0.000000
Paint Correction Highlights 2012 : 0.000000
Paint Correction Shadows 2012 : 0.000000
Paint Correction Whites 2012 : 0.000000
Paint Correction Blacks 2012 : 0.000000
Paint Correction Clarity 2012 : 0.000000
Paint Correction Dehaze : 0.000000
Paint Correction Luminance Noise : 0.000000
Paint Correction Moire : 0.000000
Paint Correction Defringe : 0.000000
Paint Correction Temperature : 0.000000
Paint Correction Tint : 0.000000
Paint Correction Mask What : Mask/Paint
Paint Correction Mask Value : 0.521745
Paint Correction Mask Radius : 0.144133
Paint Correction Mask Flow : 1.000000
Paint Correction Mask Center Weight : 0.024519
Look Name :
Image Width : 350
Image Height : 234
Bits Per Sample : 8
Color Components : 3
Image Size : 350x234
Megapixels : 0.082
Shutter Speed : 1/1250