Uber Exif Photo
Program Version : professional V1.21.02653
Originating Program : DENOISE projects
Photometric Interpretation : RGB
Make : LEICA CAMERA AG
Camera Model Name : LEICA SL (Typ 601)
Orientation : Horizontal (normal)
Samples Per Pixel : 3
Software : Adobe Photoshop CS5 Windows
Modify Date : 2018:06:02 20:44:02
Exposure Time : 1/30
F Number : 22.0
Exposure Program : Aperture-priority AE
ISO : 6400
Sensitivity Type : Standard Output Sensitivity
Date/Time Original : 2018:06:02 10:38:29
Create Date : 2018:06:02 10:38:29
Shutter Speed Value : 1/30
Aperture Value : 22.0
Exposure Compensation : 0
Max Aperture Value : 2.9
Metering Mode : Multi-segment
Light Source : Unknown
Flash : Off, Did not fire
Focal Length : 90.0 mm
Color Space : sRGB
Exif Image Width : 720
Exif Image Height : 720
Sensing Method : One-chip color area
Custom Rendered : Normal
White Balance : Auto
Focal Length In 35mm Format : 90 mm
Scene Capture Type : Standard
Contrast : Normal
Saturation : Normal
Sharpness : Normal
Serial Number : 4966568
Lens Info : 24-90mm f/3.08203125-3.9140625
Lens Make : N/A
Lens Model : VARIO-ELMARIT-SL 1:2.8-4/24-90 ASPH.
Lens Serial Number : 4520101
Profile Description : sRGB IEC61966-2.1
Creator Tool : Adobe Photoshop CS5 Windows
Lens : VARIO-ELMARIT-SL 1:2.8-4/24-90 ASPH.
Date Created : 2018:06:02 10:38:29
Color Mode : RGB
ICC Profile Name : sRGB IEC61966-2.1
Format : image/jpeg
Raw File Name : L1010228.DNG
Version : 6.7.1
Process Version : 5.7
Color Temperature : 4800
Tint : +14
Exposure : -1.40
Shadows : 5
Brightness : 0
Luminance Smoothing : 0
Color Noise Reduction : 25
Vignette Amount : 0
Shadow Tint : 0
Red Hue : 0
Red Saturation : 0
Green Hue : 0
Green Saturation : 0
Blue Hue : 0
Blue Saturation : 0
Fill Light : 75
Vibrance : +9
Highlight Recovery : 0
Clarity : +50
Defringe : 0
Hue Adjustment Red : 0
Hue Adjustment Orange : 0
Hue Adjustment Yellow : 0
Hue Adjustment Green : 0
Hue Adjustment Aqua : 0
Hue Adjustment Blue : 0
Hue Adjustment Purple : 0
Hue Adjustment Magenta : 0
Saturation Adjustment Red : 0
Saturation Adjustment Orange : 0
Saturation Adjustment Yellow : 0
Saturation Adjustment Green : 0
Saturation Adjustment Aqua : 0
Saturation Adjustment Blue : 0
Saturation Adjustment Purple : 0
Saturation Adjustment Magenta : 0
Luminance Adjustment Red : 0
Luminance Adjustment Orange : 0
Luminance Adjustment Yellow : 0
Luminance Adjustment Green : 0
Luminance Adjustment Aqua : 0
Luminance Adjustment Blue : 0
Luminance Adjustment Purple : 0
Luminance Adjustment Magenta : 0
Split Toning Shadow Hue : 0
Split Toning Shadow Saturation : 0
Split Toning Highlight Hue : 0
Split Toning Highlight Saturation : 0
Split Toning Balance : 0
Parametric Shadows : 0
Parametric Darks : 0
Parametric Lights : 0
Parametric Highlights : 0
Parametric Shadow Split : 25
Parametric Midtone Split : 50
Parametric Highlight Split : 75
Sharpen Radius : +1.0
Sharpen Detail : 25
Sharpen Edge Masking : 0
Post Crop Vignette Amount : 0
Grain Amount : 0
Color Noise Reduction Detail : 50
Lens Profile Enable : 0
Lens Manual Distortion Amount : 0
Perspective Vertical : 0
Perspective Horizontal : 0
Perspective Rotate : 0.0
Perspective Scale : 100
Auto Lateral CA : 0
Exposure 2012 : 0.00
Contrast 2012 : 0
Highlights 2012 : 0
Shadows 2012 : 0
Whites 2012 : 0
Blacks 2012 : 0
Clarity 2012 : 0
Convert To Grayscale : False
Tone Curve Name : Medium Contrast
Tone Curve Name 2012 : Linear
Camera Profile : Embedded
Lens Profile Setup : LensDefaults
Has Settings : True
Has Crop : False
Already Applied : True
Tone Curve : 0, 0, 32, 22, 64, 56, 128, 128, 192, 196, 255, 255
Tone Curve Red : 0, 0, 255, 255
Tone Curve Green : 0, 0, 255, 255
Tone Curve Blue : 0, 0, 255, 255
Tone Curve PV2012 : 0, 0, 255, 255
Tone Curve PV2012 Red : 0, 0, 255, 255
Tone Curve PV2012 Green : 0, 0, 255, 255
Tone Curve PV2012 Blue : 0, 0, 255, 255
Image Width : 350
Image Height : 350
Bits Per Sample : 8
Color Components : 3
Aperture : 22.0
Image Size : 350x350
Megapixels : 0.122
Scale Factor To 35 mm Equivalent : 1.0
Shutter Speed : 1/30
Circle Of Confusion : 0.030 mm
Field Of View : 22.6 deg
Focal Length : 90.0 mm (35 mm equivalent: 90.0 mm)
Hyperfocal Distance : 12.25 m
Light Value : 7.8