Uber Exif Photo
Make : Leica Camera AG
Camera Model Name : LEICA M10
Software : Adobe Lightroom CC 1.1 (Windows)
Modify Date : 2018:01:31 22:11:40
Exposure Time : 1/30
Exposure Program : Aperture-priority AE
ISO : 800
Date/Time Original : 2018:01:30 18:19:12
Create Date : 2018:01:30 18:19:12
Shutter Speed Value : 1/30
Exposure Compensation : 0
Max Aperture Value : 1.4
Metering Mode : Center-weighted average
Light Source : Unknown
Flash : No Flash
Focal Length : 35.0 mm
Color Space : sRGB
Scene Type : Directly photographed
Custom Rendered : Normal
Exposure Mode : Auto
White Balance : Auto
Digital Zoom Ratio : 0
Scene Capture Type : Standard
Contrast : Normal
Saturation : Normal
Sharpness : Normal
Serial Number : 5230297
Lens Info : 35mm f/248
Lens Make : Leica Camera AG
Lens Model : Summilux-M 1:1.4/35 ASPH.
Profile Description : sRGB IEC61966-2.1
Rating : 4
Creator Tool : Adobe Lightroom CC 1.1 (Windows)
Format : image/jpeg
Lens : Summilux-M 1:1.4/35 ASPH.
Approximate Focus Distance : 16.8
Distortion Correction Already Applied : True
Lateral Chromatic Aberration Correction Already Applied:
True
Date Created : 2018:01:30 18:19:12
Version : 10.1
Process Version : 10.0
Color Temperature : 4150
Tint : +13
Luminance Smoothing : 10
Color Noise Reduction : 25
Vignette Amount : 0
Shadow Tint : 0
Red Hue : 0
Red Saturation : 0
Green Hue : 0
Green Saturation : 0
Blue Hue : 0
Blue Saturation : 0
Vibrance : +38
Hue Adjustment Red : 0
Hue Adjustment Orange : 0
Hue Adjustment Yellow : 0
Hue Adjustment Green : 0
Hue Adjustment Aqua : 0
Hue Adjustment Blue : 0
Hue Adjustment Purple : 0
Hue Adjustment Magenta : 0
Saturation Adjustment Red : 0
Saturation Adjustment Orange : 0
Saturation Adjustment Yellow : 0
Saturation Adjustment Green : 0
Saturation Adjustment Aqua : 0
Saturation Adjustment Blue : 0
Saturation Adjustment Purple : 0
Saturation Adjustment Magenta : 0
Luminance Adjustment Red : 0
Luminance Adjustment Orange : 0
Luminance Adjustment Yellow : 0
Luminance Adjustment Green : 0
Luminance Adjustment Aqua : 0
Luminance Adjustment Blue : 0
Luminance Adjustment Purple : 0
Luminance Adjustment Magenta : 0
Split Toning Shadow Hue : 0
Split Toning Shadow Saturation : 0
Split Toning Highlight Hue : 0
Split Toning Highlight Saturation : 0
Split Toning Balance : 0
Parametric Shadows : 0
Parametric Darks : 0
Parametric Lights : 0
Parametric Highlights : 0
Parametric Shadow Split : 25
Parametric Midtone Split : 50
Parametric Highlight Split : 75
Sharpen Radius : +1.0
Sharpen Detail : 25
Sharpen Edge Masking : 0
Post Crop Vignette Amount : 0
Grain Amount : 0
Luminance Noise Reduction Detail : 50
Color Noise Reduction Detail : 50
Luminance Noise Reduction Contrast : 0
Color Noise Reduction Smoothness : 50
Lens Profile Enable : 1
Lens Manual Distortion Amount : 0
Perspective Vertical : -17
Perspective Horizontal : 0
Perspective Rotate : 0.0
Perspective Scale : 100
Perspective Aspect : 0
Perspective Upright : Off
Perspective X : 0.00
Perspective Y : 0.00
Auto Lateral CA : 1
Exposure 2012 : -0.10
Contrast 2012 : +26
Highlights 2012 : -19
Shadows 2012 : +61
Whites 2012 : +25
Blacks 2012 : -45
Clarity 2012 : +33
Defringe Purple Amount : 0
Defringe Purple Hue Lo : 30
Defringe Purple Hue Hi : 70
Defringe Green Amount : 0
Defringe Green Hue Lo : 40
Defringe Green Hue Hi : 60
Dehaze : +34
Convert To Grayscale : False
Tone Curve Name : Linear
Tone Curve Name 2012 : Linear
Camera Profile : Adobe Standard
Lens Profile Setup : LensDefaults
Lens Profile Name : Adobe (Leica SUMMILUX-M 35 mm f/1.4 ASPH.)
Lens Profile Filename : Leica Camera AG (Leica SUMMILUX-M 35 mm f1.4 ASPH.) - RAW.lcp
Lens Profile Distortion Scale : 100
Lens Profile Chromatic Aberration Scale : 100
Lens Profile Vignetting Scale : 100
Has Settings : True
Crop Top : 0.008024
Crop Left : 0.039415
Crop Bottom : 0.796981
Crop Right : 0.974475
Crop Angle : 0
Crop Constrain To Warp : 0
Has Crop : True
Already Applied : True
Tone Curve : 0, 0, 255, 255
Tone Curve Red : 0, 0, 255, 255
Tone Curve Green : 0, 0, 255, 255
Tone Curve Blue : 0, 0, 255, 255
Tone Curve PV2012 : 0, 0, 255, 255
Tone Curve PV2012 Red : 0, 0, 255, 255
Tone Curve PV2012 Green : 0, 0, 255, 255
Tone Curve PV2012 Blue : 0, 0, 255, 255
Image Width : 300
Image Height : 169
Bits Per Sample : 8
Color Components : 3
Image Size : 300x169
Megapixels : 0.051
Scale Factor To 35 mm Equivalent : 20.8
Shutter Speed : 1/30
Circle Of Confusion : 0.001 mm
Field Of View : 2.8 deg
Focal Length : 35.0 mm (35 mm equivalent: 727.1 mm)
Lens ID : Summilux-M 1:1.4/35 ASPH.