Uber Exif Photo
Copyright Flag : False
Make : Leica Camera AG
Camera Model Name : M8 Digital Camera
Orientation : Horizontal (normal)
Software : Adobe Photoshop CS Macintosh
Modify Date : 2018:01:14 15:18:32
Exposure Time : 1/180
F Number : 5.7
Exposure Program : Aperture-priority AE
ISO : 320
Date/Time Original : 2017:08:16 18:49:47
Create Date : 2017:08:16 18:49:47
Shutter Speed Value : 1/180
Aperture Value : 5.7
Exposure Compensation : 0
Max Aperture Value : 1.0
Metering Mode : Center-weighted average
Light Source : Unknown
Color Space : sRGB
Exif Image Width : 2802
Exif Image Height : 2008
Scene Type : Directly photographed
White Balance : Auto
Digital Zoom Ratio : 0
Scene Capture Type : Standard
Serial Number : 3109179
Profile Description : sRGB IEC61966-2.1
Version : 6.5
Process Version : 5.7
Color Temperature : 6226
Tint : +6
Exposure : +0.05
Shadows : 18
Brightness : +48
Contrast : +18
Saturation : 0
Sharpness : 44
Luminance Smoothing : 0
Color Noise Reduction : 25
Chromatic Aberration R : 0
Chromatic Aberration B : 0
Vignette Amount : 0
Shadow Tint : 0
Red Hue : 0
Red Saturation : 0
Green Hue : 0
Green Saturation : 0
Blue Hue : 0
Blue Saturation : 0
Fill Light : 0
Vibrance : +9
Highlight Recovery : 6
Clarity : +27
Defringe : 0
Hue Adjustment Red : 0
Hue Adjustment Orange : 0
Hue Adjustment Yellow : 0
Hue Adjustment Green : 0
Hue Adjustment Aqua : 0
Hue Adjustment Blue : 0
Hue Adjustment Purple : 0
Hue Adjustment Magenta : 0
Saturation Adjustment Red : 0
Saturation Adjustment Orange : 0
Saturation Adjustment Yellow : 0
Saturation Adjustment Green : 0
Saturation Adjustment Aqua : 0
Saturation Adjustment Blue : 0
Saturation Adjustment Purple : 0
Saturation Adjustment Magenta : 0
Luminance Adjustment Red : 0
Luminance Adjustment Orange : 0
Luminance Adjustment Yellow : 0
Luminance Adjustment Green : 0
Luminance Adjustment Aqua : 0
Luminance Adjustment Blue : 0
Luminance Adjustment Purple : 0
Luminance Adjustment Magenta : 0
Split Toning Shadow Hue : 0
Split Toning Shadow Saturation : 0
Split Toning Highlight Hue : 0
Split Toning Highlight Saturation : 0
Split Toning Balance : 0
Parametric Shadows : +6
Parametric Darks : +6
Parametric Lights : 0
Parametric Highlights : -3
Parametric Shadow Split : 25
Parametric Midtone Split : 50
Parametric Highlight Split : 75
Sharpen Radius : +1.1
Sharpen Detail : 22
Sharpen Edge Masking : 0
Post Crop Vignette Amount : -9
Post Crop Vignette Midpoint : 48
Post Crop Vignette Feather : 48
Post Crop Vignette Roundness : 0
Post Crop Vignette Style : Highlight Priority
Post Crop Vignette Highlight Contrast : 0
Grain Amount : 0
Color Noise Reduction Detail : 50
Lens Profile Enable : 0
Lens Manual Distortion Amount : 0
Perspective Vertical : 0
Perspective Horizontal : +6
Perspective Rotate : -0.6
Perspective Scale : 100
Convert To Grayscale : False
Tone Curve Name : Medium Contrast
Camera Profile : Adobe Standard
Lens Profile Setup : LensDefaults
Has Settings : True
Crop Top : 0.018697
Crop Left : 0.081784
Crop Bottom : 0.978214
Crop Right : 0.985337
Crop Angle : 0
Crop Constrain To Warp : 0
Crop Width : 3538
Crop Height : 2527
Crop Unit : pixels
Has Crop : True
Already Applied : True
Tone Curve : 0, 0, 32, 22, 64, 56, 128, 128, 192, 196, 255, 255
Date/Time Digitized : 2017:08:16 18:49:47+02:00
Flash Fired : False
Flash Return : No return detection
Flash Mode : Auto
Flash Function : False
Flash Red Eye Mode : False
Date Created : 2017:08:16
Creator Tool : Adobe Photoshop CS Macintosh
Label : Green
Format : image/jpeg
Image Width : 308
Image Height : 223
Bits Per Sample : 8
Color Components : 3
Aperture : 5.7
Image Size : 308x223
Megapixels : 0.069
Scale Factor To 35 mm Equivalent : 1.8
Shutter Speed : 1/180
Flash : Auto, Did not fire
Circle Of Confusion : 0.016 mm
Light Value : 10.8